{"text_format":"1","workbook":"xlsx","n_sheets":22,"sheets":["Instructions","Project Info","Inventory","Summary","Report","Inspection Form","Building Types","DSMT Export","Measure_Line_Item__c","Unitary","VRF","Chiller","PTAC","RoomAC","SPVAC","Geothermal","CRAC","Equipment Lookups","County to Zone","EFLH","Utility Admin","Version Log"],"not_rendered":{"charts":3,"images":18,"macros":1,"external_links":0,"defined_names":243,"comments":0,"pivot_tables":0},"unopened":[],"bounds":{"document_bytes":16777216,"sheet_cells":100000,"rows_first":2000,"rows_last":500,"rows_between":2000,"halvings":0,"cell_chars":16384,"cell_head_chars":4096},"cells_cut":0,"cells_raw":0,"read":"whole","date_system":"1900"}

{"sheet":"Instructions","index":0,"n_rows":75,"n_cols":4,"rows_kept":75,"cut":false,"hidden":false,"merged":[[74,1,75,16],[61,3,62,16],[2,0,3,12],[26,1,28,12],[37,1,38,16],[56,2,57,16],[58,2,59,16],[69,1,70,16],[72,1,73,16]]}
[1]
["Instructions"]
["This sheet provides basic instructions for using this calculator. Please contact the utility rebate program staff for further help or questions."]
[]
[]
["Getting Started"]
[]
[null,"After opening the file, enable macros if prompted. This tool uses macros to format the spreadsheets for different scenarios."]
[]
[]
[]
[]
[]
[]
[]
[]
[]
[]
[]
[]
[]
[]
[]
[]
["Project Info"]
[]
["-","Start with this sheet. Enter in all relevant information for the project. The minimum required fields are State, Utility, County, and Program; these fields have drop-downs. Once these have been filled in, macros will automatically un-hide the next sheets."]
[]
[]
[]
[]
["-","The \"Reset Workbook\" button clears all user-input cells and reverts the calculator back to a \"fresh\" file."]
[]
["Inventory"]
[]
["Tips: "]
["-","Move from left to right across the Inventory columns, as several drop-downs depend on the values in prior columns."]
["-","Do not enter values in grayed-out cells. Conditional formatting will gray out unneeded cells as you go, and values left in these cells will cause errors in the calculation. If a cell becomes grayed out and it is not empty, please clear it out."]
[]
[]
["1.","Select the Project Type:"]
[null,"a.","Early Retirement - the replacement of fully-functioning equipment"]
[null,"b.","New Construction - installation of equipment where there was not previously equipment"]
[null,"c.","Replace on Burnout - the replacement of broken or not fully-functioning equipment"]
["2.","Select the Building Type. See the \"Building Types\" tab for descriptions of each building type."]
["3.","(Early Retirement Only) - Input existing equipment information, including equipment type, cooling capacity, year of manufacture, and quantity of units."]
[null,"a.","Cooling capacity may be entered in Btu/hr or tons. Default units will populate but may be changed via drop-down. Ensure that the correct units are selected in column G. 1 Ton = 12,000 Btu/hr"]
[null,"b.","Heating section type: If applicable to your system, it will change from gray to white. For heat pump systems, this refers to the auxiliary/emergency heating type."]
[null,"c.","Quantity: the number of units in the project scope with these characteristics."]
[null,"d.","Manufacture year: choose the year the existing equipment was made. If unknown, select \"Unknown\". If older than the oldest year, select the oldest year."]
[]
["4.","Enter the new equipment information. Some of these columns are specific to certain types of equipment and will not appear until that equipment has been selected."]
[null,"a.","Cooling and heating capacities may be entered in Btu/hr or tons. Default units will populate but may be changed via drop-down. Ensure that the correct units are selected in columns R and T. 1 Ton = 12,000 Btu/hr"]
[null,"b.","Heating section type: If applicable to your system, it will change from gray to white. For heat pump systems, this refers to the auxiliary/emergency heating type."]
[null,null,"-","Elec Res or None: for systems with no heating or electric resistance heating"]
[null,null,"-","Other: for systems with an alternative heating source (i.e., natural gas)"]
[null,"c.","Chiller baseline path: For chilled water systems, choose either Path A (favoring full-load efficiency) or Path B (favoring part-load efficiency) compliance. If the chiller qualifies for both paths, choose the option which begets the best incentive. The workbook defaults to path A."]
[]
[null,"d.","Redundant Chiller Systems: If the facility has redundant chillers (n+1) and they are sequenced such that, instead of allowing one chiller to operate at full load during peak cooling, the redundant chillers share the peak load while individually operating at partial loads, select \"Yes\". Otherwise, select \"No\"."]
[]
[null,"e.","Enter the full and part load efficiency values for the new equipment. The default efficiency units will auto-populate, but may be changed via drop-down."]
[null,null,"-","Efficiencies should be at AHRI standard conditions. For DX systems, these can usually be found on AHRI certificates. For chilled water systems, these should be the IPLV at AHRI 550/590 conditions."]
[]
[null,null,"-","\"EER\" includes values in EER, SEER, IEER, CEER, or BTU/W."]
[null,null,"-","\"SCOP\" is Seasonal Coefficient of Performance (typically only CRAC units)."]
[null,"f.","For heat pumps, enter the high-heating (47F) efficiency and unit format."]
[null,"g.","Enter the quantity of units to be installed."]
[]
["Notes:"]
["-","Once the Installed Equipment type, capacity, and efficiency format have been filled out, columns AQ-AU will show the program minimum efficiency values in the chosen units."]
[]
[]
["-","For Early Retirement projects, the installed (capacity x quantity) cannot exceed 120% of the removed (capacity x equipment). A message will appear if this happens, contact program staff if you encounter this situation."]
[]
["-","The only equipment type change this workbook supports is air cooled chiller to water cooled chiller. For other equipment type changes, please contact program staff for assistance."]

{"sheet":"Project Info","index":1,"n_rows":19,"n_cols":17,"rows_kept":19,"cut":false,"hidden":false,"merged":[[13,3,13,8],[15,3,15,4],[16,3,16,4],[18,3,18,10],[12,3,12,10],[1,3,1,10],[2,3,2,10],[3,3,3,10],[4,3,4,10],[7,3,7,4],[6,3,6,4],[6,8,6,9],[7,8,7,9],[8,3,8,4],[9,3,9,10],[10,3,10,4],[10,8,10,10],[11,3,11,5],[11,9,11,10]]}
[1,null,null,{"$f":"IF(OR(D7=\"\",D8=\"\",I7=\"\",I8=\"\"),\"Please fill in highlighted cells to continue.\",\"\")","v":"Please fill in highlighted cells to continue."},null,null,null,null,null,null,"v24.0"]
[null,null,"Assessed by:"]
[null,null,"Project ID:"]
[null,null,"Project Name:"]
[null,null,"Project Sponsor:"]
[]
[null,null,"State:",null,null,null,null,"Utility:"]
[null,null,{"$f":"IFERROR(IF('Project Info'!D7=\"LA\",\"Parish:\",\"County:\"),\"\")","v":"County:"},null,null,null,null,"Program:"]
[null,null,"Climate Zone:",{"$f":"IFERROR(State&\" Zone \"&SelectedZone,\"-\")","v":"-"}]
[null,null,"Contact Name:"]
[null,null,"Contact Phone:",null,null,null,null,"Contact Email:"]
[null,null,"Account Number:",null,null,null,null,null,"Name on Account:"]
[null,null,"Project Site Address:"]
[null,null,"City:",null,null,null,null,null,null,"ZIP Code:"]
[]
[null,null,"Incentive Paid to:",null,null,null,null,null,"$/kWh","$/kW"]
[null,null,"Project Cost:",null,null,null,null,"Utility Rates:",0.1,0,null,null,null,null,"Incentive Override:",null,"$/kWh"]
[]
[null,null,"Project Decription:"]

{"sheet":"Inventory","index":2,"n_rows":34,"n_cols":136,"rows_kept":34,"cut":false,"hidden":true,"merged":[[4,1,6,1],[5,24,6,24],[5,25,6,25],[5,26,6,26],[5,14,6,14],[5,10,6,10],[5,23,6,23],[5,3,6,3],[5,13,6,13],[5,12,6,12],[4,2,6,2],[5,6,6,6],[5,4,6,4],[5,5,6,5],[0,27,3,29],[5,16,6,16],[5,17,5,18],[5,7,5,8],[5,19,5,20],[5,22,6,22],[5,21,6,21],[5,9,6,9],[5,11,6,11],[5,15,6,15],[5,50,6,50],[5,32,6,32],[4,41,6,41],[4,42,6,42],[4,40,6,40],[4,44,6,44],[5,48,6,48],[5,47,6,47],[4,33,4,35],[5,30,5,31],[5,27,5,29],[4,74,5,76],[4,53,4,55],[5,51,6,51],[5,38,6,38],[5,39,6,39],[4,36,4,39],[5,36,6,36],[5,37,6,37],[4,47,4,51],[4,45,6,45],[5,49,6,49],[4,43,6,43],[5,33,5,34],[5,35,6,35]]}
[1,null,null,null,null,null,null,null,null,null,null,null,null,null,null,null,null,null,null,null,null,null,null,null,null,null,null,"Note: All residential-sized Air Conditioners & Heat Pumps should be rated in EER2/SEER2/HSPF2.",null,null,null,null,null,"Hide","Hide","Hide","Hide","Hide","Hide","Hide",null,null,null,{"$f":"'Project Info'!K1","v":"v24.0"},null,null,null,null,null,null,null,null,null,"Hide","Hide","Hide","Hide","Hide","Hide","Hide","Hide","Hide","Hide","Hide","Hide","Hide","Hide","Hide","Hide","Hide","Hide","Hide","Hide","Hide",null,null,null,"Hide","Hide","Hide","Hide","Hide","Hide","Hide","Hide","Hide","Hide","Hide","Hide","Hide","Hide","Hide","Hide","Hide","Hide","Hide","Hide","Hide","Hide","Hide","Hide","Hide","Hide","Hide","Hide","Hide","Hide","Hide","Hide","Hide","Hide","Hide","Hide","Hide","Hide","Hide","Hide","Hide","Hide","Hide","Hide","Hide","Hide","Hide","Hide","Hide","Hide","Hide","Hide","Hide","Hide","Hide","Hide","Hide","Hide","Hide"]
["Commercial HVAC Calculator",null,null,null,null,null,null,null,null,null,null,null,"For calculator to work correctly, please make sure all grey-background input cells are blank.",null,null,null,null,null,null,null,null,null,null,null,null,null,null,null,null,null,null,null,null,null,null,null,null,null,null,null,{"$f":"AO5","v":"NCP kW"},{"$f":"AP5","v":"Peak kW"},"kWh","Incentive","Non-Capped Incentive","Total Cost"]
[null,"Project Name:",{"$f":"IF('Project Info'!D4=\"\",\"\",'Project Info'!D4)","v":""},null,null,null,null,null,null,null,null,null,null,null,null,null,null,null,null,null,null,null,null,null,null,null,null,null,null,null,null,null,null,null,null,null,null,null,null,null,{"$f":"SUM(AO8:AO32)","v":0},{"$f":"SUM(AP8:AP32)","v":0},{"$f":"SUM(AQ8:AQ32)","v":0},{"$f":"SUM(AR8:AR32)","v":0},{"$f":"SUM(AS8:AS32)","v":0},{"$f":"ProjectCost","v":0},{"$f":"IFERROR(IF(AR3='Utility Admin'!I2,\"Incentive is capped\",\"\"),\"\")","v":""}]
[null,null,null,null,null,null,{"$f":"IF(COUNTIF(BE8:BE32,\"CAP\")>0,\"Greater than 20% decrease in capacity. A capped Removed Equipment tonnage will be used.\",\"\")","v":""},null,null,null,null,null,null,null,null,null,{"$f":"IF(BD6>0,\"The change in equipment type is not supported by this calculator. Please contact program engineering for further assistance.\",\"\")","v":""}]
[null,"Project Type","Building Type","Removed Equipment",null,null,null,null,null,null,null,null,"Installed Equipment",null,null,null,null,null,null,null,null,null,null,null,null,null,null,null,null,null,null,null,null,"Baseline Efficiency Overrides",null,null,"Weather Factor Overrides",null,null,null,"NCP kW","Peak kW","kWh","Incentive","Non-Capped Incentive","Estimated Cost",null,"Minimum Efficiency Required",null,null,null,null,null,"macro triggers",null,null,null,null,null,null,null,null,null,null,null,null,null,null,null,null,null,null,null,null,"Weather Factors",null,null,{"$f":"CONCATENATE('Project Info'!D7,\"_EFLHZone\",EFLH!$C$1)","v":{"$error":"#REF!"}}]
[null,null,null,"Manufacturer","Model #","Serial #(s)","Equipment Type","Cooling Capacity",null,"Equipment Detail","# of Units","Manuf Year","Manufacturer","Model #","Serial #(s)","AHRI Reference #","Equipment Type","Cooling Capacity",null,"Heating Capacity",null,"Equipment Detail","Heating Section Type","Chiller Baseline Path","Part of Redundant Chiller System?","HP of Condenser Water Pump","HP of Cooling Tower Fan","Cooling Efficiency",null,null,"High-Heating Efficiency",null,"# of Units","Cooling Efficiency (kW/ton only)",null,"Heating Efficiency (COP only)","EFLH,c","EFLH,h","Summer Peak CF","NCF",null,null,null,null,null,null,null,"Full-Load","Part-Load","Format","Heating","Format",null,{"$f":"MAX(BB8:BB32)","v":0},{"$f":"MAX(BC8:BC32)","v":0},{"$f":"MAX(BD8:BD32)","v":0},null,null,null,null,null,null,null,null,null,null,null,null,null,null,null,null,null,null,null,null,null,null,null,"Efficiencies (kW/ton)",null,null,null,null,null,null,null,null,null,null,null,null,"Savings",null,null,null,null,null,null,null,null,null,null,null,"Savings",null,null,null,"Incentives",null,null,"Early retirement calculations"]
[null,null,null,null,null,null,null,"Rating","Units",null,null,null,null,null,null,null,null,"Rating","Units","Rating","Units",null,null,null,null,null,null,"Full-Load","Part-Load \nor IPLV","Format","Rating","Format",null,"Full-Load","Part-Load",null,null,null,null,null,null,null,null,null,null,null,null,null,null,null,null,null,null,"Heat Pump?","Chiller?","Eqpmt Chg?","ER delta cap","ER ACC to WCC adj","Eq Type List","Pre Tons","Pre Total Tons to use","Pre btuh","Pre capacity range","Year to Use","Pre lookup without capacity","Pre lookup with capacity","Post tons","Post total tons to use","Post btuh","Heating tons","capacity range","Lookup without capacity","Lookup with capacity","New Eq type","Summer Peak CF","EFLH Cooling","EFLH Heating","NCP factor","Chiller Adj Factor","Pre ER Full","Pre ER Part","Pre ER Heat","Pre ROB Full","Pre ROB Part","Pre ROB Heat","<5.4T,15.2SEER2?","Pre NC Full","Pre NC Part","Pre NC  Heat","New Full","New Part","New Heat","ER kW s","ER kW NCP","ER kWh c","ER kWh h","ROB kW s","ROB kW NCP","ROB kWh c","ROB kWh h","NC kW s","NC kW NCP","NC kWh c","NC kWh h","Summer Demand Savings (kW)","NCP Savings","Cooling Energy Savings (kWh)","Heating Energy Savings (kWh)","$/NCP","$/kW","$/kWh","Equipment Age (yrs)","RUL","EUL (yrs)","YearsST","NPV kW s FT","NPV kW s ST","NPV NCP kW FT","NPV NCP kW ST","NPV kWh c FT","NPV kWh c ST","NPV kWh h FT","NPV kWh h ST","NPV kW s Total","NPV kw NCP Total","NPV kWh c Total","NPV kWh h total","NPV kWEUL","NPV kWhEUL","kW s","kW NCP","kWh c","kWh h","Current kWh","Current kW","New kWh"]
[1,null,null,null,null,null,null,null,{"$f":"IF(G8=\"\",\"\",IF(RIGHT(G8,7)=\"Chiller\",\"Tons\",\"Btuh\"))","v":""},null,null,null,null,null,null,null,null,null,{"$f":"IF(Q8=\"\",\"\",IF(RIGHT(Q8,7)=\"Chiller\",\"Tons\",\"Btuh\"))","v":""},null,{"$f":"IF(IFERROR(SEARCH(\"Heat\",Q8,1)>0,FALSE),S8,\"\")","v":""},null,null,{"$f":"IF(RIGHT(Q8,7)=\"Chiller\",\"A\",\"\")","v":""},{"$f":"IF(RIGHT(Q8,7)=\"Chiller\",\"No\",\"\")","v":""},null,null,null,null,{"$f":"IF(Q8=\"\",\"\",IF(LEFT(Q8,5)=\"Water\",\"kW/ton\",IF(LEFT(Q8,3)=\"Air\",\"EER\",IF(LEFT(Q8,4)=\"Room\",\"CEER\",IF(LEFT(Q8,5)=\"Compu\",\"SCOP\",IF(AND(BQ8<65000,LEFT(Q8,4)=\"Unit\"),\"EER2/SEER2\",\"EER/IEER\"))))))","v":""},null,{"$f":"IFERROR(IF(BB8=0,\"\",IF(LEFT(Q8,4)=\"Pack\",\"COP\",IF((BR8*12000)<65000,\"HSPF\" & IF(LEFT(Q8,4)=\"Unit\",\"2\",\"\"),\"COP\"))),\"\")","v":""},null,null,null,null,null,null,null,null,{"$f":"IFERROR(IF(AB8=\"\",0,IF(CL8>CI8,\"Does Not Meet Full Load Min\",IF(BE8=\"NO\",\"Check Change in Capacity\",IF(BD8=1,0,IFERROR(ROUND(DB8,3),\"\"))))),0)","v":0},{"$f":"IFERROR(IF(AB8=\"\",0,IF(CL8>CI8,\"Does Not Meet Full Load Min\",IF(BE8=\"NO\",\"Check Change in Capacity\",IF(BD8=1,0,IFERROR(ROUND(DA8,3),\"\"))))),0)","v":0},{"$f":"IFERROR(IF(AND(OR(IFERROR(SEARCH(\"Terminal\",Q8)>0,FALSE),IFERROR(SEARCH(\"Room\",Q8)>0,FALSE)),AB8=\"\"),0,IF(AND(IFERROR(SEARCH(\"Terminal\",Q8)<0,TRUE),IFERROR(SEARCH(\"Room\",Q8)<0,TRUE),AC8=\"\"),0,IF(CM8>CJ8,\"Does Not Meet Part Load Min\",IF(BE8=\"NO\",\"Check Change in Capacity\",IF(BD8=1,0,ROUND((DC8+DD8),0)))))),0)","v":0},{"$f":"IFERROR(IF($AS$3<'Utility Admin'!$I$2,AS8,'Utility Admin'!$I$2/Inventory!$AS$3*AS8),0)","v":0},{"$f":"IFERROR(AO8*DE8+AP8*DF8+AQ8*DG8,0)","v":0},{"$f":"IFERROR(ProjectCost-SUM(AT9:AT32),0)","v":0},null,{"$f":"IFERROR(IF(OR(AD8=\"\",R8=\"\"),\"\",IF(AD8=\"kW/ton\",CI8,IF(AD8=\"SCOP\",3.517,12)/CI8)),\"\")","v":""},{"$f":"IFERROR(IF(OR(R8=\"\",AD8=\"\"),\"\",IF(AD8=\"kW/ton\",CJ8,IF(AD8=\"SCOP\",3.517,12)/CJ8)),\"\")","v":""},{"$f":"IF(AD8=\"\",\"\",AD8)","v":""},{"$f":"IF(T8=\"\",\"\",IFERROR(IF(IFERROR(SEARCH(\"Heat\",Q8,1)>0,FALSE),IF(LEFT(AF8,4)=\"HSPF\",12/CK8,IF(AF8=\"COP\",12/3.412/CK8,\"\")),\"\"),\"\"))","v":""},{"$f":"IF(AF8=\"\",\"\",AF8)","v":""},null,{"$f":"IF(IFERROR(SEARCH(\"Heat Pump\",Q8)>0,FALSE),IF(IFERROR(SEARCH(\"Room\",Q8)>0,FALSE),0,1),0)","v":0},{"$f":"IF(OR(Q8=\"Water Cooled Chiller\",Q8=\"Air Cooled Chiller\"),IF(AND($B8=\"Early Retirement\",$G8=\"Air Cooled Chiller\",$Q8=\"Water Cooled Chiller\"),3,IF(TRM=\"CPS\",2,IF(TRM=\"ARTRM9.2\",1,0))),0)","v":0},{"$f":"IF(AND(B8=\"Early Retirement\",G8<>\"\",Q8<>\"\",G8<>Q8,NOT(AND(G8=\"Air Cooled Chiller\",Q8=\"Water Cooled Chiller\"))),1,0)","v":0},{"$f":"IF(OR(H8=\"\",K8=\"\",R8=\"\",AG8=\"\"),\"\",IF(AND(B8=\"Early Retirement\",BH8*K8*1.2<BO8*AG8),\"NO\",IF(AND(B8=\"Early Retirement\",BH8*K8*0.8>BO8*AG8),\"CAP\",\"YES\")))","v":""},{"$f":"(Z8*AG8+AA8)*0.746*0.8/0.86","v":0},{"$f":"IF('Project Info'!$D$7=\"TX\",INDEX(EFLH!$AB$4:$AB$30,MATCH(C8,TX_EFLHSanAntonio[Building Type],0),1),'Project Info'!$D$7&\"EquipmentType\")","v":"EquipmentType"},{"$f":"IF(I8=\"tons\",H8,IF(I8=\"Btuh\",H8/12000,0))","v":0},{"$f":"IF(BE8=\"CAP\",BO8*1.2*AG8,BH8*K8)","v":0},{"$f":"IF(I8=\"Btuh\",H8,IF(I8=\"tons\",H8*12000,0))","v":0},{"$f":"HLOOKUP(BJ8,'Equipment Lookups'!$L$4:$AE$46,VLOOKUP(Inventory!BM8,'Equipment Lookups'!$J$5:$K$46,2,FALSE),TRUE)","v":{"$error":"#N/A"}},{"$f":"IF(L8=\"\",\"\",MAX(IF(L8=\"Unknown\",ProgramYear-INDEX('Equipment Lookups'!$AF$5:$AF$38,MATCH(Inventory!BM8,'Equipment Lookups'!$J$5:$J$38,0)),_xlfn.NUMBERVALUE(RIGHT(L8,4))),INDEX(BaselineRow,1)))","v":""},{"$f":"SUBSTITUTE(SUBSTITUTE(CONCATENATE(G8, J8), \" \", \"\"),\"/\",\"\")","v":""},{"$f":"SUBSTITUTE(SUBSTITUTE(CONCATENATE(G8,J8,IF(BC8>0,IF(X8=\"\",\"A\",X8),\"\"),BK8),\" \",\"\"),\"/\",\"\")","v":{"$error":"#N/A"}},{"$f":"IF(S8=\"tons\",R8,IF(S8=\"Btuh\",R8/12000,0))","v":0},{"$f":"IF(AG8=\"\",\"\",BO8*AG8)","v":""},{"$f":"BO8*12000","v":0},{"$f":"IF(U8=\"tons\",T8,IF(U8=\"Btuh\",T8/12000,0))","v":0},{"$f":"HLOOKUP(BQ8,'Equipment Lookups'!$L$4:$AE$46,VLOOKUP(Inventory!BT8,'Equipment Lookups'!$J$5:$K$46,2,FALSE),TRUE)","v":{"$error":"#N/A"}},{"$f":"SUBSTITUTE(SUBSTITUTE(CONCATENATE(Q8, V8), \" \", \"\"),\"/\",\"\")","v":""},{"$f":"SUBSTITUTE(SUBSTITUTE(CONCATENATE(Q8, V8,IF(AND(State=\"TX\",LEFT(Q8,7)=\"Unitary\",BQ8>65000),\"Other\",W8),IF(BC8>0,IF(X8=\"\",\"A\",X8),\"\"),BS8), \" \", \"\"),\"/\",\"\")","v":{"$error":"#N/A"}},{"$f":"INDEX('Equipment Lookups'!$AG$5:$AG$46,MATCH(Inventory!BT8,'Equipment Lookups'!$J$5:$J$46,0))","v":{"$error":"#N/A"}},{"$f":"IFERROR(IF(AM8<>\"\",AM8,IF(State=\"TX\",INDEX(TX_EFLHSanAntonio[[CFAir Cooled Chiller]:[CFPTRoom]],MATCH(Inventory!C8,TX_EFLHSanAntonio[Building Type],0),MATCH(BV8,EFLH!$N$2:$Q$2,0)),VLOOKUP(C8,INDIRECT($BZ$5),4,FALSE))),\"-\")","v":"-"},{"$f":"IFERROR(IF(AK8<>\"\",AK8,IF(State=\"TX\",INDEX(TX_EFLHSanAntonio[[EFLHcAir Cooled Chiller]:[EFLHcPTRoom]],MATCH(Inventory!C8,TX_EFLHSanAntonio[Building Type],0),MATCH(BV8,EFLH!$V$2:$Y$2,0)),VLOOKUP(C8,INDIRECT($BZ$5),2,FALSE))),\"-\")","v":"-"},{"$f":"IFERROR(IF(AL8<>\"\",AL8,IF(State=\"TX\",INDEX(TX_EFLHSanAntonio[[EFLHhDX]:[EFLHhPTRoom]],MATCH(Inventory!C8,TX_EFLHSanAntonio[Building Type],0),MATCH(BV8,EFLH!$Z$2:$AA$2,0)),VLOOKUP(C8,INDIRECT($BZ$5),3,FALSE))),\"-\")","v":"-"},{"$f":"IF(AN8<>\"\",AN8,IF(State=\"TX\",INDEX(TX_EFLHSanAntonio[[NCPAir Cooled Chiller]:[NCPPTRoom]],MATCH(Inventory!C8,TX_EFLHSanAntonio[Building Type],0),MATCH(BV8,EFLH!$R$2:$U$2,0)),0))","v":0},{"$f":"IF(Y8=\"Yes\",0.58,1)","v":1},{"$f":"_xlfn.SINGLE(IF(IFERROR(SEARCH(\"Terminal\",G8,1)>0,FALSE),12/(INDEX(INDIRECT(BN8),MATCH(BL8,BaselineRow,0),1)+INDEX(INDIRECT(BN8),MATCH(BL8,BaselineRow,0),2)*BJ8),INDEX(INDIRECT(BN8),MATCH(BL8,BaselineRow,0),1)))","v":{"$error":"#N/A"}},{"$f":"_xlfn.SINGLE(IF(IFERROR(SEARCH(\"Terminal\",G8,1)>0,FALSE),CB8,INDEX(INDIRECT(BN8),MATCH(BL8,BaselineRow,0),2)))","v":{"$error":"#N/A"}},{"$f":"IF(IFERROR(SEARCH(\"Heat\",G8,1)>0,FALSE),IF(IFERROR(SEARCH(\"Terminal\",G8,1)>0,FALSE),12/3.412/(INDEX(INDIRECT(BN8),MATCH(BL8,BaselineRow,0),3)+INDEX(INDIRECT(BN8),MATCH(BL8,BaselineRow,0),4)*BJ8),INDEX(INDIRECT(BN8),MATCH(BL8,BaselineRow,0),IF(IFERROR(SEARCH(\"Unitary\",G8,1)>0,FALSE),3,3))),\"\")","v":""},{"$f":"_xlfn.SINGLE(IF(AH8<>\"\",AH8,IF(IFERROR(SEARCH(\"Terminal\",Q8,1)>0,FALSE),12/(INDEX(INDIRECT(BU8),MATCH(TRM,BaselineRow,0),1)+INDEX(INDIRECT(BU8),MATCH(TRM,BaselineRow,0),2)*BQ8),INDEX(INDIRECT(BU8),MATCH(TRM,BaselineRow,0),1))))","v":{"$error":"#N/A"}},{"$f":"_xlfn.SINGLE(IF(AI8<>\"\",AI8,IF(IFERROR(SEARCH(\"Terminal\",Q8,1)>0,FALSE),CE8,INDEX(INDIRECT(BU8),MATCH(TRM,BaselineRow,0),2))))","v":{"$error":"#N/A"}},{"$f":"_xlfn.SINGLE(IF(AJ8<>\"\",12/3.412/AJ8,IF(IFERROR(SEARCH(\"Heat\",Q8,1)>0,FALSE),IF(IFERROR(SEARCH(\"Terminal\",Q8,1)>0,FALSE),12/3.412/(INDEX(INDIRECT(BU8),MATCH(TRM,BaselineRow,0),3)+INDEX(INDIRECT(BU8),MATCH(TRM,BaselineRow,0),4)*BQ8),INDEX(INDIRECT(BU8),MATCH(TRM,BaselineRow,0),3)),\"\")))","v":""},{"$f":"AND(LEFT(Q8,4)=\"Unit\",BQ8<65000,CM8<=12/15.2)","v":false},{"$f":"IF(AH8<>\"\",AH8,IF(IFERROR(SEARCH(\"Terminal\",Q8,1)>0,FALSE),12/(INDEX(INDIRECT(BU8),MATCH(TRM,BaselineRow,0),1)+INDEX(INDIRECT(BU8),MATCH(TRM,BaselineRow,0),2)*BQ8),INDEX(INDIRECT(BU8),IF(CH8,COUNTA(BaselineRow)+1,MATCH(TRM,BaselineRow,0)),1)))","v":{"$error":"#N/A"}},{"$f":"_xlfn.SINGLE(IF(AI8<>\"\",AI8,IF(IFERROR(SEARCH(\"Terminal\",Q8,1)>0,FALSE),CI8,INDEX(INDIRECT(BU8),MATCH(TRM,BaselineRow,0),2))))","v":{"$error":"#N/A"}},{"$f":"_xlfn.SINGLE(IF(AJ8<>\"\",12/3.412/AJ8,IF(IFERROR(SEARCH(\"Heat\",Q8,1)>0,FALSE),IF(IFERROR(SEARCH(\"Terminal\",Q8,1)>0,FALSE),12/3.412/(INDEX(INDIRECT(BU8),MATCH(TRM,BaselineRow,0),3)+INDEX(INDIRECT(BU8),MATCH(TRM,BaselineRow,0),4)*BQ8),INDEX(INDIRECT(BU8),MATCH(TRM,BaselineRow,0),3)),\"\")))","v":""},{"$f":"IFERROR(IF(AD8=\"kW/ton\",AB8,IF(AD8=\"SCOP\",3.517,12)/AB8),\"\")","v":""},{"$f":"IFERROR(IF(IFERROR(SEARCH(\"Terminal\",Q8,1)>0,FALSE),12/AB8,IF(IFERROR(SEARCH(\"Room\",Q8,1)>0,FALSE),IF(AD8=\"SCOP\",3.517,12)/AB8,IF(AC8=\"\",\"\",IF(LEFT(AD8,3)=\"EER\",12/AC8,AC8)))),\"\")","v":""},{"$f":"IFERROR(IF(IFERROR(SEARCH(\"Room\",Q8,1)>0,FALSE),12/AB8,IF(LEFT(AF8,4)=\"HSPF\",12/AE8,IF(AF8=\"COP\",12/3.412/AE8,\"\"))),\"\")","v":""},{"$f":"MAX(IF(Y8=\"Yes\",(BI8*CC8-BP8*CM8),(BI8*CB8-BP8*CL8))*BW8*CA8-BF8,0)","v":{"$error":"#N/A"}},{"$f":"MAX(IF(Y8=\"Yes\",(BI8*CC8-BP8*CM8),(BI8*CB8-BP8*CL8))*BZ8*CA8-BF8,0)","v":{"$error":"#N/A"}},{"$f":"MAX((BI8*CC8-BP8*CM8)*BX8*CA8-BF8*8760,0)","v":{"$error":"#N/A"}},{"$f":"MAX(IFERROR((BI8*CD8-AG8*BR8*CN8)*BY8*CA8,0),0)","v":0},{"$f":"BP8*IF(Y8=\"Yes\",(CF8-CM8),(CE8-CL8))*BW8*CA8","v":{"$error":"#VALUE!"}},{"$f":"BP8*IF(Y8=\"Yes\",(CF8-CM8),(CE8-CL8))*BZ8*CA8","v":{"$error":"#VALUE!"}},{"$f":"BP8*(CF8-CM8)*BX8*CA8","v":{"$error":"#VALUE!"}},{"$f":"AG8*BR8*(CG8-CN8)*BY8*CA8","v":{"$error":"#VALUE!"}},{"$f":"BP8*IF(Y8=\"Yes\",(CJ8-CM8),(CI8-CL8))*BW8*CA8","v":{"$error":"#VALUE!"}},{"$f":"BP8*IF(Y8=\"Yes\",(CJ8-CM8),(CI8-CL8))*BZ8*CA8","v":{"$error":"#VALUE!"}},{"$f":"BP8*(CJ8-CM8)*BX8*CA8","v":{"$error":"#VALUE!"}},{"$f":"AG8*BR8*(CK8-CN8)*BY8*CA8","v":{"$error":"#VALUE!"}},{"$f":"IFERROR(IF($B8=\"Early Retirement\",DZ8,IF($B8=\"Replace on Burnout\",CS8,IF($B8=\"New Construction\",CW8,0))),0)","v":0},{"$f":"IFERROR(IF($B8=\"Early Retirement\",EA8,IF($B8=\"Replace on Burnout\",CT8,IF($B8=\"New Construction\",CX8,0))),0)","v":0},{"$f":"IFERROR(IF($B8=\"Early Retirement\",EB8,IF($B8=\"Replace on Burnout\",CU8,IF($B8=\"New Construction\",CY8,0))),0)","v":0},{"$f":"IFERROR(IF($B8=\"Early Retirement\",EC8,IF($B8=\"Replace on Burnout\",CV8,IF($B8=\"New Construction\",CZ8,0))),0)","v":0},{"$f":"INDEX('Utility Admin'!$P$2:$AD$2,1,MATCH($Q8,'Utility Admin'!$P$3:$AD$3,0))","v":{"$error":"#N/A"}},{"$f":"INDEX('Utility Admin'!AE$2:AS$2,1,MATCH($Q8,'Utility Admin'!$P$3:$AD$3,0))","v":{"$error":"#N/A"}},{"$f":"IF(kWhOverride=\"\",INDEX('Utility Admin'!$AT$2:$BH$2,1,MATCH($Q8,'Utility Admin'!$P$3:$AD$3,0)),kWhOverride)","v":{"$error":"#N/A"}},{"$f":"IF(B8=\"New Construction\",\"\",IF(L8=\"\",\"\",MAX(ProgramYear-BL8,1,)))","v":""},{"$f":"INDEX('Equipment Lookups'!$AI$5:$BV$46,MATCH(Inventory!BM8,'Equipment Lookups'!$J$5:$J$46,0),MATCH(Inventory!DH8,'Equipment Lookups'!$AI$4:$BV$4,0))","v":{"$error":"#N/A"}},{"$f":"INDEX('Equipment Lookups'!$AH$5:$AH$46,MATCH(Inventory!BT8,'Equipment Lookups'!$J$5:$J$46,0))","v":{"$error":"#N/A"}},{"$f":"DJ8-DI8","v":{"$error":"#N/A"}},{"$f":" ACkW * (1+escalation)/(discount-escalation) * (1 - ((1+escalation)/(1+discount))^DI8) * CO8","v":{"$error":"#N/A"}},{"$f":" ACkW * (1+escalation)/(discount-escalation) * (1 - ((1+escalation)/(1+discount))^DK8) * (1+escalation)^DI8/(1+discount)^DI8 * CS8","v":{"$error":"#N/A"}},{"$f":" ACkW * (1+escalation)/(discount-escalation) * (1 - ((1+escalation)/(1+discount))^DI8) * CP8","v":{"$error":"#N/A"}},{"$f":" ACkW * (1+escalation)/(discount-escalation) * (1 - ((1+escalation)/(1+discount))^DK8) * (1+escalation)^DI8/(1+discount)^DI8 * CT8","v":{"$error":"#N/A"}},{"$f":" ACkWh * (1+escalation)/(discount-escalation) * (1 - ((1+escalation)/(1+discount))^DI8) * CQ8","v":{"$error":"#N/A"}},{"$f":" ACkWh * (1+escalation)/(discount-escalation) * (1 - ((1+escalation)/(1+discount))^DK8) * (1+escalation)^DI8/(1+discount)^DI8 * CU8","v":{"$error":"#N/A"}},{"$f":" ACkWh * (1+escalation)/(discount-escalation) * (1 - ((1+escalation)/(1+discount))^DI8) * CR8","v":{"$error":"#N/A"}},{"$f":" ACkWh * (1+escalation)/(discount-escalation) * (1 - ((1+escalation)/(1+discount))^DK8) * (1+escalation)^DI8/(1+discount)^DI8 * CV8","v":{"$error":"#N/A"}},{"$f":"DL8+DM8","v":{"$error":"#N/A"}},{"$f":"DN8+DO8","v":{"$error":"#N/A"}},{"$f":"DP8+DQ8","v":{"$error":"#N/A"}},{"$f":"DR8+DS8","v":{"$error":"#N/A"}},{"$f":" ACkW * (1+escalation)/(discount-escalation) * (1 - ((1+escalation)/(1+discount))^DJ8)","v":{"$error":"#N/A"}},{"$f":" ACkWh * (1+escalation)/(discount-escalation) * (1 - ((1+escalation)/(1+discount))^DJ8)","v":{"$error":"#N/A"}},{"$f":"DT8/DX8","v":{"$error":"#N/A"}},{"$f":"DU8/DX8","v":{"$error":"#N/A"}},{"$f":"DV8/DY8","v":{"$error":"#N/A"}},{"$f":"DW8/DY8","v":{"$error":"#N/A"}},{"$f":"K8*IFERROR(IF(B8=\"Early Retirement\",CC8*BH8*K8,CF8*BP8)*BX8,0)","v":0},{"$f":"K8*IFERROR(IF(B8=\"Early Retirement\",CB8*BH8*K8,CE8*BP8)*BW8,0)","v":0},{"$f":"IFERROR(BP8*BX8*CM8,0)","v":0}]
[2,null,null,null,null,null,null,null,"",null,null,null,null,null,null,null,null,null,"",null,"",null,null,"","",null,null,null,null,"",null,"",null,null,null,null,null,null,null,null,0,0,0,{"$f":"IFERROR(IF($AS$3<'Utility Admin'!$I$2,AS9,'Utility Admin'!$I$2/Inventory!$AS$3*AS9),0)","v":0},0,{"$f":"IFERROR(AG9*BO9/SUMPRODUCT(BO$8:BO$32,AG$8:AG$32)*ProjectCost,0)","v":0},null,{"$f":"IFERROR(IF(OR(AD9=\"\",R9=\"\"),\"\",IF(AD9=\"kW/ton\",CI9,IF(AD9=\"SCOP\",3.517,12)/CI9)),\"\")","v":""},{"$f":"IFERROR(IF(OR(R9=\"\",AD9=\"\"),\"\",IF(AD9=\"kW/ton\",CJ9,IF(AD9=\"SCOP\",3.517,12)/CJ9)),\"\")","v":""},{"$f":"IF(AD9=\"\",\"\",AD9)","v":""},{"$f":"IF(T9=\"\",\"\",IFERROR(IF(IFERROR(SEARCH(\"Heat\",Q9,1)>0,FALSE),IF(LEFT(AF9,4)=\"HSPF\",12/CK9,IF(AF9=\"COP\",12/3.412/CK9,\"\")),\"\"),\"\"))","v":""},{"$f":"IF(AF9=\"\",\"\",AF9)","v":""},null,{"$f":"IF(IFERROR(SEARCH(\"Heat Pump\",Q9)>0,FALSE),IF(IFERROR(SEARCH(\"Room\",Q9)>0,FALSE),0,1),0)","v":0},{"$f":"IF(OR(Q9=\"Water Cooled Chiller\",Q9=\"Air Cooled Chiller\"),IF(AND($B9=\"Early Retirement\",$G9=\"Air Cooled Chiller\",$Q9=\"Water Cooled Chiller\"),3,IF(TRM=\"CPS\",2,IF(TRM=\"ARTRM9.2\",1,0))),0)","v":0},{"$f":"IF(AND(B9=\"Early Retirement\",G9<>\"\",Q9<>\"\",G9<>Q9,NOT(AND(G9=\"Air Cooled Chiller\",Q9=\"Water Cooled Chiller\"))),1,0)","v":0},{"$f":"IF(OR(H9=\"\",K9=\"\",R9=\"\",AG9=\"\"),\"\",IF(AND(B9=\"Early Retirement\",BH9*K9*1.2<BO9*AG9),\"NO\",IF(AND(B9=\"Early Retirement\",BH9*K9*0.8>BO9*AG9),\"CAP\",\"YES\")))","v":""},{"$f":"(Z9*AG9+AA9)*0.746*0.8/0.86","v":0},{"$f":"IF('Project Info'!$D$7=\"TX\",INDEX(EFLH!$AB$4:$AB$30,MATCH(C9,TX_EFLHSanAntonio[Building Type],0),1),'Project Info'!$D$7&\"EquipmentType\")","v":"EquipmentType"},{"$f":"IF(I9=\"tons\",H9,IF(I9=\"Btuh\",H9/12000,0))","v":0},{"$f":"IF(BE9=\"CAP\",BO9*1.2*AG9,BH9*K9)","v":0},{"$f":"IF(I9=\"Btuh\",H9,IF(I9=\"tons\",H9*12000,0))","v":0},{"$f":"HLOOKUP(BJ9,'Equipment Lookups'!$L$4:$AE$46,VLOOKUP(Inventory!BM9,'Equipment Lookups'!$J$5:$K$46,2,FALSE),TRUE)","v":{"$error":"#N/A"}},{"$f":"IF(L9=\"\",\"\",MAX(IF(L9=\"Unknown\",ProgramYear-INDEX('Equipment Lookups'!$AF$5:$AF$38,MATCH(Inventory!BM9,'Equipment Lookups'!$J$5:$J$38,0)),_xlfn.NUMBERVALUE(RIGHT(L9,4))),INDEX(BaselineRow,1)))","v":""},{"$f":"SUBSTITUTE(SUBSTITUTE(CONCATENATE(G9, J9), \" \", \"\"),\"/\",\"\")","v":""},{"$f":"SUBSTITUTE(SUBSTITUTE(CONCATENATE(G9,J9,IF(BC9>0,IF(X9=\"\",\"A\",X9),\"\"),BK9),\" \",\"\"),\"/\",\"\")","v":{"$error":"#N/A"}},{"$f":"IF(S9=\"tons\",R9,IF(S9=\"Btuh\",R9/12000,0))","v":0},{"$f":"IF(AG9=\"\",\"\",BO9*AG9)","v":""},{"$f":"BO9*12000","v":0},{"$f":"IF(U9=\"tons\",T9,IF(U9=\"Btuh\",T9/12000,0))","v":0},{"$f":"HLOOKUP(BQ9,'Equipment Lookups'!$L$4:$AE$46,VLOOKUP(Inventory!BT9,'Equipment Lookups'!$J$5:$K$46,2,FALSE),TRUE)","v":{"$error":"#N/A"}},{"$f":"SUBSTITUTE(SUBSTITUTE(CONCATENATE(Q9, V9), \" \", \"\"),\"/\",\"\")","v":""},{"$f":"SUBSTITUTE(SUBSTITUTE(CONCATENATE(Q9, V9,IF(AND(State=\"TX\",LEFT(Q9,7)=\"Unitary\",BQ9>65000),\"Other\",W9),IF(BC9>0,IF(X9=\"\",\"A\",X9),\"\"),BS9), \" \", \"\"),\"/\",\"\")","v":{"$error":"#N/A"}},{"$f":"INDEX('Equipment Lookups'!$AG$5:$AG$46,MATCH(Inventory!BT9,'Equipment Lookups'!$J$5:$J$46,0))","v":{"$error":"#N/A"}},{"$f":"IFERROR(IF(AM9<>\"\",AM9,IF(State=\"TX\",INDEX(TX_EFLHSanAntonio[[CFAir Cooled Chiller]:[CFPTRoom]],MATCH(Inventory!C9,TX_EFLHSanAntonio[Building Type],0),MATCH(BV9,EFLH!$N$2:$Q$2,0)),VLOOKUP(C9,INDIRECT($BZ$5),4,FALSE))),\"-\")","v":"-"},{"$f":"IFERROR(IF(AK9<>\"\",AK9,IF(State=\"TX\",INDEX(TX_EFLHSanAntonio[[EFLHcAir Cooled Chiller]:[EFLHcPTRoom]],MATCH(Inventory!C9,TX_EFLHSanAntonio[Building Type],0),MATCH(BV9,EFLH!$V$2:$Y$2,0)),VLOOKUP(C9,INDIRECT($BZ$5),2,FALSE))),\"-\")","v":"-"},{"$f":"IFERROR(IF(AL9<>\"\",AL9,IF(State=\"TX\",INDEX(TX_EFLHSanAntonio[[EFLHhDX]:[EFLHhPTRoom]],MATCH(Inventory!C9,TX_EFLHSanAntonio[Building Type],0),MATCH(BV9,EFLH!$Z$2:$AA$2,0)),VLOOKUP(C9,INDIRECT($BZ$5),3,FALSE))),\"-\")","v":"-"},{"$f":"IF(AN9<>\"\",AN9,IF(State=\"TX\",INDEX(TX_EFLHSanAntonio[[NCPAir Cooled Chiller]:[NCPPTRoom]],MATCH(Inventory!C9,TX_EFLHSanAntonio[Building Type],0),MATCH(BV9,EFLH!$R$2:$U$2,0)),0))","v":0},{"$f":"IF(Y9=\"Yes\",0.58,1)","v":1},{"$f":"_xlfn.SINGLE(IF(IFERROR(SEARCH(\"Terminal\",G9,1)>0,FALSE),12/(INDEX(INDIRECT(BN9),MATCH(BL9,BaselineRow,0),1)+INDEX(INDIRECT(BN9),MATCH(BL9,BaselineRow,0),2)*BJ9),INDEX(INDIRECT(BN9),MATCH(BL9,BaselineRow,0),1)))","v":{"$error":"#N/A"}},{"$f":"_xlfn.SINGLE(IF(IFERROR(SEARCH(\"Terminal\",G9,1)>0,FALSE),CB9,INDEX(INDIRECT(BN9),MATCH(BL9,BaselineRow,0),2)))","v":{"$error":"#N/A"}},{"$f":"IF(IFERROR(SEARCH(\"Heat\",G9,1)>0,FALSE),IF(IFERROR(SEARCH(\"Terminal\",G9,1)>0,FALSE),12/3.412/(INDEX(INDIRECT(BN9),MATCH(BL9,BaselineRow,0),3)+INDEX(INDIRECT(BN9),MATCH(BL9,BaselineRow,0),4)*BJ9),INDEX(INDIRECT(BN9),MATCH(BL9,BaselineRow,0),IF(IFERROR(SEARCH(\"Unitary\",G9,1)>0,FALSE),3,3))),\"\")","v":""},{"$f":"_xlfn.SINGLE(IF(AH9<>\"\",AH9,IF(IFERROR(SEARCH(\"Terminal\",Q9,1)>0,FALSE),12/(INDEX(INDIRECT(BU9),MATCH(TRM,BaselineRow,0),1)+INDEX(INDIRECT(BU9),MATCH(TRM,BaselineRow,0),2)*BQ9),INDEX(INDIRECT(BU9),MATCH(TRM,BaselineRow,0),1))))","v":{"$error":"#N/A"}},{"$f":"_xlfn.SINGLE(IF(AI9<>\"\",AI9,IF(IFERROR(SEARCH(\"Terminal\",Q9,1)>0,FALSE),CE9,INDEX(INDIRECT(BU9),MATCH(TRM,BaselineRow,0),2))))","v":{"$error":"#N/A"}},{"$f":"_xlfn.SINGLE(IF(AJ9<>\"\",12/3.412/AJ9,IF(IFERROR(SEARCH(\"Heat\",Q9,1)>0,FALSE),IF(IFERROR(SEARCH(\"Terminal\",Q9,1)>0,FALSE),12/3.412/(INDEX(INDIRECT(BU9),MATCH(TRM,BaselineRow,0),3)+INDEX(INDIRECT(BU9),MATCH(TRM,BaselineRow,0),4)*BQ9),INDEX(INDIRECT(BU9),MATCH(TRM,BaselineRow,0),3)),\"\")))","v":""},{"$f":"AND(LEFT(Q9,4)=\"Unit\",BQ9<65000,CM9<=12/15.2)","v":false},{"$f":"IF(AH9<>\"\",AH9,IF(IFERROR(SEARCH(\"Terminal\",Q9,1)>0,FALSE),12/(INDEX(INDIRECT(BU9),MATCH(TRM,BaselineRow,0),1)+INDEX(INDIRECT(BU9),MATCH(TRM,BaselineRow,0),2)*BQ9),INDEX(INDIRECT(BU9),IF(CH9,COUNTA(BaselineRow)+1,MATCH(TRM,BaselineRow,0)),1)))","v":{"$error":"#N/A"}},{"$f":"_xlfn.SINGLE(IF(AI9<>\"\",AI9,IF(IFERROR(SEARCH(\"Terminal\",Q9,1)>0,FALSE),CI9,INDEX(INDIRECT(BU9),MATCH(TRM,BaselineRow,0),2))))","v":{"$error":"#N/A"}},{"$f":"_xlfn.SINGLE(IF(AJ9<>\"\",12/3.412/AJ9,IF(IFERROR(SEARCH(\"Heat\",Q9,1)>0,FALSE),IF(IFERROR(SEARCH(\"Terminal\",Q9,1)>0,FALSE),12/3.412/(INDEX(INDIRECT(BU9),MATCH(TRM,BaselineRow,0),3)+INDEX(INDIRECT(BU9),MATCH(TRM,BaselineRow,0),4)*BQ9),INDEX(INDIRECT(BU9),MATCH(TRM,BaselineRow,0),3)),\"\")))","v":""},{"$f":"IFERROR(IF(AD9=\"kW/ton\",AB9,IF(AD9=\"SCOP\",3.517,12)/AB9),\"\")","v":""},{"$f":"IFERROR(IF(IFERROR(SEARCH(\"Terminal\",Q9,1)>0,FALSE),12/AB9,IF(IFERROR(SEARCH(\"Room\",Q9,1)>0,FALSE),IF(AD9=\"SCOP\",3.517,12)/AB9,IF(AC9=\"\",\"\",IF(LEFT(AD9,3)=\"EER\",12/AC9,AC9)))),\"\")","v":""},{"$f":"IFERROR(IF(IFERROR(SEARCH(\"Room\",Q9,1)>0,FALSE),12/AB9,IF(LEFT(AF9,4)=\"HSPF\",12/AE9,IF(AF9=\"COP\",12/3.412/AE9,\"\"))),\"\")","v":""},{"$f":"MAX(IF(Y9=\"Yes\",(BI9*CC9-BP9*CM9),(BI9*CB9-BP9*CL9))*BW9*CA9-BF9,0)","v":{"$error":"#N/A"}},{"$f":"MAX(IF(Y9=\"Yes\",(BI9*CC9-BP9*CM9),(BI9*CB9-BP9*CL9))*BZ9*CA9-BF9,0)","v":{"$error":"#N/A"}},{"$f":"MAX((BI9*CC9-BP9*CM9)*BX9*CA9-BF9*8760,0)","v":{"$error":"#N/A"}},{"$f":"MAX(IFERROR((BI9*CD9-AG9*BR9*CN9)*BY9*CA9,0),0)","v":0},{"$f":"BP9*IF(Y9=\"Yes\",(CF9-CM9),(CE9-CL9))*BW9*CA9","v":{"$error":"#VALUE!"}},{"$f":"BP9*IF(Y9=\"Yes\",(CF9-CM9),(CE9-CL9))*BZ9*CA9","v":{"$error":"#VALUE!"}},{"$f":"BP9*(CF9-CM9)*BX9*CA9","v":{"$error":"#VALUE!"}},{"$f":"AG9*BR9*(CG9-CN9)*BY9*CA9","v":{"$error":"#VALUE!"}},{"$f":"BP9*IF(Y9=\"Yes\",(CJ9-CM9),(CI9-CL9))*BW9*CA9","v":{"$error":"#VALUE!"}},{"$f":"BP9*IF(Y9=\"Yes\",(CJ9-CM9),(CI9-CL9))*BZ9*CA9","v":{"$error":"#VALUE!"}},{"$f":"BP9*(CJ9-CM9)*BX9*CA9","v":{"$error":"#VALUE!"}},{"$f":"AG9*BR9*(CK9-CN9)*BY9*CA9","v":{"$error":"#VALUE!"}},{"$f":"IFERROR(IF($B9=\"Early Retirement\",DZ9,IF($B9=\"Replace on Burnout\",CS9,IF($B9=\"New Construction\",CW9,0))),0)","v":0},{"$f":"IFERROR(IF($B9=\"Early Retirement\",EA9,IF($B9=\"Replace on Burnout\",CT9,IF($B9=\"New Construction\",CX9,0))),0)","v":0},{"$f":"IFERROR(IF($B9=\"Early Retirement\",EB9,IF($B9=\"Replace on Burnout\",CU9,IF($B9=\"New Construction\",CY9,0))),0)","v":0},{"$f":"IFERROR(IF($B9=\"Early Retirement\",EC9,IF($B9=\"Replace on Burnout\",CV9,IF($B9=\"New Construction\",CZ9,0))),0)","v":0},{"$f":"INDEX('Utility Admin'!$P$2:$AD$2,1,MATCH($Q9,'Utility Admin'!$P$3:$AD$3,0))","v":{"$error":"#N/A"}},{"$f":"INDEX('Utility Admin'!AE$2:AS$2,1,MATCH($Q9,'Utility Admin'!$P$3:$AD$3,0))","v":{"$error":"#N/A"}},{"$f":"IF(kWhOverride=\"\",INDEX('Utility Admin'!$AT$2:$BH$2,1,MATCH($Q9,'Utility Admin'!$P$3:$AD$3,0)),kWhOverride)","v":{"$error":"#N/A"}},{"$f":"IF(B9=\"New Construction\",\"\",IF(L9=\"\",\"\",MAX(ProgramYear-BL9,1,)))","v":""},{"$f":"INDEX('Equipment Lookups'!$AI$5:$BV$46,MATCH(Inventory!BM9,'Equipment Lookups'!$J$5:$J$46,0),MATCH(Inventory!DH9,'Equipment Lookups'!$AI$4:$BV$4,0))","v":{"$error":"#N/A"}},{"$f":"INDEX('Equipment Lookups'!$AH$5:$AH$46,MATCH(Inventory!BT9,'Equipment Lookups'!$J$5:$J$46,0))","v":{"$error":"#N/A"}},{"$f":"DJ9-DI9","v":{"$error":"#N/A"}},{"$f":" ACkW * (1+escalation)/(discount-escalation) * (1 - ((1+escalation)/(1+discount))^DI9) * CO9","v":{"$error":"#N/A"}},{"$f":" ACkW * (1+escalation)/(discount-escalation) * (1 - ((1+escalation)/(1+discount))^DK9) * (1+escalation)^DI9/(1+discount)^DI9 * CS9","v":{"$error":"#N/A"}},{"$f":" ACkW * (1+escalation)/(discount-escalation) * (1 - ((1+escalation)/(1+discount))^DI9) * CP9","v":{"$error":"#N/A"}},{"$f":" ACkW * (1+escalation)/(discount-escalation) * (1 - ((1+escalation)/(1+discount))^DK9) * (1+escalation)^DI9/(1+discount)^DI9 * CT9","v":{"$error":"#N/A"}},{"$f":" ACkWh * (1+escalation)/(discount-escalation) * (1 - ((1+escalation)/(1+discount))^DI9) * CQ9","v":{"$error":"#N/A"}},{"$f":" ACkWh * (1+escalation)/(discount-escalation) * (1 - ((1+escalation)/(1+discount))^DK9) * (1+escalation)^DI9/(1+discount)^DI9 * CU9","v":{"$error":"#N/A"}},{"$f":" ACkWh * (1+escalation)/(discount-escalation) * (1 - ((1+escalation)/(1+discount))^DI9) * CR9","v":{"$error":"#N/A"}},{"$f":" ACkWh * (1+escalation)/(discount-escalation) * (1 - ((1+escalation)/(1+discount))^DK9) * (1+escalation)^DI9/(1+discount)^DI9 * CV9","v":{"$error":"#N/A"}},{"$f":"DL9+DM9","v":{"$error":"#N/A"}},{"$f":"DN9+DO9","v":{"$error":"#N/A"}},{"$f":"DP9+DQ9","v":{"$error":"#N/A"}},{"$f":"DR9+DS9","v":{"$error":"#N/A"}},{"$f":" ACkW * (1+escalation)/(discount-escalation) * (1 - ((1+escalation)/(1+discount))^DJ9)","v":{"$error":"#N/A"}},{"$f":" ACkWh * (1+escalation)/(discount-escalation) * (1 - ((1+escalation)/(1+discount))^DJ9)","v":{"$error":"#N/A"}},{"$f":"DT9/DX9","v":{"$error":"#N/A"}},{"$f":"DU9/DX9","v":{"$error":"#N/A"}},{"$f":"DV9/DY9","v":{"$error":"#N/A"}},{"$f":"DW9/DY9","v":{"$error":"#N/A"}},0,0,0]
[3,null,null,null,null,null,null,null,"",null,null,null,null,null,null,null,null,null,"",null,"",null,null,"","",null,null,null,null,"",null,"",null,null,null,null,null,null,null,null,0,0,0,{"$f":"IFERROR(IF($AS$3<'Utility Admin'!$I$2,AS10,'Utility Admin'!$I$2/Inventory!$AS$3*AS10),0)","v":0},0,0,null,"","","","","",null,0,0,0,"",0,{"$f":"IF('Project Info'!$D$7=\"TX\",INDEX(EFLH!$AB$4:$AB$30,MATCH(C10,TX_EFLHSanAntonio[Building Type],0),1),'Project Info'!$D$7&\"EquipmentType\")","v":"EquipmentType"},0,0,0,{"$f":"HLOOKUP(BJ10,'Equipment Lookups'!$L$4:$AE$46,VLOOKUP(Inventory!BM10,'Equipment Lookups'!$J$5:$K$46,2,FALSE),TRUE)","v":{"$error":"#N/A"}},{"$f":"IF(L10=\"\",\"\",MAX(IF(L10=\"Unknown\",ProgramYear-INDEX('Equipment Lookups'!$AF$5:$AF$38,MATCH(Inventory!BM10,'Equipment Lookups'!$J$5:$J$38,0)),_xlfn.NUMBERVALUE(RIGHT(L10,4))),INDEX(BaselineRow,1)))","v":""},"",{"$error":"#N/A"},0,"",0,0,{"$f":"HLOOKUP(BQ10,'Equipment Lookups'!$L$4:$AE$46,VLOOKUP(Inventory!BT10,'Equipment Lookups'!$J$5:$K$46,2,FALSE),TRUE)","v":{"$error":"#N/A"}},"",{"$f":"SUBSTITUTE(SUBSTITUTE(CONCATENATE(Q10, V10,IF(AND(State=\"TX\",LEFT(Q10,7)=\"Unitary\",BQ10>65000),\"Other\",W10),IF(BC10>0,IF(X10=\"\",\"A\",X10),\"\"),BS10), \" \", \"\"),\"/\",\"\")","v":{"$error":"#N/A"}},{"$f":"INDEX('Equipment Lookups'!$AG$5:$AG$46,MATCH(Inventory!BT10,'Equipment Lookups'!$J$5:$J$46,0))","v":{"$error":"#N/A"}},{"$f":"IFERROR(IF(AM10<>\"\",AM10,IF(State=\"TX\",INDEX(TX_EFLHSanAntonio[[CFAir Cooled Chiller]:[CFPTRoom]],MATCH(Inventory!C10,TX_EFLHSanAntonio[Building Type],0),MATCH(BV10,EFLH!$N$2:$Q$2,0)),VLOOKUP(C10,INDIRECT($BZ$5),4,FALSE))),\"-\")","v":"-"},{"$f":"IFERROR(IF(AK10<>\"\",AK10,IF(State=\"TX\",INDEX(TX_EFLHSanAntonio[[EFLHcAir Cooled Chiller]:[EFLHcPTRoom]],MATCH(Inventory!C10,TX_EFLHSanAntonio[Building Type],0),MATCH(BV10,EFLH!$V$2:$Y$2,0)),VLOOKUP(C10,INDIRECT($BZ$5),2,FALSE))),\"-\")","v":"-"},{"$f":"IFERROR(IF(AL10<>\"\",AL10,IF(State=\"TX\",INDEX(TX_EFLHSanAntonio[[EFLHhDX]:[EFLHhPTRoom]],MATCH(Inventory!C10,TX_EFLHSanAntonio[Building Type],0),MATCH(BV10,EFLH!$Z$2:$AA$2,0)),VLOOKUP(C10,INDIRECT($BZ$5),3,FALSE))),\"-\")","v":"-"},{"$f":"IF(AN10<>\"\",AN10,IF(State=\"TX\",INDEX(TX_EFLHSanAntonio[[NCPAir Cooled Chiller]:[NCPPTRoom]],MATCH(Inventory!C10,TX_EFLHSanAntonio[Building Type],0),MATCH(BV10,EFLH!$R$2:$U$2,0)),0))","v":0},1,{"$f":"_xlfn.SINGLE(IF(IFERROR(SEARCH(\"Terminal\",G10,1)>0,FALSE),12/(INDEX(INDIRECT(BN10),MATCH(BL10,BaselineRow,0),1)+INDEX(INDIRECT(BN10),MATCH(BL10,BaselineRow,0),2)*BJ10),INDEX(INDIRECT(BN10),MATCH(BL10,BaselineRow,0),1)))","v":{"$error":"#N/A"}},{"$error":"#N/A"},"",{"$error":"#N/A"},{"$error":"#N/A"},"",false,{"$error":"#N/A"},{"$error":"#N/A"},"","","","",{"$error":"#N/A"},{"$error":"#N/A"},{"$error":"#N/A"},0,{"$error":"#VALUE!"},{"$error":"#VALUE!"},{"$error":"#VALUE!"},{"$error":"#VALUE!"},{"$error":"#VALUE!"},{"$error":"#VALUE!"},{"$error":"#VALUE!"},{"$error":"#VALUE!"},0,0,0,0,{"$f":"INDEX('Utility Admin'!$P$2:$AD$2,1,MATCH($Q10,'Utility Admin'!$P$3:$AD$3,0))","v":{"$error":"#N/A"}},{"$f":"INDEX('Utility Admin'!AE$2:AS$2,1,MATCH($Q10,'Utility Admin'!$P$3:$AD$3,0))","v":{"$error":"#N/A"}},{"$f":"IF(kWhOverride=\"\",INDEX('Utility Admin'!$AT$2:$BH$2,1,MATCH($Q10,'Utility Admin'!$P$3:$AD$3,0)),kWhOverride)","v":{"$error":"#N/A"}},{"$f":"IF(B10=\"New Construction\",\"\",IF(L10=\"\",\"\",MAX(ProgramYear-BL10,1,)))","v":""},{"$f":"INDEX('Equipment Lookups'!$AI$5:$BV$46,MATCH(Inventory!BM10,'Equipment Lookups'!$J$5:$J$46,0),MATCH(Inventory!DH10,'Equipment Lookups'!$AI$4:$BV$4,0))","v":{"$error":"#N/A"}},{"$f":"INDEX('Equipment Lookups'!$AH$5:$AH$46,MATCH(Inventory!BT10,'Equipment Lookups'!$J$5:$J$46,0))","v":{"$error":"#N/A"}},{"$error":"#N/A"},{"$error":"#N/A"},{"$error":"#N/A"},{"$error":"#N/A"},{"$error":"#N/A"},{"$error":"#N/A"},{"$error":"#N/A"},{"$error":"#N/A"},{"$error":"#N/A"},{"$error":"#N/A"},{"$error":"#N/A"},{"$error":"#N/A"},{"$error":"#N/A"},{"$error":"#N/A"},{"$error":"#N/A"},{"$error":"#N/A"},{"$error":"#N/A"},{"$error":"#N/A"},{"$error":"#N/A"},0,0,0]
[4,null,null,null,null,null,null,null,"",null,null,null,null,null,null,null,null,null,"",null,"",null,null,"","",null,null,null,null,"",null,"",null,null,null,null,null,null,null,null,0,0,0,{"$f":"IFERROR(IF($AS$3<'Utility Admin'!$I$2,AS11,'Utility Admin'!$I$2/Inventory!$AS$3*AS11),0)","v":0},0,0,null,"","","","","",null,0,0,0,"",0,{"$f":"IF('Project Info'!$D$7=\"TX\",INDEX(EFLH!$AB$4:$AB$30,MATCH(C11,TX_EFLHSanAntonio[Building Type],0),1),'Project Info'!$D$7&\"EquipmentType\")","v":"EquipmentType"},0,0,0,{"$f":"HLOOKUP(BJ11,'Equipment Lookups'!$L$4:$AE$46,VLOOKUP(Inventory!BM11,'Equipment Lookups'!$J$5:$K$46,2,FALSE),TRUE)","v":{"$error":"#N/A"}},{"$f":"IF(L11=\"\",\"\",MAX(IF(L11=\"Unknown\",ProgramYear-INDEX('Equipment Lookups'!$AF$5:$AF$38,MATCH(Inventory!BM11,'Equipment Lookups'!$J$5:$J$38,0)),_xlfn.NUMBERVALUE(RIGHT(L11,4))),INDEX(BaselineRow,1)))","v":""},"",{"$error":"#N/A"},0,"",0,0,{"$f":"HLOOKUP(BQ11,'Equipment Lookups'!$L$4:$AE$46,VLOOKUP(Inventory!BT11,'Equipment Lookups'!$J$5:$K$46,2,FALSE),TRUE)","v":{"$error":"#N/A"}},"",{"$f":"SUBSTITUTE(SUBSTITUTE(CONCATENATE(Q11, V11,IF(AND(State=\"TX\",LEFT(Q11,7)=\"Unitary\",BQ11>65000),\"Other\",W11),IF(BC11>0,IF(X11=\"\",\"A\",X11),\"\"),BS11), \" \", \"\"),\"/\",\"\")","v":{"$error":"#N/A"}},{"$f":"INDEX('Equipment Lookups'!$AG$5:$AG$46,MATCH(Inventory!BT11,'Equipment Lookups'!$J$5:$J$46,0))","v":{"$error":"#N/A"}},{"$f":"IFERROR(IF(AM11<>\"\",AM11,IF(State=\"TX\",INDEX(TX_EFLHSanAntonio[[CFAir Cooled Chiller]:[CFPTRoom]],MATCH(Inventory!C11,TX_EFLHSanAntonio[Building Type],0),MATCH(BV11,EFLH!$N$2:$Q$2,0)),VLOOKUP(C11,INDIRECT($BZ$5),4,FALSE))),\"-\")","v":"-"},{"$f":"IFERROR(IF(AK11<>\"\",AK11,IF(State=\"TX\",INDEX(TX_EFLHSanAntonio[[EFLHcAir Cooled Chiller]:[EFLHcPTRoom]],MATCH(Inventory!C11,TX_EFLHSanAntonio[Building Type],0),MATCH(BV11,EFLH!$V$2:$Y$2,0)),VLOOKUP(C11,INDIRECT($BZ$5),2,FALSE))),\"-\")","v":"-"},{"$f":"IFERROR(IF(AL11<>\"\",AL11,IF(State=\"TX\",INDEX(TX_EFLHSanAntonio[[EFLHhDX]:[EFLHhPTRoom]],MATCH(Inventory!C11,TX_EFLHSanAntonio[Building Type],0),MATCH(BV11,EFLH!$Z$2:$AA$2,0)),VLOOKUP(C11,INDIRECT($BZ$5),3,FALSE))),\"-\")","v":"-"},{"$f":"IF(AN11<>\"\",AN11,IF(State=\"TX\",INDEX(TX_EFLHSanAntonio[[NCPAir Cooled Chiller]:[NCPPTRoom]],MATCH(Inventory!C11,TX_EFLHSanAntonio[Building Type],0),MATCH(BV11,EFLH!$R$2:$U$2,0)),0))","v":0},1,{"$f":"_xlfn.SINGLE(IF(IFERROR(SEARCH(\"Terminal\",G11,1)>0,FALSE),12/(INDEX(INDIRECT(BN11),MATCH(BL11,BaselineRow,0),1)+INDEX(INDIRECT(BN11),MATCH(BL11,BaselineRow,0),2)*BJ11),INDEX(INDIRECT(BN11),MATCH(BL11,BaselineRow,0),1)))","v":{"$error":"#N/A"}},{"$error":"#N/A"},"",{"$error":"#N/A"},{"$error":"#N/A"},"",false,{"$error":"#N/A"},{"$error":"#N/A"},"","","","",{"$error":"#N/A"},{"$error":"#N/A"},{"$error":"#N/A"},0,{"$error":"#VALUE!"},{"$error":"#VALUE!"},{"$error":"#VALUE!"},{"$error":"#VALUE!"},{"$error":"#VALUE!"},{"$error":"#VALUE!"},{"$error":"#VALUE!"},{"$error":"#VALUE!"},0,0,0,0,{"$f":"INDEX('Utility Admin'!$P$2:$AD$2,1,MATCH($Q11,'Utility Admin'!$P$3:$AD$3,0))","v":{"$error":"#N/A"}},{"$f":"INDEX('Utility Admin'!AE$2:AS$2,1,MATCH($Q11,'Utility Admin'!$P$3:$AD$3,0))","v":{"$error":"#N/A"}},{"$f":"IF(kWhOverride=\"\",INDEX('Utility Admin'!$AT$2:$BH$2,1,MATCH($Q11,'Utility Admin'!$P$3:$AD$3,0)),kWhOverride)","v":{"$error":"#N/A"}},{"$f":"IF(B11=\"New Construction\",\"\",IF(L11=\"\",\"\",MAX(ProgramYear-BL11,1,)))","v":""},{"$f":"INDEX('Equipment Lookups'!$AI$5:$BV$46,MATCH(Inventory!BM11,'Equipment Lookups'!$J$5:$J$46,0),MATCH(Inventory!DH11,'Equipment Lookups'!$AI$4:$BV$4,0))","v":{"$error":"#N/A"}},{"$f":"INDEX('Equipment Lookups'!$AH$5:$AH$46,MATCH(Inventory!BT11,'Equipment Lookups'!$J$5:$J$46,0))","v":{"$error":"#N/A"}},{"$error":"#N/A"},{"$error":"#N/A"},{"$error":"#N/A"},{"$error":"#N/A"},{"$error":"#N/A"},{"$error":"#N/A"},{"$error":"#N/A"},{"$error":"#N/A"},{"$error":"#N/A"},{"$error":"#N/A"},{"$error":"#N/A"},{"$error":"#N/A"},{"$error":"#N/A"},{"$error":"#N/A"},{"$error":"#N/A"},{"$error":"#N/A"},{"$error":"#N/A"},{"$error":"#N/A"},{"$error":"#N/A"},0,0,0]
[5,null,null,null,null,null,null,null,"",null,null,null,null,null,null,null,null,null,"",null,"",null,null,"","",null,null,null,null,"",null,"",null,null,null,null,null,null,null,null,0,0,0,{"$f":"IFERROR(IF($AS$3<'Utility Admin'!$I$2,AS12,'Utility Admin'!$I$2/Inventory!$AS$3*AS12),0)","v":0},0,0,null,"","","","","",null,0,0,0,"",0,{"$f":"IF('Project Info'!$D$7=\"TX\",INDEX(EFLH!$AB$4:$AB$30,MATCH(C12,TX_EFLHSanAntonio[Building Type],0),1),'Project Info'!$D$7&\"EquipmentType\")","v":"EquipmentType"},0,0,0,{"$f":"HLOOKUP(BJ12,'Equipment Lookups'!$L$4:$AE$46,VLOOKUP(Inventory!BM12,'Equipment Lookups'!$J$5:$K$46,2,FALSE),TRUE)","v":{"$error":"#N/A"}},{"$f":"IF(L12=\"\",\"\",MAX(IF(L12=\"Unknown\",ProgramYear-INDEX('Equipment Lookups'!$AF$5:$AF$38,MATCH(Inventory!BM12,'Equipment Lookups'!$J$5:$J$38,0)),_xlfn.NUMBERVALUE(RIGHT(L12,4))),INDEX(BaselineRow,1)))","v":""},"",{"$error":"#N/A"},0,"",0,0,{"$f":"HLOOKUP(BQ12,'Equipment Lookups'!$L$4:$AE$46,VLOOKUP(Inventory!BT12,'Equipment Lookups'!$J$5:$K$46,2,FALSE),TRUE)","v":{"$error":"#N/A"}},"",{"$f":"SUBSTITUTE(SUBSTITUTE(CONCATENATE(Q12, V12,IF(AND(State=\"TX\",LEFT(Q12,7)=\"Unitary\",BQ12>65000),\"Other\",W12),IF(BC12>0,IF(X12=\"\",\"A\",X12),\"\"),BS12), \" \", \"\"),\"/\",\"\")","v":{"$error":"#N/A"}},{"$f":"INDEX('Equipment Lookups'!$AG$5:$AG$46,MATCH(Inventory!BT12,'Equipment Lookups'!$J$5:$J$46,0))","v":{"$error":"#N/A"}},{"$f":"IFERROR(IF(AM12<>\"\",AM12,IF(State=\"TX\",INDEX(TX_EFLHSanAntonio[[CFAir Cooled Chiller]:[CFPTRoom]],MATCH(Inventory!C12,TX_EFLHSanAntonio[Building Type],0),MATCH(BV12,EFLH!$N$2:$Q$2,0)),VLOOKUP(C12,INDIRECT($BZ$5),4,FALSE))),\"-\")","v":"-"},{"$f":"IFERROR(IF(AK12<>\"\",AK12,IF(State=\"TX\",INDEX(TX_EFLHSanAntonio[[EFLHcAir Cooled Chiller]:[EFLHcPTRoom]],MATCH(Inventory!C12,TX_EFLHSanAntonio[Building Type],0),MATCH(BV12,EFLH!$V$2:$Y$2,0)),VLOOKUP(C12,INDIRECT($BZ$5),2,FALSE))),\"-\")","v":"-"},{"$f":"IFERROR(IF(AL12<>\"\",AL12,IF(State=\"TX\",INDEX(TX_EFLHSanAntonio[[EFLHhDX]:[EFLHhPTRoom]],MATCH(Inventory!C12,TX_EFLHSanAntonio[Building Type],0),MATCH(BV12,EFLH!$Z$2:$AA$2,0)),VLOOKUP(C12,INDIRECT($BZ$5),3,FALSE))),\"-\")","v":"-"},{"$f":"IF(AN12<>\"\",AN12,IF(State=\"TX\",INDEX(TX_EFLHSanAntonio[[NCPAir Cooled Chiller]:[NCPPTRoom]],MATCH(Inventory!C12,TX_EFLHSanAntonio[Building Type],0),MATCH(BV12,EFLH!$R$2:$U$2,0)),0))","v":0},1,{"$f":"_xlfn.SINGLE(IF(IFERROR(SEARCH(\"Terminal\",G12,1)>0,FALSE),12/(INDEX(INDIRECT(BN12),MATCH(BL12,BaselineRow,0),1)+INDEX(INDIRECT(BN12),MATCH(BL12,BaselineRow,0),2)*BJ12),INDEX(INDIRECT(BN12),MATCH(BL12,BaselineRow,0),1)))","v":{"$error":"#N/A"}},{"$error":"#N/A"},"",{"$error":"#N/A"},{"$error":"#N/A"},"",false,{"$error":"#N/A"},{"$error":"#N/A"},"","","","",{"$error":"#N/A"},{"$error":"#N/A"},{"$error":"#N/A"},0,{"$error":"#VALUE!"},{"$error":"#VALUE!"},{"$error":"#VALUE!"},{"$error":"#VALUE!"},{"$error":"#VALUE!"},{"$error":"#VALUE!"},{"$error":"#VALUE!"},{"$error":"#VALUE!"},0,0,0,0,{"$f":"INDEX('Utility Admin'!$P$2:$AD$2,1,MATCH($Q12,'Utility Admin'!$P$3:$AD$3,0))","v":{"$error":"#N/A"}},{"$f":"INDEX('Utility Admin'!AE$2:AS$2,1,MATCH($Q12,'Utility Admin'!$P$3:$AD$3,0))","v":{"$error":"#N/A"}},{"$f":"IF(kWhOverride=\"\",INDEX('Utility Admin'!$AT$2:$BH$2,1,MATCH($Q12,'Utility Admin'!$P$3:$AD$3,0)),kWhOverride)","v":{"$error":"#N/A"}},{"$f":"IF(B12=\"New Construction\",\"\",IF(L12=\"\",\"\",MAX(ProgramYear-BL12,1,)))","v":""},{"$f":"INDEX('Equipment Lookups'!$AI$5:$BV$46,MATCH(Inventory!BM12,'Equipment Lookups'!$J$5:$J$46,0),MATCH(Inventory!DH12,'Equipment Lookups'!$AI$4:$BV$4,0))","v":{"$error":"#N/A"}},{"$f":"INDEX('Equipment Lookups'!$AH$5:$AH$46,MATCH(Inventory!BT12,'Equipment Lookups'!$J$5:$J$46,0))","v":{"$error":"#N/A"}},{"$error":"#N/A"},{"$error":"#N/A"},{"$error":"#N/A"},{"$error":"#N/A"},{"$error":"#N/A"},{"$error":"#N/A"},{"$error":"#N/A"},{"$error":"#N/A"},{"$error":"#N/A"},{"$error":"#N/A"},{"$error":"#N/A"},{"$error":"#N/A"},{"$error":"#N/A"},{"$error":"#N/A"},{"$error":"#N/A"},{"$error":"#N/A"},{"$error":"#N/A"},{"$error":"#N/A"},{"$error":"#N/A"},0,0,0]
[6,null,null,null,null,null,null,null,"",null,null,null,null,null,null,null,null,null,"",null,"",null,null,"","",null,null,null,null,"",null,"",null,null,null,null,null,null,null,null,0,0,0,{"$f":"IFERROR(IF($AS$3<'Utility Admin'!$I$2,AS13,'Utility Admin'!$I$2/Inventory!$AS$3*AS13),0)","v":0},0,0,null,"","","","","",null,0,0,0,"",0,{"$f":"IF('Project Info'!$D$7=\"TX\",INDEX(EFLH!$AB$4:$AB$30,MATCH(C13,TX_EFLHSanAntonio[Building Type],0),1),'Project Info'!$D$7&\"EquipmentType\")","v":"EquipmentType"},0,0,0,{"$f":"HLOOKUP(BJ13,'Equipment Lookups'!$L$4:$AE$46,VLOOKUP(Inventory!BM13,'Equipment Lookups'!$J$5:$K$46,2,FALSE),TRUE)","v":{"$error":"#N/A"}},{"$f":"IF(L13=\"\",\"\",MAX(IF(L13=\"Unknown\",ProgramYear-INDEX('Equipment Lookups'!$AF$5:$AF$38,MATCH(Inventory!BM13,'Equipment Lookups'!$J$5:$J$38,0)),_xlfn.NUMBERVALUE(RIGHT(L13,4))),INDEX(BaselineRow,1)))","v":""},"",{"$error":"#N/A"},0,"",0,0,{"$f":"HLOOKUP(BQ13,'Equipment Lookups'!$L$4:$AE$46,VLOOKUP(Inventory!BT13,'Equipment Lookups'!$J$5:$K$46,2,FALSE),TRUE)","v":{"$error":"#N/A"}},"",{"$f":"SUBSTITUTE(SUBSTITUTE(CONCATENATE(Q13, V13,IF(AND(State=\"TX\",LEFT(Q13,7)=\"Unitary\",BQ13>65000),\"Other\",W13),IF(BC13>0,IF(X13=\"\",\"A\",X13),\"\"),BS13), \" \", \"\"),\"/\",\"\")","v":{"$error":"#N/A"}},{"$f":"INDEX('Equipment Lookups'!$AG$5:$AG$46,MATCH(Inventory!BT13,'Equipment Lookups'!$J$5:$J$46,0))","v":{"$error":"#N/A"}},{"$f":"IFERROR(IF(AM13<>\"\",AM13,IF(State=\"TX\",INDEX(TX_EFLHSanAntonio[[CFAir Cooled Chiller]:[CFPTRoom]],MATCH(Inventory!C13,TX_EFLHSanAntonio[Building Type],0),MATCH(BV13,EFLH!$N$2:$Q$2,0)),VLOOKUP(C13,INDIRECT($BZ$5),4,FALSE))),\"-\")","v":"-"},{"$f":"IFERROR(IF(AK13<>\"\",AK13,IF(State=\"TX\",INDEX(TX_EFLHSanAntonio[[EFLHcAir Cooled Chiller]:[EFLHcPTRoom]],MATCH(Inventory!C13,TX_EFLHSanAntonio[Building Type],0),MATCH(BV13,EFLH!$V$2:$Y$2,0)),VLOOKUP(C13,INDIRECT($BZ$5),2,FALSE))),\"-\")","v":"-"},{"$f":"IFERROR(IF(AL13<>\"\",AL13,IF(State=\"TX\",INDEX(TX_EFLHSanAntonio[[EFLHhDX]:[EFLHhPTRoom]],MATCH(Inventory!C13,TX_EFLHSanAntonio[Building Type],0),MATCH(BV13,EFLH!$Z$2:$AA$2,0)),VLOOKUP(C13,INDIRECT($BZ$5),3,FALSE))),\"-\")","v":"-"},{"$f":"IF(AN13<>\"\",AN13,IF(State=\"TX\",INDEX(TX_EFLHSanAntonio[[NCPAir Cooled Chiller]:[NCPPTRoom]],MATCH(Inventory!C13,TX_EFLHSanAntonio[Building Type],0),MATCH(BV13,EFLH!$R$2:$U$2,0)),0))","v":0},1,{"$f":"_xlfn.SINGLE(IF(IFERROR(SEARCH(\"Terminal\",G13,1)>0,FALSE),12/(INDEX(INDIRECT(BN13),MATCH(BL13,BaselineRow,0),1)+INDEX(INDIRECT(BN13),MATCH(BL13,BaselineRow,0),2)*BJ13),INDEX(INDIRECT(BN13),MATCH(BL13,BaselineRow,0),1)))","v":{"$error":"#N/A"}},{"$error":"#N/A"},"",{"$error":"#N/A"},{"$error":"#N/A"},"",false,{"$error":"#N/A"},{"$error":"#N/A"},"","","","",{"$error":"#N/A"},{"$error":"#N/A"},{"$error":"#N/A"},0,{"$error":"#VALUE!"},{"$error":"#VALUE!"},{"$error":"#VALUE!"},{"$error":"#VALUE!"},{"$error":"#VALUE!"},{"$error":"#VALUE!"},{"$error":"#VALUE!"},{"$error":"#VALUE!"},0,0,0,0,{"$f":"INDEX('Utility Admin'!$P$2:$AD$2,1,MATCH($Q13,'Utility Admin'!$P$3:$AD$3,0))","v":{"$error":"#N/A"}},{"$f":"INDEX('Utility Admin'!AE$2:AS$2,1,MATCH($Q13,'Utility Admin'!$P$3:$AD$3,0))","v":{"$error":"#N/A"}},{"$f":"IF(kWhOverride=\"\",INDEX('Utility Admin'!$AT$2:$BH$2,1,MATCH($Q13,'Utility Admin'!$P$3:$AD$3,0)),kWhOverride)","v":{"$error":"#N/A"}},{"$f":"IF(B13=\"New Construction\",\"\",IF(L13=\"\",\"\",MAX(ProgramYear-BL13,1,)))","v":""},{"$f":"INDEX('Equipment Lookups'!$AI$5:$BV$46,MATCH(Inventory!BM13,'Equipment Lookups'!$J$5:$J$46,0),MATCH(Inventory!DH13,'Equipment Lookups'!$AI$4:$BV$4,0))","v":{"$error":"#N/A"}},{"$f":"INDEX('Equipment Lookups'!$AH$5:$AH$46,MATCH(Inventory!BT13,'Equipment Lookups'!$J$5:$J$46,0))","v":{"$error":"#N/A"}},{"$error":"#N/A"},{"$error":"#N/A"},{"$error":"#N/A"},{"$error":"#N/A"},{"$error":"#N/A"},{"$error":"#N/A"},{"$error":"#N/A"},{"$error":"#N/A"},{"$error":"#N/A"},{"$error":"#N/A"},{"$error":"#N/A"},{"$error":"#N/A"},{"$error":"#N/A"},{"$error":"#N/A"},{"$error":"#N/A"},{"$error":"#N/A"},{"$error":"#N/A"},{"$error":"#N/A"},{"$error":"#N/A"},0,0,0]
[7,null,null,null,null,null,null,null,"",null,null,null,null,null,null,null,null,null,"",null,"",null,null,"","",null,null,null,null,"",null,"",null,null,null,null,null,null,null,null,0,0,0,{"$f":"IFERROR(IF($AS$3<'Utility Admin'!$I$2,AS14,'Utility Admin'!$I$2/Inventory!$AS$3*AS14),0)","v":0},0,0,null,"","","","","",null,0,0,0,"",0,{"$f":"IF('Project Info'!$D$7=\"TX\",INDEX(EFLH!$AB$4:$AB$30,MATCH(C14,TX_EFLHSanAntonio[Building Type],0),1),'Project Info'!$D$7&\"EquipmentType\")","v":"EquipmentType"},0,0,0,{"$f":"HLOOKUP(BJ14,'Equipment Lookups'!$L$4:$AE$46,VLOOKUP(Inventory!BM14,'Equipment Lookups'!$J$5:$K$46,2,FALSE),TRUE)","v":{"$error":"#N/A"}},{"$f":"IF(L14=\"\",\"\",MAX(IF(L14=\"Unknown\",ProgramYear-INDEX('Equipment Lookups'!$AF$5:$AF$38,MATCH(Inventory!BM14,'Equipment Lookups'!$J$5:$J$38,0)),_xlfn.NUMBERVALUE(RIGHT(L14,4))),INDEX(BaselineRow,1)))","v":""},"",{"$error":"#N/A"},0,"",0,0,{"$f":"HLOOKUP(BQ14,'Equipment Lookups'!$L$4:$AE$46,VLOOKUP(Inventory!BT14,'Equipment Lookups'!$J$5:$K$46,2,FALSE),TRUE)","v":{"$error":"#N/A"}},"",{"$f":"SUBSTITUTE(SUBSTITUTE(CONCATENATE(Q14, V14,IF(AND(State=\"TX\",LEFT(Q14,7)=\"Unitary\",BQ14>65000),\"Other\",W14),IF(BC14>0,IF(X14=\"\",\"A\",X14),\"\"),BS14), \" \", \"\"),\"/\",\"\")","v":{"$error":"#N/A"}},{"$f":"INDEX('Equipment Lookups'!$AG$5:$AG$46,MATCH(Inventory!BT14,'Equipment Lookups'!$J$5:$J$46,0))","v":{"$error":"#N/A"}},{"$f":"IFERROR(IF(AM14<>\"\",AM14,IF(State=\"TX\",INDEX(TX_EFLHSanAntonio[[CFAir Cooled Chiller]:[CFPTRoom]],MATCH(Inventory!C14,TX_EFLHSanAntonio[Building Type],0),MATCH(BV14,EFLH!$N$2:$Q$2,0)),VLOOKUP(C14,INDIRECT($BZ$5),4,FALSE))),\"-\")","v":"-"},{"$f":"IFERROR(IF(AK14<>\"\",AK14,IF(State=\"TX\",INDEX(TX_EFLHSanAntonio[[EFLHcAir Cooled Chiller]:[EFLHcPTRoom]],MATCH(Inventory!C14,TX_EFLHSanAntonio[Building Type],0),MATCH(BV14,EFLH!$V$2:$Y$2,0)),VLOOKUP(C14,INDIRECT($BZ$5),2,FALSE))),\"-\")","v":"-"},{"$f":"IFERROR(IF(AL14<>\"\",AL14,IF(State=\"TX\",INDEX(TX_EFLHSanAntonio[[EFLHhDX]:[EFLHhPTRoom]],MATCH(Inventory!C14,TX_EFLHSanAntonio[Building Type],0),MATCH(BV14,EFLH!$Z$2:$AA$2,0)),VLOOKUP(C14,INDIRECT($BZ$5),3,FALSE))),\"-\")","v":"-"},{"$f":"IF(AN14<>\"\",AN14,IF(State=\"TX\",INDEX(TX_EFLHSanAntonio[[NCPAir Cooled Chiller]:[NCPPTRoom]],MATCH(Inventory!C14,TX_EFLHSanAntonio[Building Type],0),MATCH(BV14,EFLH!$R$2:$U$2,0)),0))","v":0},1,{"$f":"_xlfn.SINGLE(IF(IFERROR(SEARCH(\"Terminal\",G14,1)>0,FALSE),12/(INDEX(INDIRECT(BN14),MATCH(BL14,BaselineRow,0),1)+INDEX(INDIRECT(BN14),MATCH(BL14,BaselineRow,0),2)*BJ14),INDEX(INDIRECT(BN14),MATCH(BL14,BaselineRow,0),1)))","v":{"$error":"#N/A"}},{"$error":"#N/A"},"",{"$error":"#N/A"},{"$error":"#N/A"},"",false,{"$error":"#N/A"},{"$error":"#N/A"},"","","","",{"$error":"#N/A"},{"$error":"#N/A"},{"$error":"#N/A"},0,{"$error":"#VALUE!"},{"$error":"#VALUE!"},{"$error":"#VALUE!"},{"$error":"#VALUE!"},{"$error":"#VALUE!"},{"$error":"#VALUE!"},{"$error":"#VALUE!"},{"$error":"#VALUE!"},0,0,0,0,{"$f":"INDEX('Utility Admin'!$P$2:$AD$2,1,MATCH($Q14,'Utility Admin'!$P$3:$AD$3,0))","v":{"$error":"#N/A"}},{"$f":"INDEX('Utility Admin'!AE$2:AS$2,1,MATCH($Q14,'Utility Admin'!$P$3:$AD$3,0))","v":{"$error":"#N/A"}},{"$f":"IF(kWhOverride=\"\",INDEX('Utility Admin'!$AT$2:$BH$2,1,MATCH($Q14,'Utility Admin'!$P$3:$AD$3,0)),kWhOverride)","v":{"$error":"#N/A"}},{"$f":"IF(B14=\"New Construction\",\"\",IF(L14=\"\",\"\",MAX(ProgramYear-BL14,1,)))","v":""},{"$f":"INDEX('Equipment Lookups'!$AI$5:$BV$46,MATCH(Inventory!BM14,'Equipment Lookups'!$J$5:$J$46,0),MATCH(Inventory!DH14,'Equipment Lookups'!$AI$4:$BV$4,0))","v":{"$error":"#N/A"}},{"$f":"INDEX('Equipment Lookups'!$AH$5:$AH$46,MATCH(Inventory!BT14,'Equipment Lookups'!$J$5:$J$46,0))","v":{"$error":"#N/A"}},{"$error":"#N/A"},{"$error":"#N/A"},{"$error":"#N/A"},{"$error":"#N/A"},{"$error":"#N/A"},{"$error":"#N/A"},{"$error":"#N/A"},{"$error":"#N/A"},{"$error":"#N/A"},{"$error":"#N/A"},{"$error":"#N/A"},{"$error":"#N/A"},{"$error":"#N/A"},{"$error":"#N/A"},{"$error":"#N/A"},{"$error":"#N/A"},{"$error":"#N/A"},{"$error":"#N/A"},{"$error":"#N/A"},0,0,0]
[8,null,null,null,null,null,null,null,"",null,null,null,null,null,null,null,null,null,"",null,"",null,null,"","",null,null,null,null,"",null,"",null,null,null,null,null,null,null,null,0,0,0,{"$f":"IFERROR(IF($AS$3<'Utility Admin'!$I$2,AS15,'Utility Admin'!$I$2/Inventory!$AS$3*AS15),0)","v":0},0,0,null,"","","","","",null,0,0,0,"",0,{"$f":"IF('Project Info'!$D$7=\"TX\",INDEX(EFLH!$AB$4:$AB$30,MATCH(C15,TX_EFLHSanAntonio[Building Type],0),1),'Project Info'!$D$7&\"EquipmentType\")","v":"EquipmentType"},0,0,0,{"$f":"HLOOKUP(BJ15,'Equipment Lookups'!$L$4:$AE$46,VLOOKUP(Inventory!BM15,'Equipment Lookups'!$J$5:$K$46,2,FALSE),TRUE)","v":{"$error":"#N/A"}},{"$f":"IF(L15=\"\",\"\",MAX(IF(L15=\"Unknown\",ProgramYear-INDEX('Equipment Lookups'!$AF$5:$AF$38,MATCH(Inventory!BM15,'Equipment Lookups'!$J$5:$J$38,0)),_xlfn.NUMBERVALUE(RIGHT(L15,4))),INDEX(BaselineRow,1)))","v":""},"",{"$error":"#N/A"},0,"",0,0,{"$f":"HLOOKUP(BQ15,'Equipment Lookups'!$L$4:$AE$46,VLOOKUP(Inventory!BT15,'Equipment Lookups'!$J$5:$K$46,2,FALSE),TRUE)","v":{"$error":"#N/A"}},"",{"$f":"SUBSTITUTE(SUBSTITUTE(CONCATENATE(Q15, V15,IF(AND(State=\"TX\",LEFT(Q15,7)=\"Unitary\",BQ15>65000),\"Other\",W15),IF(BC15>0,IF(X15=\"\",\"A\",X15),\"\"),BS15), \" \", \"\"),\"/\",\"\")","v":{"$error":"#N/A"}},{"$f":"INDEX('Equipment Lookups'!$AG$5:$AG$46,MATCH(Inventory!BT15,'Equipment Lookups'!$J$5:$J$46,0))","v":{"$error":"#N/A"}},{"$f":"IFERROR(IF(AM15<>\"\",AM15,IF(State=\"TX\",INDEX(TX_EFLHSanAntonio[[CFAir Cooled Chiller]:[CFPTRoom]],MATCH(Inventory!C15,TX_EFLHSanAntonio[Building Type],0),MATCH(BV15,EFLH!$N$2:$Q$2,0)),VLOOKUP(C15,INDIRECT($BZ$5),4,FALSE))),\"-\")","v":"-"},{"$f":"IFERROR(IF(AK15<>\"\",AK15,IF(State=\"TX\",INDEX(TX_EFLHSanAntonio[[EFLHcAir Cooled Chiller]:[EFLHcPTRoom]],MATCH(Inventory!C15,TX_EFLHSanAntonio[Building Type],0),MATCH(BV15,EFLH!$V$2:$Y$2,0)),VLOOKUP(C15,INDIRECT($BZ$5),2,FALSE))),\"-\")","v":"-"},{"$f":"IFERROR(IF(AL15<>\"\",AL15,IF(State=\"TX\",INDEX(TX_EFLHSanAntonio[[EFLHhDX]:[EFLHhPTRoom]],MATCH(Inventory!C15,TX_EFLHSanAntonio[Building Type],0),MATCH(BV15,EFLH!$Z$2:$AA$2,0)),VLOOKUP(C15,INDIRECT($BZ$5),3,FALSE))),\"-\")","v":"-"},{"$f":"IF(AN15<>\"\",AN15,IF(State=\"TX\",INDEX(TX_EFLHSanAntonio[[NCPAir Cooled Chiller]:[NCPPTRoom]],MATCH(Inventory!C15,TX_EFLHSanAntonio[Building Type],0),MATCH(BV15,EFLH!$R$2:$U$2,0)),0))","v":0},1,{"$f":"_xlfn.SINGLE(IF(IFERROR(SEARCH(\"Terminal\",G15,1)>0,FALSE),12/(INDEX(INDIRECT(BN15),MATCH(BL15,BaselineRow,0),1)+INDEX(INDIRECT(BN15),MATCH(BL15,BaselineRow,0),2)*BJ15),INDEX(INDIRECT(BN15),MATCH(BL15,BaselineRow,0),1)))","v":{"$error":"#N/A"}},{"$error":"#N/A"},"",{"$error":"#N/A"},{"$error":"#N/A"},"",false,{"$error":"#N/A"},{"$error":"#N/A"},"","","","",{"$error":"#N/A"},{"$error":"#N/A"},{"$error":"#N/A"},0,{"$error":"#VALUE!"},{"$error":"#VALUE!"},{"$error":"#VALUE!"},{"$error":"#VALUE!"},{"$error":"#VALUE!"},{"$error":"#VALUE!"},{"$error":"#VALUE!"},{"$error":"#VALUE!"},0,0,0,0,{"$f":"INDEX('Utility Admin'!$P$2:$AD$2,1,MATCH($Q15,'Utility Admin'!$P$3:$AD$3,0))","v":{"$error":"#N/A"}},{"$f":"INDEX('Utility Admin'!AE$2:AS$2,1,MATCH($Q15,'Utility Admin'!$P$3:$AD$3,0))","v":{"$error":"#N/A"}},{"$f":"IF(kWhOverride=\"\",INDEX('Utility Admin'!$AT$2:$BH$2,1,MATCH($Q15,'Utility Admin'!$P$3:$AD$3,0)),kWhOverride)","v":{"$error":"#N/A"}},{"$f":"IF(B15=\"New Construction\",\"\",IF(L15=\"\",\"\",MAX(ProgramYear-BL15,1,)))","v":""},{"$f":"INDEX('Equipment Lookups'!$AI$5:$BV$46,MATCH(Inventory!BM15,'Equipment Lookups'!$J$5:$J$46,0),MATCH(Inventory!DH15,'Equipment Lookups'!$AI$4:$BV$4,0))","v":{"$error":"#N/A"}},{"$f":"INDEX('Equipment Lookups'!$AH$5:$AH$46,MATCH(Inventory!BT15,'Equipment Lookups'!$J$5:$J$46,0))","v":{"$error":"#N/A"}},{"$error":"#N/A"},{"$error":"#N/A"},{"$error":"#N/A"},{"$error":"#N/A"},{"$error":"#N/A"},{"$error":"#N/A"},{"$error":"#N/A"},{"$error":"#N/A"},{"$error":"#N/A"},{"$error":"#N/A"},{"$error":"#N/A"},{"$error":"#N/A"},{"$error":"#N/A"},{"$error":"#N/A"},{"$error":"#N/A"},{"$error":"#N/A"},{"$error":"#N/A"},{"$error":"#N/A"},{"$error":"#N/A"},0,0,0]
[9,null,null,null,null,null,null,null,"",null,null,null,null,null,null,null,null,null,"",null,"",null,null,"","",null,null,null,null,"",null,"",null,null,null,null,null,null,null,null,0,0,0,{"$f":"IFERROR(IF($AS$3<'Utility Admin'!$I$2,AS16,'Utility Admin'!$I$2/Inventory!$AS$3*AS16),0)","v":0},0,0,null,"","","","","",null,0,0,0,"",0,{"$f":"IF('Project Info'!$D$7=\"TX\",INDEX(EFLH!$AB$4:$AB$30,MATCH(C16,TX_EFLHSanAntonio[Building Type],0),1),'Project Info'!$D$7&\"EquipmentType\")","v":"EquipmentType"},0,0,0,{"$f":"HLOOKUP(BJ16,'Equipment Lookups'!$L$4:$AE$46,VLOOKUP(Inventory!BM16,'Equipment Lookups'!$J$5:$K$46,2,FALSE),TRUE)","v":{"$error":"#N/A"}},{"$f":"IF(L16=\"\",\"\",MAX(IF(L16=\"Unknown\",ProgramYear-INDEX('Equipment Lookups'!$AF$5:$AF$38,MATCH(Inventory!BM16,'Equipment Lookups'!$J$5:$J$38,0)),_xlfn.NUMBERVALUE(RIGHT(L16,4))),INDEX(BaselineRow,1)))","v":""},"",{"$error":"#N/A"},0,"",0,0,{"$f":"HLOOKUP(BQ16,'Equipment Lookups'!$L$4:$AE$46,VLOOKUP(Inventory!BT16,'Equipment Lookups'!$J$5:$K$46,2,FALSE),TRUE)","v":{"$error":"#N/A"}},"",{"$f":"SUBSTITUTE(SUBSTITUTE(CONCATENATE(Q16, V16,IF(AND(State=\"TX\",LEFT(Q16,7)=\"Unitary\",BQ16>65000),\"Other\",W16),IF(BC16>0,IF(X16=\"\",\"A\",X16),\"\"),BS16), \" \", \"\"),\"/\",\"\")","v":{"$error":"#N/A"}},{"$f":"INDEX('Equipment Lookups'!$AG$5:$AG$46,MATCH(Inventory!BT16,'Equipment Lookups'!$J$5:$J$46,0))","v":{"$error":"#N/A"}},{"$f":"IFERROR(IF(AM16<>\"\",AM16,IF(State=\"TX\",INDEX(TX_EFLHSanAntonio[[CFAir Cooled Chiller]:[CFPTRoom]],MATCH(Inventory!C16,TX_EFLHSanAntonio[Building Type],0),MATCH(BV16,EFLH!$N$2:$Q$2,0)),VLOOKUP(C16,INDIRECT($BZ$5),4,FALSE))),\"-\")","v":"-"},{"$f":"IFERROR(IF(AK16<>\"\",AK16,IF(State=\"TX\",INDEX(TX_EFLHSanAntonio[[EFLHcAir Cooled Chiller]:[EFLHcPTRoom]],MATCH(Inventory!C16,TX_EFLHSanAntonio[Building Type],0),MATCH(BV16,EFLH!$V$2:$Y$2,0)),VLOOKUP(C16,INDIRECT($BZ$5),2,FALSE))),\"-\")","v":"-"},{"$f":"IFERROR(IF(AL16<>\"\",AL16,IF(State=\"TX\",INDEX(TX_EFLHSanAntonio[[EFLHhDX]:[EFLHhPTRoom]],MATCH(Inventory!C16,TX_EFLHSanAntonio[Building Type],0),MATCH(BV16,EFLH!$Z$2:$AA$2,0)),VLOOKUP(C16,INDIRECT($BZ$5),3,FALSE))),\"-\")","v":"-"},{"$f":"IF(AN16<>\"\",AN16,IF(State=\"TX\",INDEX(TX_EFLHSanAntonio[[NCPAir Cooled Chiller]:[NCPPTRoom]],MATCH(Inventory!C16,TX_EFLHSanAntonio[Building Type],0),MATCH(BV16,EFLH!$R$2:$U$2,0)),0))","v":0},1,{"$f":"_xlfn.SINGLE(IF(IFERROR(SEARCH(\"Terminal\",G16,1)>0,FALSE),12/(INDEX(INDIRECT(BN16),MATCH(BL16,BaselineRow,0),1)+INDEX(INDIRECT(BN16),MATCH(BL16,BaselineRow,0),2)*BJ16),INDEX(INDIRECT(BN16),MATCH(BL16,BaselineRow,0),1)))","v":{"$error":"#N/A"}},{"$error":"#N/A"},"",{"$error":"#N/A"},{"$error":"#N/A"},"",false,{"$error":"#N/A"},{"$error":"#N/A"},"","","","",{"$error":"#N/A"},{"$error":"#N/A"},{"$error":"#N/A"},0,{"$error":"#VALUE!"},{"$error":"#VALUE!"},{"$error":"#VALUE!"},{"$error":"#VALUE!"},{"$error":"#VALUE!"},{"$error":"#VALUE!"},{"$error":"#VALUE!"},{"$error":"#VALUE!"},0,0,0,0,{"$f":"INDEX('Utility Admin'!$P$2:$AD$2,1,MATCH($Q16,'Utility Admin'!$P$3:$AD$3,0))","v":{"$error":"#N/A"}},{"$f":"INDEX('Utility Admin'!AE$2:AS$2,1,MATCH($Q16,'Utility Admin'!$P$3:$AD$3,0))","v":{"$error":"#N/A"}},{"$f":"IF(kWhOverride=\"\",INDEX('Utility Admin'!$AT$2:$BH$2,1,MATCH($Q16,'Utility Admin'!$P$3:$AD$3,0)),kWhOverride)","v":{"$error":"#N/A"}},{"$f":"IF(B16=\"New Construction\",\"\",IF(L16=\"\",\"\",MAX(ProgramYear-BL16,1,)))","v":""},{"$f":"INDEX('Equipment Lookups'!$AI$5:$BV$46,MATCH(Inventory!BM16,'Equipment Lookups'!$J$5:$J$46,0),MATCH(Inventory!DH16,'Equipment Lookups'!$AI$4:$BV$4,0))","v":{"$error":"#N/A"}},{"$f":"INDEX('Equipment Lookups'!$AH$5:$AH$46,MATCH(Inventory!BT16,'Equipment Lookups'!$J$5:$J$46,0))","v":{"$error":"#N/A"}},{"$error":"#N/A"},{"$error":"#N/A"},{"$error":"#N/A"},{"$error":"#N/A"},{"$error":"#N/A"},{"$error":"#N/A"},{"$error":"#N/A"},{"$error":"#N/A"},{"$error":"#N/A"},{"$error":"#N/A"},{"$error":"#N/A"},{"$error":"#N/A"},{"$error":"#N/A"},{"$error":"#N/A"},{"$error":"#N/A"},{"$error":"#N/A"},{"$error":"#N/A"},{"$error":"#N/A"},{"$error":"#N/A"},0,0,0]
[10,null,null,null,null,null,null,null,"",null,null,null,null,null,null,null,null,null,"",null,"",null,null,"","",null,null,null,null,"",null,"",null,null,null,null,null,null,null,null,0,0,0,{"$f":"IFERROR(IF($AS$3<'Utility Admin'!$I$2,AS17,'Utility Admin'!$I$2/Inventory!$AS$3*AS17),0)","v":0},0,0,null,"","","","","",null,0,0,0,"",0,{"$f":"IF('Project Info'!$D$7=\"TX\",INDEX(EFLH!$AB$4:$AB$30,MATCH(C17,TX_EFLHSanAntonio[Building Type],0),1),'Project Info'!$D$7&\"EquipmentType\")","v":"EquipmentType"},0,0,0,{"$f":"HLOOKUP(BJ17,'Equipment Lookups'!$L$4:$AE$46,VLOOKUP(Inventory!BM17,'Equipment Lookups'!$J$5:$K$46,2,FALSE),TRUE)","v":{"$error":"#N/A"}},{"$f":"IF(L17=\"\",\"\",MAX(IF(L17=\"Unknown\",ProgramYear-INDEX('Equipment Lookups'!$AF$5:$AF$38,MATCH(Inventory!BM17,'Equipment Lookups'!$J$5:$J$38,0)),_xlfn.NUMBERVALUE(RIGHT(L17,4))),INDEX(BaselineRow,1)))","v":""},"",{"$error":"#N/A"},0,"",0,0,{"$f":"HLOOKUP(BQ17,'Equipment Lookups'!$L$4:$AE$46,VLOOKUP(Inventory!BT17,'Equipment Lookups'!$J$5:$K$46,2,FALSE),TRUE)","v":{"$error":"#N/A"}},"",{"$f":"SUBSTITUTE(SUBSTITUTE(CONCATENATE(Q17, V17,IF(AND(State=\"TX\",LEFT(Q17,7)=\"Unitary\",BQ17>65000),\"Other\",W17),IF(BC17>0,IF(X17=\"\",\"A\",X17),\"\"),BS17), \" \", \"\"),\"/\",\"\")","v":{"$error":"#N/A"}},{"$f":"INDEX('Equipment Lookups'!$AG$5:$AG$46,MATCH(Inventory!BT17,'Equipment Lookups'!$J$5:$J$46,0))","v":{"$error":"#N/A"}},{"$f":"IFERROR(IF(AM17<>\"\",AM17,IF(State=\"TX\",INDEX(TX_EFLHSanAntonio[[CFAir Cooled Chiller]:[CFPTRoom]],MATCH(Inventory!C17,TX_EFLHSanAntonio[Building Type],0),MATCH(BV17,EFLH!$N$2:$Q$2,0)),VLOOKUP(C17,INDIRECT($BZ$5),4,FALSE))),\"-\")","v":"-"},{"$f":"IFERROR(IF(AK17<>\"\",AK17,IF(State=\"TX\",INDEX(TX_EFLHSanAntonio[[EFLHcAir Cooled Chiller]:[EFLHcPTRoom]],MATCH(Inventory!C17,TX_EFLHSanAntonio[Building Type],0),MATCH(BV17,EFLH!$V$2:$Y$2,0)),VLOOKUP(C17,INDIRECT($BZ$5),2,FALSE))),\"-\")","v":"-"},{"$f":"IFERROR(IF(AL17<>\"\",AL17,IF(State=\"TX\",INDEX(TX_EFLHSanAntonio[[EFLHhDX]:[EFLHhPTRoom]],MATCH(Inventory!C17,TX_EFLHSanAntonio[Building Type],0),MATCH(BV17,EFLH!$Z$2:$AA$2,0)),VLOOKUP(C17,INDIRECT($BZ$5),3,FALSE))),\"-\")","v":"-"},{"$f":"IF(AN17<>\"\",AN17,IF(State=\"TX\",INDEX(TX_EFLHSanAntonio[[NCPAir Cooled Chiller]:[NCPPTRoom]],MATCH(Inventory!C17,TX_EFLHSanAntonio[Building Type],0),MATCH(BV17,EFLH!$R$2:$U$2,0)),0))","v":0},1,{"$f":"_xlfn.SINGLE(IF(IFERROR(SEARCH(\"Terminal\",G17,1)>0,FALSE),12/(INDEX(INDIRECT(BN17),MATCH(BL17,BaselineRow,0),1)+INDEX(INDIRECT(BN17),MATCH(BL17,BaselineRow,0),2)*BJ17),INDEX(INDIRECT(BN17),MATCH(BL17,BaselineRow,0),1)))","v":{"$error":"#N/A"}},{"$error":"#N/A"},"",{"$error":"#N/A"},{"$error":"#N/A"},"",false,{"$error":"#N/A"},{"$error":"#N/A"},"","","","",{"$error":"#N/A"},{"$error":"#N/A"},{"$error":"#N/A"},0,{"$error":"#VALUE!"},{"$error":"#VALUE!"},{"$error":"#VALUE!"},{"$error":"#VALUE!"},{"$error":"#VALUE!"},{"$error":"#VALUE!"},{"$error":"#VALUE!"},{"$error":"#VALUE!"},0,0,0,0,{"$f":"INDEX('Utility Admin'!$P$2:$AD$2,1,MATCH($Q17,'Utility Admin'!$P$3:$AD$3,0))","v":{"$error":"#N/A"}},{"$f":"INDEX('Utility Admin'!AE$2:AS$2,1,MATCH($Q17,'Utility Admin'!$P$3:$AD$3,0))","v":{"$error":"#N/A"}},{"$f":"IF(kWhOverride=\"\",INDEX('Utility Admin'!$AT$2:$BH$2,1,MATCH($Q17,'Utility Admin'!$P$3:$AD$3,0)),kWhOverride)","v":{"$error":"#N/A"}},{"$f":"IF(B17=\"New Construction\",\"\",IF(L17=\"\",\"\",MAX(ProgramYear-BL17,1,)))","v":""},{"$f":"INDEX('Equipment Lookups'!$AI$5:$BV$46,MATCH(Inventory!BM17,'Equipment Lookups'!$J$5:$J$46,0),MATCH(Inventory!DH17,'Equipment Lookups'!$AI$4:$BV$4,0))","v":{"$error":"#N/A"}},{"$f":"INDEX('Equipment Lookups'!$AH$5:$AH$46,MATCH(Inventory!BT17,'Equipment Lookups'!$J$5:$J$46,0))","v":{"$error":"#N/A"}},{"$error":"#N/A"},{"$error":"#N/A"},{"$error":"#N/A"},{"$error":"#N/A"},{"$error":"#N/A"},{"$error":"#N/A"},{"$error":"#N/A"},{"$error":"#N/A"},{"$error":"#N/A"},{"$error":"#N/A"},{"$error":"#N/A"},{"$error":"#N/A"},{"$error":"#N/A"},{"$error":"#N/A"},{"$error":"#N/A"},{"$error":"#N/A"},{"$error":"#N/A"},{"$error":"#N/A"},{"$error":"#N/A"},0,0,0]
[11,null,null,null,null,null,null,null,"",null,null,null,null,null,null,null,null,null,"",null,"",null,null,"","",null,null,null,null,"",null,"",null,null,null,null,null,null,null,null,0,0,0,{"$f":"IFERROR(IF($AS$3<'Utility Admin'!$I$2,AS18,'Utility Admin'!$I$2/Inventory!$AS$3*AS18),0)","v":0},0,0,null,"","","","","",null,0,0,0,"",0,{"$f":"IF('Project Info'!$D$7=\"TX\",INDEX(EFLH!$AB$4:$AB$30,MATCH(C18,TX_EFLHSanAntonio[Building Type],0),1),'Project Info'!$D$7&\"EquipmentType\")","v":"EquipmentType"},0,0,0,{"$f":"HLOOKUP(BJ18,'Equipment Lookups'!$L$4:$AE$46,VLOOKUP(Inventory!BM18,'Equipment Lookups'!$J$5:$K$46,2,FALSE),TRUE)","v":{"$error":"#N/A"}},{"$f":"IF(L18=\"\",\"\",MAX(IF(L18=\"Unknown\",ProgramYear-INDEX('Equipment Lookups'!$AF$5:$AF$38,MATCH(Inventory!BM18,'Equipment Lookups'!$J$5:$J$38,0)),_xlfn.NUMBERVALUE(RIGHT(L18,4))),INDEX(BaselineRow,1)))","v":""},"",{"$error":"#N/A"},0,"",0,0,{"$f":"HLOOKUP(BQ18,'Equipment Lookups'!$L$4:$AE$46,VLOOKUP(Inventory!BT18,'Equipment Lookups'!$J$5:$K$46,2,FALSE),TRUE)","v":{"$error":"#N/A"}},"",{"$f":"SUBSTITUTE(SUBSTITUTE(CONCATENATE(Q18, V18,IF(AND(State=\"TX\",LEFT(Q18,7)=\"Unitary\",BQ18>65000),\"Other\",W18),IF(BC18>0,IF(X18=\"\",\"A\",X18),\"\"),BS18), \" \", \"\"),\"/\",\"\")","v":{"$error":"#N/A"}},{"$f":"INDEX('Equipment Lookups'!$AG$5:$AG$46,MATCH(Inventory!BT18,'Equipment Lookups'!$J$5:$J$46,0))","v":{"$error":"#N/A"}},{"$f":"IFERROR(IF(AM18<>\"\",AM18,IF(State=\"TX\",INDEX(TX_EFLHSanAntonio[[CFAir Cooled Chiller]:[CFPTRoom]],MATCH(Inventory!C18,TX_EFLHSanAntonio[Building Type],0),MATCH(BV18,EFLH!$N$2:$Q$2,0)),VLOOKUP(C18,INDIRECT($BZ$5),4,FALSE))),\"-\")","v":"-"},{"$f":"IFERROR(IF(AK18<>\"\",AK18,IF(State=\"TX\",INDEX(TX_EFLHSanAntonio[[EFLHcAir Cooled Chiller]:[EFLHcPTRoom]],MATCH(Inventory!C18,TX_EFLHSanAntonio[Building Type],0),MATCH(BV18,EFLH!$V$2:$Y$2,0)),VLOOKUP(C18,INDIRECT($BZ$5),2,FALSE))),\"-\")","v":"-"},{"$f":"IFERROR(IF(AL18<>\"\",AL18,IF(State=\"TX\",INDEX(TX_EFLHSanAntonio[[EFLHhDX]:[EFLHhPTRoom]],MATCH(Inventory!C18,TX_EFLHSanAntonio[Building Type],0),MATCH(BV18,EFLH!$Z$2:$AA$2,0)),VLOOKUP(C18,INDIRECT($BZ$5),3,FALSE))),\"-\")","v":"-"},{"$f":"IF(AN18<>\"\",AN18,IF(State=\"TX\",INDEX(TX_EFLHSanAntonio[[NCPAir Cooled Chiller]:[NCPPTRoom]],MATCH(Inventory!C18,TX_EFLHSanAntonio[Building Type],0),MATCH(BV18,EFLH!$R$2:$U$2,0)),0))","v":0},1,{"$f":"_xlfn.SINGLE(IF(IFERROR(SEARCH(\"Terminal\",G18,1)>0,FALSE),12/(INDEX(INDIRECT(BN18),MATCH(BL18,BaselineRow,0),1)+INDEX(INDIRECT(BN18),MATCH(BL18,BaselineRow,0),2)*BJ18),INDEX(INDIRECT(BN18),MATCH(BL18,BaselineRow,0),1)))","v":{"$error":"#N/A"}},{"$error":"#N/A"},"",{"$error":"#N/A"},{"$error":"#N/A"},"",false,{"$error":"#N/A"},{"$error":"#N/A"},"","","","",{"$error":"#N/A"},{"$error":"#N/A"},{"$error":"#N/A"},0,{"$error":"#VALUE!"},{"$error":"#VALUE!"},{"$error":"#VALUE!"},{"$error":"#VALUE!"},{"$error":"#VALUE!"},{"$error":"#VALUE!"},{"$error":"#VALUE!"},{"$error":"#VALUE!"},0,0,0,0,{"$f":"INDEX('Utility Admin'!$P$2:$AD$2,1,MATCH($Q18,'Utility Admin'!$P$3:$AD$3,0))","v":{"$error":"#N/A"}},{"$f":"INDEX('Utility Admin'!AE$2:AS$2,1,MATCH($Q18,'Utility Admin'!$P$3:$AD$3,0))","v":{"$error":"#N/A"}},{"$f":"IF(kWhOverride=\"\",INDEX('Utility Admin'!$AT$2:$BH$2,1,MATCH($Q18,'Utility Admin'!$P$3:$AD$3,0)),kWhOverride)","v":{"$error":"#N/A"}},{"$f":"IF(B18=\"New Construction\",\"\",IF(L18=\"\",\"\",MAX(ProgramYear-BL18,1,)))","v":""},{"$f":"INDEX('Equipment Lookups'!$AI$5:$BV$46,MATCH(Inventory!BM18,'Equipment Lookups'!$J$5:$J$46,0),MATCH(Inventory!DH18,'Equipment Lookups'!$AI$4:$BV$4,0))","v":{"$error":"#N/A"}},{"$f":"INDEX('Equipment Lookups'!$AH$5:$AH$46,MATCH(Inventory!BT18,'Equipment Lookups'!$J$5:$J$46,0))","v":{"$error":"#N/A"}},{"$error":"#N/A"},{"$error":"#N/A"},{"$error":"#N/A"},{"$error":"#N/A"},{"$error":"#N/A"},{"$error":"#N/A"},{"$error":"#N/A"},{"$error":"#N/A"},{"$error":"#N/A"},{"$error":"#N/A"},{"$error":"#N/A"},{"$error":"#N/A"},{"$error":"#N/A"},{"$error":"#N/A"},{"$error":"#N/A"},{"$error":"#N/A"},{"$error":"#N/A"},{"$error":"#N/A"},{"$error":"#N/A"},0,0,0]
[12,null,null,null,null,null,null,null,"",null,null,null,null,null,null,null,null,null,"",null,"",null,null,"","",null,null,null,null,"",null,"",null,null,null,null,null,null,null,null,0,0,0,{"$f":"IFERROR(IF($AS$3<'Utility Admin'!$I$2,AS19,'Utility Admin'!$I$2/Inventory!$AS$3*AS19),0)","v":0},0,0,null,"","","","","",null,0,0,0,"",0,{"$f":"IF('Project Info'!$D$7=\"TX\",INDEX(EFLH!$AB$4:$AB$30,MATCH(C19,TX_EFLHSanAntonio[Building Type],0),1),'Project Info'!$D$7&\"EquipmentType\")","v":"EquipmentType"},0,0,0,{"$f":"HLOOKUP(BJ19,'Equipment Lookups'!$L$4:$AE$46,VLOOKUP(Inventory!BM19,'Equipment Lookups'!$J$5:$K$46,2,FALSE),TRUE)","v":{"$error":"#N/A"}},{"$f":"IF(L19=\"\",\"\",MAX(IF(L19=\"Unknown\",ProgramYear-INDEX('Equipment Lookups'!$AF$5:$AF$38,MATCH(Inventory!BM19,'Equipment Lookups'!$J$5:$J$38,0)),_xlfn.NUMBERVALUE(RIGHT(L19,4))),INDEX(BaselineRow,1)))","v":""},"",{"$error":"#N/A"},0,"",0,0,{"$f":"HLOOKUP(BQ19,'Equipment Lookups'!$L$4:$AE$46,VLOOKUP(Inventory!BT19,'Equipment Lookups'!$J$5:$K$46,2,FALSE),TRUE)","v":{"$error":"#N/A"}},"",{"$f":"SUBSTITUTE(SUBSTITUTE(CONCATENATE(Q19, V19,IF(AND(State=\"TX\",LEFT(Q19,7)=\"Unitary\",BQ19>65000),\"Other\",W19),IF(BC19>0,IF(X19=\"\",\"A\",X19),\"\"),BS19), \" \", \"\"),\"/\",\"\")","v":{"$error":"#N/A"}},{"$f":"INDEX('Equipment Lookups'!$AG$5:$AG$46,MATCH(Inventory!BT19,'Equipment Lookups'!$J$5:$J$46,0))","v":{"$error":"#N/A"}},{"$f":"IFERROR(IF(AM19<>\"\",AM19,IF(State=\"TX\",INDEX(TX_EFLHSanAntonio[[CFAir Cooled Chiller]:[CFPTRoom]],MATCH(Inventory!C19,TX_EFLHSanAntonio[Building Type],0),MATCH(BV19,EFLH!$N$2:$Q$2,0)),VLOOKUP(C19,INDIRECT($BZ$5),4,FALSE))),\"-\")","v":"-"},{"$f":"IFERROR(IF(AK19<>\"\",AK19,IF(State=\"TX\",INDEX(TX_EFLHSanAntonio[[EFLHcAir Cooled Chiller]:[EFLHcPTRoom]],MATCH(Inventory!C19,TX_EFLHSanAntonio[Building Type],0),MATCH(BV19,EFLH!$V$2:$Y$2,0)),VLOOKUP(C19,INDIRECT($BZ$5),2,FALSE))),\"-\")","v":"-"},{"$f":"IFERROR(IF(AL19<>\"\",AL19,IF(State=\"TX\",INDEX(TX_EFLHSanAntonio[[EFLHhDX]:[EFLHhPTRoom]],MATCH(Inventory!C19,TX_EFLHSanAntonio[Building Type],0),MATCH(BV19,EFLH!$Z$2:$AA$2,0)),VLOOKUP(C19,INDIRECT($BZ$5),3,FALSE))),\"-\")","v":"-"},{"$f":"IF(AN19<>\"\",AN19,IF(State=\"TX\",INDEX(TX_EFLHSanAntonio[[NCPAir Cooled Chiller]:[NCPPTRoom]],MATCH(Inventory!C19,TX_EFLHSanAntonio[Building Type],0),MATCH(BV19,EFLH!$R$2:$U$2,0)),0))","v":0},1,{"$f":"_xlfn.SINGLE(IF(IFERROR(SEARCH(\"Terminal\",G19,1)>0,FALSE),12/(INDEX(INDIRECT(BN19),MATCH(BL19,BaselineRow,0),1)+INDEX(INDIRECT(BN19),MATCH(BL19,BaselineRow,0),2)*BJ19),INDEX(INDIRECT(BN19),MATCH(BL19,BaselineRow,0),1)))","v":{"$error":"#N/A"}},{"$error":"#N/A"},"",{"$error":"#N/A"},{"$error":"#N/A"},"",false,{"$error":"#N/A"},{"$error":"#N/A"},"","","","",{"$error":"#N/A"},{"$error":"#N/A"},{"$error":"#N/A"},0,{"$error":"#VALUE!"},{"$error":"#VALUE!"},{"$error":"#VALUE!"},{"$error":"#VALUE!"},{"$error":"#VALUE!"},{"$error":"#VALUE!"},{"$error":"#VALUE!"},{"$error":"#VALUE!"},0,0,0,0,{"$f":"INDEX('Utility Admin'!$P$2:$AD$2,1,MATCH($Q19,'Utility Admin'!$P$3:$AD$3,0))","v":{"$error":"#N/A"}},{"$f":"INDEX('Utility Admin'!AE$2:AS$2,1,MATCH($Q19,'Utility Admin'!$P$3:$AD$3,0))","v":{"$error":"#N/A"}},{"$f":"IF(kWhOverride=\"\",INDEX('Utility Admin'!$AT$2:$BH$2,1,MATCH($Q19,'Utility Admin'!$P$3:$AD$3,0)),kWhOverride)","v":{"$error":"#N/A"}},{"$f":"IF(B19=\"New Construction\",\"\",IF(L19=\"\",\"\",MAX(ProgramYear-BL19,1,)))","v":""},{"$f":"INDEX('Equipment Lookups'!$AI$5:$BV$46,MATCH(Inventory!BM19,'Equipment Lookups'!$J$5:$J$46,0),MATCH(Inventory!DH19,'Equipment Lookups'!$AI$4:$BV$4,0))","v":{"$error":"#N/A"}},{"$f":"INDEX('Equipment Lookups'!$AH$5:$AH$46,MATCH(Inventory!BT19,'Equipment Lookups'!$J$5:$J$46,0))","v":{"$error":"#N/A"}},{"$error":"#N/A"},{"$error":"#N/A"},{"$error":"#N/A"},{"$error":"#N/A"},{"$error":"#N/A"},{"$error":"#N/A"},{"$error":"#N/A"},{"$error":"#N/A"},{"$error":"#N/A"},{"$error":"#N/A"},{"$error":"#N/A"},{"$error":"#N/A"},{"$error":"#N/A"},{"$error":"#N/A"},{"$error":"#N/A"},{"$error":"#N/A"},{"$error":"#N/A"},{"$error":"#N/A"},{"$error":"#N/A"},0,0,0]
[13,null,null,null,null,null,null,null,"",null,null,null,null,null,null,null,null,null,"",null,"",null,null,"","",null,null,null,null,"",null,"",null,null,null,null,null,null,null,null,0,0,0,{"$f":"IFERROR(IF($AS$3<'Utility Admin'!$I$2,AS20,'Utility Admin'!$I$2/Inventory!$AS$3*AS20),0)","v":0},0,0,null,"","","","","",null,0,0,0,"",0,{"$f":"IF('Project Info'!$D$7=\"TX\",INDEX(EFLH!$AB$4:$AB$30,MATCH(C20,TX_EFLHSanAntonio[Building Type],0),1),'Project Info'!$D$7&\"EquipmentType\")","v":"EquipmentType"},0,0,0,{"$f":"HLOOKUP(BJ20,'Equipment Lookups'!$L$4:$AE$46,VLOOKUP(Inventory!BM20,'Equipment Lookups'!$J$5:$K$46,2,FALSE),TRUE)","v":{"$error":"#N/A"}},{"$f":"IF(L20=\"\",\"\",MAX(IF(L20=\"Unknown\",ProgramYear-INDEX('Equipment Lookups'!$AF$5:$AF$38,MATCH(Inventory!BM20,'Equipment Lookups'!$J$5:$J$38,0)),_xlfn.NUMBERVALUE(RIGHT(L20,4))),INDEX(BaselineRow,1)))","v":""},"",{"$error":"#N/A"},0,"",0,0,{"$f":"HLOOKUP(BQ20,'Equipment Lookups'!$L$4:$AE$46,VLOOKUP(Inventory!BT20,'Equipment Lookups'!$J$5:$K$46,2,FALSE),TRUE)","v":{"$error":"#N/A"}},"",{"$f":"SUBSTITUTE(SUBSTITUTE(CONCATENATE(Q20, V20,IF(AND(State=\"TX\",LEFT(Q20,7)=\"Unitary\",BQ20>65000),\"Other\",W20),IF(BC20>0,IF(X20=\"\",\"A\",X20),\"\"),BS20), \" \", \"\"),\"/\",\"\")","v":{"$error":"#N/A"}},{"$f":"INDEX('Equipment Lookups'!$AG$5:$AG$46,MATCH(Inventory!BT20,'Equipment Lookups'!$J$5:$J$46,0))","v":{"$error":"#N/A"}},{"$f":"IFERROR(IF(AM20<>\"\",AM20,IF(State=\"TX\",INDEX(TX_EFLHSanAntonio[[CFAir Cooled Chiller]:[CFPTRoom]],MATCH(Inventory!C20,TX_EFLHSanAntonio[Building Type],0),MATCH(BV20,EFLH!$N$2:$Q$2,0)),VLOOKUP(C20,INDIRECT($BZ$5),4,FALSE))),\"-\")","v":"-"},{"$f":"IFERROR(IF(AK20<>\"\",AK20,IF(State=\"TX\",INDEX(TX_EFLHSanAntonio[[EFLHcAir Cooled Chiller]:[EFLHcPTRoom]],MATCH(Inventory!C20,TX_EFLHSanAntonio[Building Type],0),MATCH(BV20,EFLH!$V$2:$Y$2,0)),VLOOKUP(C20,INDIRECT($BZ$5),2,FALSE))),\"-\")","v":"-"},{"$f":"IFERROR(IF(AL20<>\"\",AL20,IF(State=\"TX\",INDEX(TX_EFLHSanAntonio[[EFLHhDX]:[EFLHhPTRoom]],MATCH(Inventory!C20,TX_EFLHSanAntonio[Building Type],0),MATCH(BV20,EFLH!$Z$2:$AA$2,0)),VLOOKUP(C20,INDIRECT($BZ$5),3,FALSE))),\"-\")","v":"-"},{"$f":"IF(AN20<>\"\",AN20,IF(State=\"TX\",INDEX(TX_EFLHSanAntonio[[NCPAir Cooled Chiller]:[NCPPTRoom]],MATCH(Inventory!C20,TX_EFLHSanAntonio[Building Type],0),MATCH(BV20,EFLH!$R$2:$U$2,0)),0))","v":0},1,{"$f":"_xlfn.SINGLE(IF(IFERROR(SEARCH(\"Terminal\",G20,1)>0,FALSE),12/(INDEX(INDIRECT(BN20),MATCH(BL20,BaselineRow,0),1)+INDEX(INDIRECT(BN20),MATCH(BL20,BaselineRow,0),2)*BJ20),INDEX(INDIRECT(BN20),MATCH(BL20,BaselineRow,0),1)))","v":{"$error":"#N/A"}},{"$error":"#N/A"},"",{"$error":"#N/A"},{"$error":"#N/A"},"",false,{"$error":"#N/A"},{"$error":"#N/A"},"","","","",{"$error":"#N/A"},{"$error":"#N/A"},{"$error":"#N/A"},0,{"$error":"#VALUE!"},{"$error":"#VALUE!"},{"$error":"#VALUE!"},{"$error":"#VALUE!"},{"$error":"#VALUE!"},{"$error":"#VALUE!"},{"$error":"#VALUE!"},{"$error":"#VALUE!"},0,0,0,0,{"$f":"INDEX('Utility Admin'!$P$2:$AD$2,1,MATCH($Q20,'Utility Admin'!$P$3:$AD$3,0))","v":{"$error":"#N/A"}},{"$f":"INDEX('Utility Admin'!AE$2:AS$2,1,MATCH($Q20,'Utility Admin'!$P$3:$AD$3,0))","v":{"$error":"#N/A"}},{"$f":"IF(kWhOverride=\"\",INDEX('Utility Admin'!$AT$2:$BH$2,1,MATCH($Q20,'Utility Admin'!$P$3:$AD$3,0)),kWhOverride)","v":{"$error":"#N/A"}},{"$f":"IF(B20=\"New Construction\",\"\",IF(L20=\"\",\"\",MAX(ProgramYear-BL20,1,)))","v":""},{"$f":"INDEX('Equipment Lookups'!$AI$5:$BV$46,MATCH(Inventory!BM20,'Equipment Lookups'!$J$5:$J$46,0),MATCH(Inventory!DH20,'Equipment Lookups'!$AI$4:$BV$4,0))","v":{"$error":"#N/A"}},{"$f":"INDEX('Equipment Lookups'!$AH$5:$AH$46,MATCH(Inventory!BT20,'Equipment Lookups'!$J$5:$J$46,0))","v":{"$error":"#N/A"}},{"$error":"#N/A"},{"$error":"#N/A"},{"$error":"#N/A"},{"$error":"#N/A"},{"$error":"#N/A"},{"$error":"#N/A"},{"$error":"#N/A"},{"$error":"#N/A"},{"$error":"#N/A"},{"$error":"#N/A"},{"$error":"#N/A"},{"$error":"#N/A"},{"$error":"#N/A"},{"$error":"#N/A"},{"$error":"#N/A"},{"$error":"#N/A"},{"$error":"#N/A"},{"$error":"#N/A"},{"$error":"#N/A"},0,0,0]
[14,null,null,null,null,null,null,null,"",null,null,null,null,null,null,null,null,null,"",null,"",null,null,"","",null,null,null,null,"",null,"",null,null,null,null,null,null,null,null,0,0,0,{"$f":"IFERROR(IF($AS$3<'Utility Admin'!$I$2,AS21,'Utility Admin'!$I$2/Inventory!$AS$3*AS21),0)","v":0},0,0,null,"","","","","",null,0,0,0,"",0,{"$f":"IF('Project Info'!$D$7=\"TX\",INDEX(EFLH!$AB$4:$AB$30,MATCH(C21,TX_EFLHSanAntonio[Building Type],0),1),'Project Info'!$D$7&\"EquipmentType\")","v":"EquipmentType"},0,0,0,{"$f":"HLOOKUP(BJ21,'Equipment Lookups'!$L$4:$AE$46,VLOOKUP(Inventory!BM21,'Equipment Lookups'!$J$5:$K$46,2,FALSE),TRUE)","v":{"$error":"#N/A"}},{"$f":"IF(L21=\"\",\"\",MAX(IF(L21=\"Unknown\",ProgramYear-INDEX('Equipment Lookups'!$AF$5:$AF$38,MATCH(Inventory!BM21,'Equipment Lookups'!$J$5:$J$38,0)),_xlfn.NUMBERVALUE(RIGHT(L21,4))),INDEX(BaselineRow,1)))","v":""},"",{"$error":"#N/A"},0,"",0,0,{"$f":"HLOOKUP(BQ21,'Equipment Lookups'!$L$4:$AE$46,VLOOKUP(Inventory!BT21,'Equipment Lookups'!$J$5:$K$46,2,FALSE),TRUE)","v":{"$error":"#N/A"}},"",{"$f":"SUBSTITUTE(SUBSTITUTE(CONCATENATE(Q21, V21,IF(AND(State=\"TX\",LEFT(Q21,7)=\"Unitary\",BQ21>65000),\"Other\",W21),IF(BC21>0,IF(X21=\"\",\"A\",X21),\"\"),BS21), \" \", \"\"),\"/\",\"\")","v":{"$error":"#N/A"}},{"$f":"INDEX('Equipment Lookups'!$AG$5:$AG$46,MATCH(Inventory!BT21,'Equipment Lookups'!$J$5:$J$46,0))","v":{"$error":"#N/A"}},{"$f":"IFERROR(IF(AM21<>\"\",AM21,IF(State=\"TX\",INDEX(TX_EFLHSanAntonio[[CFAir Cooled Chiller]:[CFPTRoom]],MATCH(Inventory!C21,TX_EFLHSanAntonio[Building Type],0),MATCH(BV21,EFLH!$N$2:$Q$2,0)),VLOOKUP(C21,INDIRECT($BZ$5),4,FALSE))),\"-\")","v":"-"},{"$f":"IFERROR(IF(AK21<>\"\",AK21,IF(State=\"TX\",INDEX(TX_EFLHSanAntonio[[EFLHcAir Cooled Chiller]:[EFLHcPTRoom]],MATCH(Inventory!C21,TX_EFLHSanAntonio[Building Type],0),MATCH(BV21,EFLH!$V$2:$Y$2,0)),VLOOKUP(C21,INDIRECT($BZ$5),2,FALSE))),\"-\")","v":"-"},{"$f":"IFERROR(IF(AL21<>\"\",AL21,IF(State=\"TX\",INDEX(TX_EFLHSanAntonio[[EFLHhDX]:[EFLHhPTRoom]],MATCH(Inventory!C21,TX_EFLHSanAntonio[Building Type],0),MATCH(BV21,EFLH!$Z$2:$AA$2,0)),VLOOKUP(C21,INDIRECT($BZ$5),3,FALSE))),\"-\")","v":"-"},{"$f":"IF(AN21<>\"\",AN21,IF(State=\"TX\",INDEX(TX_EFLHSanAntonio[[NCPAir Cooled Chiller]:[NCPPTRoom]],MATCH(Inventory!C21,TX_EFLHSanAntonio[Building Type],0),MATCH(BV21,EFLH!$R$2:$U$2,0)),0))","v":0},1,{"$f":"_xlfn.SINGLE(IF(IFERROR(SEARCH(\"Terminal\",G21,1)>0,FALSE),12/(INDEX(INDIRECT(BN21),MATCH(BL21,BaselineRow,0),1)+INDEX(INDIRECT(BN21),MATCH(BL21,BaselineRow,0),2)*BJ21),INDEX(INDIRECT(BN21),MATCH(BL21,BaselineRow,0),1)))","v":{"$error":"#N/A"}},{"$error":"#N/A"},"",{"$error":"#N/A"},{"$error":"#N/A"},"",false,{"$error":"#N/A"},{"$error":"#N/A"},"","","","",{"$error":"#N/A"},{"$error":"#N/A"},{"$error":"#N/A"},0,{"$error":"#VALUE!"},{"$error":"#VALUE!"},{"$error":"#VALUE!"},{"$error":"#VALUE!"},{"$error":"#VALUE!"},{"$error":"#VALUE!"},{"$error":"#VALUE!"},{"$error":"#VALUE!"},0,0,0,0,{"$f":"INDEX('Utility Admin'!$P$2:$AD$2,1,MATCH($Q21,'Utility Admin'!$P$3:$AD$3,0))","v":{"$error":"#N/A"}},{"$f":"INDEX('Utility Admin'!AE$2:AS$2,1,MATCH($Q21,'Utility Admin'!$P$3:$AD$3,0))","v":{"$error":"#N/A"}},{"$f":"IF(kWhOverride=\"\",INDEX('Utility Admin'!$AT$2:$BH$2,1,MATCH($Q21,'Utility Admin'!$P$3:$AD$3,0)),kWhOverride)","v":{"$error":"#N/A"}},{"$f":"IF(B21=\"New Construction\",\"\",IF(L21=\"\",\"\",MAX(ProgramYear-BL21,1,)))","v":""},{"$f":"INDEX('Equipment Lookups'!$AI$5:$BV$46,MATCH(Inventory!BM21,'Equipment Lookups'!$J$5:$J$46,0),MATCH(Inventory!DH21,'Equipment Lookups'!$AI$4:$BV$4,0))","v":{"$error":"#N/A"}},{"$f":"INDEX('Equipment Lookups'!$AH$5:$AH$46,MATCH(Inventory!BT21,'Equipment Lookups'!$J$5:$J$46,0))","v":{"$error":"#N/A"}},{"$error":"#N/A"},{"$error":"#N/A"},{"$error":"#N/A"},{"$error":"#N/A"},{"$error":"#N/A"},{"$error":"#N/A"},{"$error":"#N/A"},{"$error":"#N/A"},{"$error":"#N/A"},{"$error":"#N/A"},{"$error":"#N/A"},{"$error":"#N/A"},{"$error":"#N/A"},{"$error":"#N/A"},{"$error":"#N/A"},{"$error":"#N/A"},{"$error":"#N/A"},{"$error":"#N/A"},{"$error":"#N/A"},0,0,0]
[15,null,null,null,null,null,null,null,"",null,null,null,null,null,null,null,null,null,"",null,"",null,null,"","",null,null,null,null,"",null,"",null,null,null,null,null,null,null,null,0,0,0,{"$f":"IFERROR(IF($AS$3<'Utility Admin'!$I$2,AS22,'Utility Admin'!$I$2/Inventory!$AS$3*AS22),0)","v":0},0,0,null,"","","","","",null,0,0,0,"",0,{"$f":"IF('Project Info'!$D$7=\"TX\",INDEX(EFLH!$AB$4:$AB$30,MATCH(C22,TX_EFLHSanAntonio[Building Type],0),1),'Project Info'!$D$7&\"EquipmentType\")","v":"EquipmentType"},0,0,0,{"$f":"HLOOKUP(BJ22,'Equipment Lookups'!$L$4:$AE$46,VLOOKUP(Inventory!BM22,'Equipment Lookups'!$J$5:$K$46,2,FALSE),TRUE)","v":{"$error":"#N/A"}},{"$f":"IF(L22=\"\",\"\",MAX(IF(L22=\"Unknown\",ProgramYear-INDEX('Equipment Lookups'!$AF$5:$AF$38,MATCH(Inventory!BM22,'Equipment Lookups'!$J$5:$J$38,0)),_xlfn.NUMBERVALUE(RIGHT(L22,4))),INDEX(BaselineRow,1)))","v":""},"",{"$error":"#N/A"},0,"",0,0,{"$f":"HLOOKUP(BQ22,'Equipment Lookups'!$L$4:$AE$46,VLOOKUP(Inventory!BT22,'Equipment Lookups'!$J$5:$K$46,2,FALSE),TRUE)","v":{"$error":"#N/A"}},"",{"$f":"SUBSTITUTE(SUBSTITUTE(CONCATENATE(Q22, V22,IF(AND(State=\"TX\",LEFT(Q22,7)=\"Unitary\",BQ22>65000),\"Other\",W22),IF(BC22>0,IF(X22=\"\",\"A\",X22),\"\"),BS22), \" \", \"\"),\"/\",\"\")","v":{"$error":"#N/A"}},{"$f":"INDEX('Equipment Lookups'!$AG$5:$AG$46,MATCH(Inventory!BT22,'Equipment Lookups'!$J$5:$J$46,0))","v":{"$error":"#N/A"}},{"$f":"IFERROR(IF(AM22<>\"\",AM22,IF(State=\"TX\",INDEX(TX_EFLHSanAntonio[[CFAir Cooled Chiller]:[CFPTRoom]],MATCH(Inventory!C22,TX_EFLHSanAntonio[Building Type],0),MATCH(BV22,EFLH!$N$2:$Q$2,0)),VLOOKUP(C22,INDIRECT($BZ$5),4,FALSE))),\"-\")","v":"-"},{"$f":"IFERROR(IF(AK22<>\"\",AK22,IF(State=\"TX\",INDEX(TX_EFLHSanAntonio[[EFLHcAir Cooled Chiller]:[EFLHcPTRoom]],MATCH(Inventory!C22,TX_EFLHSanAntonio[Building Type],0),MATCH(BV22,EFLH!$V$2:$Y$2,0)),VLOOKUP(C22,INDIRECT($BZ$5),2,FALSE))),\"-\")","v":"-"},{"$f":"IFERROR(IF(AL22<>\"\",AL22,IF(State=\"TX\",INDEX(TX_EFLHSanAntonio[[EFLHhDX]:[EFLHhPTRoom]],MATCH(Inventory!C22,TX_EFLHSanAntonio[Building Type],0),MATCH(BV22,EFLH!$Z$2:$AA$2,0)),VLOOKUP(C22,INDIRECT($BZ$5),3,FALSE))),\"-\")","v":"-"},{"$f":"IF(AN22<>\"\",AN22,IF(State=\"TX\",INDEX(TX_EFLHSanAntonio[[NCPAir Cooled Chiller]:[NCPPTRoom]],MATCH(Inventory!C22,TX_EFLHSanAntonio[Building Type],0),MATCH(BV22,EFLH!$R$2:$U$2,0)),0))","v":0},1,{"$f":"_xlfn.SINGLE(IF(IFERROR(SEARCH(\"Terminal\",G22,1)>0,FALSE),12/(INDEX(INDIRECT(BN22),MATCH(BL22,BaselineRow,0),1)+INDEX(INDIRECT(BN22),MATCH(BL22,BaselineRow,0),2)*BJ22),INDEX(INDIRECT(BN22),MATCH(BL22,BaselineRow,0),1)))","v":{"$error":"#N/A"}},{"$error":"#N/A"},"",{"$error":"#N/A"},{"$error":"#N/A"},"",false,{"$error":"#N/A"},{"$error":"#N/A"},"","","","",{"$error":"#N/A"},{"$error":"#N/A"},{"$error":"#N/A"},0,{"$error":"#VALUE!"},{"$error":"#VALUE!"},{"$error":"#VALUE!"},{"$error":"#VALUE!"},{"$error":"#VALUE!"},{"$error":"#VALUE!"},{"$error":"#VALUE!"},{"$error":"#VALUE!"},0,0,0,0,{"$f":"INDEX('Utility Admin'!$P$2:$AD$2,1,MATCH($Q22,'Utility Admin'!$P$3:$AD$3,0))","v":{"$error":"#N/A"}},{"$f":"INDEX('Utility Admin'!AE$2:AS$2,1,MATCH($Q22,'Utility Admin'!$P$3:$AD$3,0))","v":{"$error":"#N/A"}},{"$f":"IF(kWhOverride=\"\",INDEX('Utility Admin'!$AT$2:$BH$2,1,MATCH($Q22,'Utility Admin'!$P$3:$AD$3,0)),kWhOverride)","v":{"$error":"#N/A"}},{"$f":"IF(B22=\"New Construction\",\"\",IF(L22=\"\",\"\",MAX(ProgramYear-BL22,1,)))","v":""},{"$f":"INDEX('Equipment Lookups'!$AI$5:$BV$46,MATCH(Inventory!BM22,'Equipment Lookups'!$J$5:$J$46,0),MATCH(Inventory!DH22,'Equipment Lookups'!$AI$4:$BV$4,0))","v":{"$error":"#N/A"}},{"$f":"INDEX('Equipment Lookups'!$AH$5:$AH$46,MATCH(Inventory!BT22,'Equipment Lookups'!$J$5:$J$46,0))","v":{"$error":"#N/A"}},{"$error":"#N/A"},{"$error":"#N/A"},{"$error":"#N/A"},{"$error":"#N/A"},{"$error":"#N/A"},{"$error":"#N/A"},{"$error":"#N/A"},{"$error":"#N/A"},{"$error":"#N/A"},{"$error":"#N/A"},{"$error":"#N/A"},{"$error":"#N/A"},{"$error":"#N/A"},{"$error":"#N/A"},{"$error":"#N/A"},{"$error":"#N/A"},{"$error":"#N/A"},{"$error":"#N/A"},{"$error":"#N/A"},0,0,0]
[16,null,null,null,null,null,null,null,"",null,null,null,null,null,null,null,null,null,"",null,"",null,null,"","",null,null,null,null,"",null,"",null,null,null,null,null,null,null,null,0,0,0,{"$f":"IFERROR(IF($AS$3<'Utility Admin'!$I$2,AS23,'Utility Admin'!$I$2/Inventory!$AS$3*AS23),0)","v":0},0,0,null,"","","","","",null,0,0,0,"",0,{"$f":"IF('Project Info'!$D$7=\"TX\",INDEX(EFLH!$AB$4:$AB$30,MATCH(C23,TX_EFLHSanAntonio[Building Type],0),1),'Project Info'!$D$7&\"EquipmentType\")","v":"EquipmentType"},0,0,0,{"$f":"HLOOKUP(BJ23,'Equipment Lookups'!$L$4:$AE$46,VLOOKUP(Inventory!BM23,'Equipment Lookups'!$J$5:$K$46,2,FALSE),TRUE)","v":{"$error":"#N/A"}},{"$f":"IF(L23=\"\",\"\",MAX(IF(L23=\"Unknown\",ProgramYear-INDEX('Equipment Lookups'!$AF$5:$AF$38,MATCH(Inventory!BM23,'Equipment Lookups'!$J$5:$J$38,0)),_xlfn.NUMBERVALUE(RIGHT(L23,4))),INDEX(BaselineRow,1)))","v":""},"",{"$error":"#N/A"},0,"",0,0,{"$f":"HLOOKUP(BQ23,'Equipment Lookups'!$L$4:$AE$46,VLOOKUP(Inventory!BT23,'Equipment Lookups'!$J$5:$K$46,2,FALSE),TRUE)","v":{"$error":"#N/A"}},"",{"$f":"SUBSTITUTE(SUBSTITUTE(CONCATENATE(Q23, V23,IF(AND(State=\"TX\",LEFT(Q23,7)=\"Unitary\",BQ23>65000),\"Other\",W23),IF(BC23>0,IF(X23=\"\",\"A\",X23),\"\"),BS23), \" \", \"\"),\"/\",\"\")","v":{"$error":"#N/A"}},{"$f":"INDEX('Equipment Lookups'!$AG$5:$AG$46,MATCH(Inventory!BT23,'Equipment Lookups'!$J$5:$J$46,0))","v":{"$error":"#N/A"}},{"$f":"IFERROR(IF(AM23<>\"\",AM23,IF(State=\"TX\",INDEX(TX_EFLHSanAntonio[[CFAir Cooled Chiller]:[CFPTRoom]],MATCH(Inventory!C23,TX_EFLHSanAntonio[Building Type],0),MATCH(BV23,EFLH!$N$2:$Q$2,0)),VLOOKUP(C23,INDIRECT($BZ$5),4,FALSE))),\"-\")","v":"-"},{"$f":"IFERROR(IF(AK23<>\"\",AK23,IF(State=\"TX\",INDEX(TX_EFLHSanAntonio[[EFLHcAir Cooled Chiller]:[EFLHcPTRoom]],MATCH(Inventory!C23,TX_EFLHSanAntonio[Building Type],0),MATCH(BV23,EFLH!$V$2:$Y$2,0)),VLOOKUP(C23,INDIRECT($BZ$5),2,FALSE))),\"-\")","v":"-"},{"$f":"IFERROR(IF(AL23<>\"\",AL23,IF(State=\"TX\",INDEX(TX_EFLHSanAntonio[[EFLHhDX]:[EFLHhPTRoom]],MATCH(Inventory!C23,TX_EFLHSanAntonio[Building Type],0),MATCH(BV23,EFLH!$Z$2:$AA$2,0)),VLOOKUP(C23,INDIRECT($BZ$5),3,FALSE))),\"-\")","v":"-"},{"$f":"IF(AN23<>\"\",AN23,IF(State=\"TX\",INDEX(TX_EFLHSanAntonio[[NCPAir Cooled Chiller]:[NCPPTRoom]],MATCH(Inventory!C23,TX_EFLHSanAntonio[Building Type],0),MATCH(BV23,EFLH!$R$2:$U$2,0)),0))","v":0},1,{"$f":"_xlfn.SINGLE(IF(IFERROR(SEARCH(\"Terminal\",G23,1)>0,FALSE),12/(INDEX(INDIRECT(BN23),MATCH(BL23,BaselineRow,0),1)+INDEX(INDIRECT(BN23),MATCH(BL23,BaselineRow,0),2)*BJ23),INDEX(INDIRECT(BN23),MATCH(BL23,BaselineRow,0),1)))","v":{"$error":"#N/A"}},{"$error":"#N/A"},"",{"$error":"#N/A"},{"$error":"#N/A"},"",false,{"$error":"#N/A"},{"$error":"#N/A"},"","","","",{"$error":"#N/A"},{"$error":"#N/A"},{"$error":"#N/A"},0,{"$error":"#VALUE!"},{"$error":"#VALUE!"},{"$error":"#VALUE!"},{"$error":"#VALUE!"},{"$error":"#VALUE!"},{"$error":"#VALUE!"},{"$error":"#VALUE!"},{"$error":"#VALUE!"},0,0,0,0,{"$f":"INDEX('Utility Admin'!$P$2:$AD$2,1,MATCH($Q23,'Utility Admin'!$P$3:$AD$3,0))","v":{"$error":"#N/A"}},{"$f":"INDEX('Utility Admin'!AE$2:AS$2,1,MATCH($Q23,'Utility Admin'!$P$3:$AD$3,0))","v":{"$error":"#N/A"}},{"$f":"IF(kWhOverride=\"\",INDEX('Utility Admin'!$AT$2:$BH$2,1,MATCH($Q23,'Utility Admin'!$P$3:$AD$3,0)),kWhOverride)","v":{"$error":"#N/A"}},{"$f":"IF(B23=\"New Construction\",\"\",IF(L23=\"\",\"\",MAX(ProgramYear-BL23,1,)))","v":""},{"$f":"INDEX('Equipment Lookups'!$AI$5:$BV$46,MATCH(Inventory!BM23,'Equipment Lookups'!$J$5:$J$46,0),MATCH(Inventory!DH23,'Equipment Lookups'!$AI$4:$BV$4,0))","v":{"$error":"#N/A"}},{"$f":"INDEX('Equipment Lookups'!$AH$5:$AH$46,MATCH(Inventory!BT23,'Equipment Lookups'!$J$5:$J$46,0))","v":{"$error":"#N/A"}},{"$error":"#N/A"},{"$error":"#N/A"},{"$error":"#N/A"},{"$error":"#N/A"},{"$error":"#N/A"},{"$error":"#N/A"},{"$error":"#N/A"},{"$error":"#N/A"},{"$error":"#N/A"},{"$error":"#N/A"},{"$error":"#N/A"},{"$error":"#N/A"},{"$error":"#N/A"},{"$error":"#N/A"},{"$error":"#N/A"},{"$error":"#N/A"},{"$error":"#N/A"},{"$error":"#N/A"},{"$error":"#N/A"},0,0,0]
[17,null,null,null,null,null,null,null,"",null,null,null,null,null,null,null,null,null,"",null,"",null,null,"","",null,null,null,null,"",null,"",null,null,null,null,null,null,null,null,0,0,0,{"$f":"IFERROR(IF($AS$3<'Utility Admin'!$I$2,AS24,'Utility Admin'!$I$2/Inventory!$AS$3*AS24),0)","v":0},0,0,null,"","","","","",null,0,0,0,"",0,{"$f":"IF('Project Info'!$D$7=\"TX\",INDEX(EFLH!$AB$4:$AB$30,MATCH(C24,TX_EFLHSanAntonio[Building Type],0),1),'Project Info'!$D$7&\"EquipmentType\")","v":"EquipmentType"},0,0,0,{"$f":"HLOOKUP(BJ24,'Equipment Lookups'!$L$4:$AE$46,VLOOKUP(Inventory!BM24,'Equipment Lookups'!$J$5:$K$46,2,FALSE),TRUE)","v":{"$error":"#N/A"}},{"$f":"IF(L24=\"\",\"\",MAX(IF(L24=\"Unknown\",ProgramYear-INDEX('Equipment Lookups'!$AF$5:$AF$38,MATCH(Inventory!BM24,'Equipment Lookups'!$J$5:$J$38,0)),_xlfn.NUMBERVALUE(RIGHT(L24,4))),INDEX(BaselineRow,1)))","v":""},"",{"$error":"#N/A"},0,"",0,0,{"$f":"HLOOKUP(BQ24,'Equipment Lookups'!$L$4:$AE$46,VLOOKUP(Inventory!BT24,'Equipment Lookups'!$J$5:$K$46,2,FALSE),TRUE)","v":{"$error":"#N/A"}},"",{"$f":"SUBSTITUTE(SUBSTITUTE(CONCATENATE(Q24, V24,IF(AND(State=\"TX\",LEFT(Q24,7)=\"Unitary\",BQ24>65000),\"Other\",W24),IF(BC24>0,IF(X24=\"\",\"A\",X24),\"\"),BS24), \" \", \"\"),\"/\",\"\")","v":{"$error":"#N/A"}},{"$f":"INDEX('Equipment Lookups'!$AG$5:$AG$46,MATCH(Inventory!BT24,'Equipment Lookups'!$J$5:$J$46,0))","v":{"$error":"#N/A"}},{"$f":"IFERROR(IF(AM24<>\"\",AM24,IF(State=\"TX\",INDEX(TX_EFLHSanAntonio[[CFAir Cooled Chiller]:[CFPTRoom]],MATCH(Inventory!C24,TX_EFLHSanAntonio[Building Type],0),MATCH(BV24,EFLH!$N$2:$Q$2,0)),VLOOKUP(C24,INDIRECT($BZ$5),4,FALSE))),\"-\")","v":"-"},{"$f":"IFERROR(IF(AK24<>\"\",AK24,IF(State=\"TX\",INDEX(TX_EFLHSanAntonio[[EFLHcAir Cooled Chiller]:[EFLHcPTRoom]],MATCH(Inventory!C24,TX_EFLHSanAntonio[Building Type],0),MATCH(BV24,EFLH!$V$2:$Y$2,0)),VLOOKUP(C24,INDIRECT($BZ$5),2,FALSE))),\"-\")","v":"-"},{"$f":"IFERROR(IF(AL24<>\"\",AL24,IF(State=\"TX\",INDEX(TX_EFLHSanAntonio[[EFLHhDX]:[EFLHhPTRoom]],MATCH(Inventory!C24,TX_EFLHSanAntonio[Building Type],0),MATCH(BV24,EFLH!$Z$2:$AA$2,0)),VLOOKUP(C24,INDIRECT($BZ$5),3,FALSE))),\"-\")","v":"-"},{"$f":"IF(AN24<>\"\",AN24,IF(State=\"TX\",INDEX(TX_EFLHSanAntonio[[NCPAir Cooled Chiller]:[NCPPTRoom]],MATCH(Inventory!C24,TX_EFLHSanAntonio[Building Type],0),MATCH(BV24,EFLH!$R$2:$U$2,0)),0))","v":0},1,{"$f":"_xlfn.SINGLE(IF(IFERROR(SEARCH(\"Terminal\",G24,1)>0,FALSE),12/(INDEX(INDIRECT(BN24),MATCH(BL24,BaselineRow,0),1)+INDEX(INDIRECT(BN24),MATCH(BL24,BaselineRow,0),2)*BJ24),INDEX(INDIRECT(BN24),MATCH(BL24,BaselineRow,0),1)))","v":{"$error":"#N/A"}},{"$error":"#N/A"},"",{"$error":"#N/A"},{"$error":"#N/A"},"",false,{"$error":"#N/A"},{"$error":"#N/A"},"","","","",{"$error":"#N/A"},{"$error":"#N/A"},{"$error":"#N/A"},0,{"$error":"#VALUE!"},{"$error":"#VALUE!"},{"$error":"#VALUE!"},{"$error":"#VALUE!"},{"$error":"#VALUE!"},{"$error":"#VALUE!"},{"$error":"#VALUE!"},{"$error":"#VALUE!"},0,0,0,0,{"$f":"INDEX('Utility Admin'!$P$2:$AD$2,1,MATCH($Q24,'Utility Admin'!$P$3:$AD$3,0))","v":{"$error":"#N/A"}},{"$f":"INDEX('Utility Admin'!AE$2:AS$2,1,MATCH($Q24,'Utility Admin'!$P$3:$AD$3,0))","v":{"$error":"#N/A"}},{"$f":"IF(kWhOverride=\"\",INDEX('Utility Admin'!$AT$2:$BH$2,1,MATCH($Q24,'Utility Admin'!$P$3:$AD$3,0)),kWhOverride)","v":{"$error":"#N/A"}},{"$f":"IF(B24=\"New Construction\",\"\",IF(L24=\"\",\"\",MAX(ProgramYear-BL24,1,)))","v":""},{"$f":"INDEX('Equipment Lookups'!$AI$5:$BV$46,MATCH(Inventory!BM24,'Equipment Lookups'!$J$5:$J$46,0),MATCH(Inventory!DH24,'Equipment Lookups'!$AI$4:$BV$4,0))","v":{"$error":"#N/A"}},{"$f":"INDEX('Equipment Lookups'!$AH$5:$AH$46,MATCH(Inventory!BT24,'Equipment Lookups'!$J$5:$J$46,0))","v":{"$error":"#N/A"}},{"$error":"#N/A"},{"$error":"#N/A"},{"$error":"#N/A"},{"$error":"#N/A"},{"$error":"#N/A"},{"$error":"#N/A"},{"$error":"#N/A"},{"$error":"#N/A"},{"$error":"#N/A"},{"$error":"#N/A"},{"$error":"#N/A"},{"$error":"#N/A"},{"$error":"#N/A"},{"$error":"#N/A"},{"$error":"#N/A"},{"$error":"#N/A"},{"$error":"#N/A"},{"$error":"#N/A"},{"$error":"#N/A"},0,0,0]
[18,null,null,null,null,null,null,null,"",null,null,null,null,null,null,null,null,null,"",null,"",null,null,"","",null,null,null,null,"",null,"",null,null,null,null,null,null,null,null,0,0,0,{"$f":"IFERROR(IF($AS$3<'Utility Admin'!$I$2,AS25,'Utility Admin'!$I$2/Inventory!$AS$3*AS25),0)","v":0},0,0,null,"","","","","",null,0,0,0,"",0,{"$f":"IF('Project Info'!$D$7=\"TX\",INDEX(EFLH!$AB$4:$AB$30,MATCH(C25,TX_EFLHSanAntonio[Building Type],0),1),'Project Info'!$D$7&\"EquipmentType\")","v":"EquipmentType"},0,0,0,{"$f":"HLOOKUP(BJ25,'Equipment Lookups'!$L$4:$AE$46,VLOOKUP(Inventory!BM25,'Equipment Lookups'!$J$5:$K$46,2,FALSE),TRUE)","v":{"$error":"#N/A"}},{"$f":"IF(L25=\"\",\"\",MAX(IF(L25=\"Unknown\",ProgramYear-INDEX('Equipment Lookups'!$AF$5:$AF$38,MATCH(Inventory!BM25,'Equipment Lookups'!$J$5:$J$38,0)),_xlfn.NUMBERVALUE(RIGHT(L25,4))),INDEX(BaselineRow,1)))","v":""},"",{"$error":"#N/A"},0,"",0,0,{"$f":"HLOOKUP(BQ25,'Equipment Lookups'!$L$4:$AE$46,VLOOKUP(Inventory!BT25,'Equipment Lookups'!$J$5:$K$46,2,FALSE),TRUE)","v":{"$error":"#N/A"}},"",{"$f":"SUBSTITUTE(SUBSTITUTE(CONCATENATE(Q25, V25,IF(AND(State=\"TX\",LEFT(Q25,7)=\"Unitary\",BQ25>65000),\"Other\",W25),IF(BC25>0,IF(X25=\"\",\"A\",X25),\"\"),BS25), \" \", \"\"),\"/\",\"\")","v":{"$error":"#N/A"}},{"$f":"INDEX('Equipment Lookups'!$AG$5:$AG$46,MATCH(Inventory!BT25,'Equipment Lookups'!$J$5:$J$46,0))","v":{"$error":"#N/A"}},{"$f":"IFERROR(IF(AM25<>\"\",AM25,IF(State=\"TX\",INDEX(TX_EFLHSanAntonio[[CFAir Cooled Chiller]:[CFPTRoom]],MATCH(Inventory!C25,TX_EFLHSanAntonio[Building Type],0),MATCH(BV25,EFLH!$N$2:$Q$2,0)),VLOOKUP(C25,INDIRECT($BZ$5),4,FALSE))),\"-\")","v":"-"},{"$f":"IFERROR(IF(AK25<>\"\",AK25,IF(State=\"TX\",INDEX(TX_EFLHSanAntonio[[EFLHcAir Cooled Chiller]:[EFLHcPTRoom]],MATCH(Inventory!C25,TX_EFLHSanAntonio[Building Type],0),MATCH(BV25,EFLH!$V$2:$Y$2,0)),VLOOKUP(C25,INDIRECT($BZ$5),2,FALSE))),\"-\")","v":"-"},{"$f":"IFERROR(IF(AL25<>\"\",AL25,IF(State=\"TX\",INDEX(TX_EFLHSanAntonio[[EFLHhDX]:[EFLHhPTRoom]],MATCH(Inventory!C25,TX_EFLHSanAntonio[Building Type],0),MATCH(BV25,EFLH!$Z$2:$AA$2,0)),VLOOKUP(C25,INDIRECT($BZ$5),3,FALSE))),\"-\")","v":"-"},{"$f":"IF(AN25<>\"\",AN25,IF(State=\"TX\",INDEX(TX_EFLHSanAntonio[[NCPAir Cooled Chiller]:[NCPPTRoom]],MATCH(Inventory!C25,TX_EFLHSanAntonio[Building Type],0),MATCH(BV25,EFLH!$R$2:$U$2,0)),0))","v":0},1,{"$f":"_xlfn.SINGLE(IF(IFERROR(SEARCH(\"Terminal\",G25,1)>0,FALSE),12/(INDEX(INDIRECT(BN25),MATCH(BL25,BaselineRow,0),1)+INDEX(INDIRECT(BN25),MATCH(BL25,BaselineRow,0),2)*BJ25),INDEX(INDIRECT(BN25),MATCH(BL25,BaselineRow,0),1)))","v":{"$error":"#N/A"}},{"$error":"#N/A"},"",{"$error":"#N/A"},{"$error":"#N/A"},"",false,{"$error":"#N/A"},{"$error":"#N/A"},"","","","",{"$error":"#N/A"},{"$error":"#N/A"},{"$error":"#N/A"},0,{"$error":"#VALUE!"},{"$error":"#VALUE!"},{"$error":"#VALUE!"},{"$error":"#VALUE!"},{"$error":"#VALUE!"},{"$error":"#VALUE!"},{"$error":"#VALUE!"},{"$error":"#VALUE!"},0,0,0,0,{"$f":"INDEX('Utility Admin'!$P$2:$AD$2,1,MATCH($Q25,'Utility Admin'!$P$3:$AD$3,0))","v":{"$error":"#N/A"}},{"$f":"INDEX('Utility Admin'!AE$2:AS$2,1,MATCH($Q25,'Utility Admin'!$P$3:$AD$3,0))","v":{"$error":"#N/A"}},{"$f":"IF(kWhOverride=\"\",INDEX('Utility Admin'!$AT$2:$BH$2,1,MATCH($Q25,'Utility Admin'!$P$3:$AD$3,0)),kWhOverride)","v":{"$error":"#N/A"}},{"$f":"IF(B25=\"New Construction\",\"\",IF(L25=\"\",\"\",MAX(ProgramYear-BL25,1,)))","v":""},{"$f":"INDEX('Equipment Lookups'!$AI$5:$BV$46,MATCH(Inventory!BM25,'Equipment Lookups'!$J$5:$J$46,0),MATCH(Inventory!DH25,'Equipment Lookups'!$AI$4:$BV$4,0))","v":{"$error":"#N/A"}},{"$f":"INDEX('Equipment Lookups'!$AH$5:$AH$46,MATCH(Inventory!BT25,'Equipment Lookups'!$J$5:$J$46,0))","v":{"$error":"#N/A"}},{"$error":"#N/A"},{"$error":"#N/A"},{"$error":"#N/A"},{"$error":"#N/A"},{"$error":"#N/A"},{"$error":"#N/A"},{"$error":"#N/A"},{"$error":"#N/A"},{"$error":"#N/A"},{"$error":"#N/A"},{"$error":"#N/A"},{"$error":"#N/A"},{"$error":"#N/A"},{"$error":"#N/A"},{"$error":"#N/A"},{"$error":"#N/A"},{"$error":"#N/A"},{"$error":"#N/A"},{"$error":"#N/A"},0,0,0]
[19,null,null,null,null,null,null,null,"",null,null,null,null,null,null,null,null,null,"",null,"",null,null,"","",null,null,null,null,"",null,"",null,null,null,null,null,null,null,null,0,0,0,{"$f":"IFERROR(IF($AS$3<'Utility Admin'!$I$2,AS26,'Utility Admin'!$I$2/Inventory!$AS$3*AS26),0)","v":0},0,0,null,"","","","","",null,0,0,0,"",0,{"$f":"IF('Project Info'!$D$7=\"TX\",INDEX(EFLH!$AB$4:$AB$30,MATCH(C26,TX_EFLHSanAntonio[Building Type],0),1),'Project Info'!$D$7&\"EquipmentType\")","v":"EquipmentType"},0,0,0,{"$f":"HLOOKUP(BJ26,'Equipment Lookups'!$L$4:$AE$46,VLOOKUP(Inventory!BM26,'Equipment Lookups'!$J$5:$K$46,2,FALSE),TRUE)","v":{"$error":"#N/A"}},{"$f":"IF(L26=\"\",\"\",MAX(IF(L26=\"Unknown\",ProgramYear-INDEX('Equipment Lookups'!$AF$5:$AF$38,MATCH(Inventory!BM26,'Equipment Lookups'!$J$5:$J$38,0)),_xlfn.NUMBERVALUE(RIGHT(L26,4))),INDEX(BaselineRow,1)))","v":""},"",{"$error":"#N/A"},0,"",0,0,{"$f":"HLOOKUP(BQ26,'Equipment Lookups'!$L$4:$AE$46,VLOOKUP(Inventory!BT26,'Equipment Lookups'!$J$5:$K$46,2,FALSE),TRUE)","v":{"$error":"#N/A"}},"",{"$f":"SUBSTITUTE(SUBSTITUTE(CONCATENATE(Q26, V26,IF(AND(State=\"TX\",LEFT(Q26,7)=\"Unitary\",BQ26>65000),\"Other\",W26),IF(BC26>0,IF(X26=\"\",\"A\",X26),\"\"),BS26), \" \", \"\"),\"/\",\"\")","v":{"$error":"#N/A"}},{"$f":"INDEX('Equipment Lookups'!$AG$5:$AG$46,MATCH(Inventory!BT26,'Equipment Lookups'!$J$5:$J$46,0))","v":{"$error":"#N/A"}},{"$f":"IFERROR(IF(AM26<>\"\",AM26,IF(State=\"TX\",INDEX(TX_EFLHSanAntonio[[CFAir Cooled Chiller]:[CFPTRoom]],MATCH(Inventory!C26,TX_EFLHSanAntonio[Building Type],0),MATCH(BV26,EFLH!$N$2:$Q$2,0)),VLOOKUP(C26,INDIRECT($BZ$5),4,FALSE))),\"-\")","v":"-"},{"$f":"IFERROR(IF(AK26<>\"\",AK26,IF(State=\"TX\",INDEX(TX_EFLHSanAntonio[[EFLHcAir Cooled Chiller]:[EFLHcPTRoom]],MATCH(Inventory!C26,TX_EFLHSanAntonio[Building Type],0),MATCH(BV26,EFLH!$V$2:$Y$2,0)),VLOOKUP(C26,INDIRECT($BZ$5),2,FALSE))),\"-\")","v":"-"},{"$f":"IFERROR(IF(AL26<>\"\",AL26,IF(State=\"TX\",INDEX(TX_EFLHSanAntonio[[EFLHhDX]:[EFLHhPTRoom]],MATCH(Inventory!C26,TX_EFLHSanAntonio[Building Type],0),MATCH(BV26,EFLH!$Z$2:$AA$2,0)),VLOOKUP(C26,INDIRECT($BZ$5),3,FALSE))),\"-\")","v":"-"},{"$f":"IF(AN26<>\"\",AN26,IF(State=\"TX\",INDEX(TX_EFLHSanAntonio[[NCPAir Cooled Chiller]:[NCPPTRoom]],MATCH(Inventory!C26,TX_EFLHSanAntonio[Building Type],0),MATCH(BV26,EFLH!$R$2:$U$2,0)),0))","v":0},1,{"$f":"_xlfn.SINGLE(IF(IFERROR(SEARCH(\"Terminal\",G26,1)>0,FALSE),12/(INDEX(INDIRECT(BN26),MATCH(BL26,BaselineRow,0),1)+INDEX(INDIRECT(BN26),MATCH(BL26,BaselineRow,0),2)*BJ26),INDEX(INDIRECT(BN26),MATCH(BL26,BaselineRow,0),1)))","v":{"$error":"#N/A"}},{"$error":"#N/A"},"",{"$error":"#N/A"},{"$error":"#N/A"},"",false,{"$error":"#N/A"},{"$error":"#N/A"},"","","","",{"$error":"#N/A"},{"$error":"#N/A"},{"$error":"#N/A"},0,{"$error":"#VALUE!"},{"$error":"#VALUE!"},{"$error":"#VALUE!"},{"$error":"#VALUE!"},{"$error":"#VALUE!"},{"$error":"#VALUE!"},{"$error":"#VALUE!"},{"$error":"#VALUE!"},0,0,0,0,{"$f":"INDEX('Utility Admin'!$P$2:$AD$2,1,MATCH($Q26,'Utility Admin'!$P$3:$AD$3,0))","v":{"$error":"#N/A"}},{"$f":"INDEX('Utility Admin'!AE$2:AS$2,1,MATCH($Q26,'Utility Admin'!$P$3:$AD$3,0))","v":{"$error":"#N/A"}},{"$f":"IF(kWhOverride=\"\",INDEX('Utility Admin'!$AT$2:$BH$2,1,MATCH($Q26,'Utility Admin'!$P$3:$AD$3,0)),kWhOverride)","v":{"$error":"#N/A"}},{"$f":"IF(B26=\"New Construction\",\"\",IF(L26=\"\",\"\",MAX(ProgramYear-BL26,1,)))","v":""},{"$f":"INDEX('Equipment Lookups'!$AI$5:$BV$46,MATCH(Inventory!BM26,'Equipment Lookups'!$J$5:$J$46,0),MATCH(Inventory!DH26,'Equipment Lookups'!$AI$4:$BV$4,0))","v":{"$error":"#N/A"}},{"$f":"INDEX('Equipment Lookups'!$AH$5:$AH$46,MATCH(Inventory!BT26,'Equipment Lookups'!$J$5:$J$46,0))","v":{"$error":"#N/A"}},{"$error":"#N/A"},{"$error":"#N/A"},{"$error":"#N/A"},{"$error":"#N/A"},{"$error":"#N/A"},{"$error":"#N/A"},{"$error":"#N/A"},{"$error":"#N/A"},{"$error":"#N/A"},{"$error":"#N/A"},{"$error":"#N/A"},{"$error":"#N/A"},{"$error":"#N/A"},{"$error":"#N/A"},{"$error":"#N/A"},{"$error":"#N/A"},{"$error":"#N/A"},{"$error":"#N/A"},{"$error":"#N/A"},0,0,0]
[20,null,null,null,null,null,null,null,"",null,null,null,null,null,null,null,null,null,"",null,"",null,null,"","",null,null,null,null,"",null,"",null,null,null,null,null,null,null,null,0,0,0,{"$f":"IFERROR(IF($AS$3<'Utility Admin'!$I$2,AS27,'Utility Admin'!$I$2/Inventory!$AS$3*AS27),0)","v":0},0,0,null,"","","","","",null,0,0,0,"",0,{"$f":"IF('Project Info'!$D$7=\"TX\",INDEX(EFLH!$AB$4:$AB$30,MATCH(C27,TX_EFLHSanAntonio[Building Type],0),1),'Project Info'!$D$7&\"EquipmentType\")","v":"EquipmentType"},0,0,0,{"$f":"HLOOKUP(BJ27,'Equipment Lookups'!$L$4:$AE$46,VLOOKUP(Inventory!BM27,'Equipment Lookups'!$J$5:$K$46,2,FALSE),TRUE)","v":{"$error":"#N/A"}},{"$f":"IF(L27=\"\",\"\",MAX(IF(L27=\"Unknown\",ProgramYear-INDEX('Equipment Lookups'!$AF$5:$AF$38,MATCH(Inventory!BM27,'Equipment Lookups'!$J$5:$J$38,0)),_xlfn.NUMBERVALUE(RIGHT(L27,4))),INDEX(BaselineRow,1)))","v":""},"",{"$error":"#N/A"},0,"",0,0,{"$f":"HLOOKUP(BQ27,'Equipment Lookups'!$L$4:$AE$46,VLOOKUP(Inventory!BT27,'Equipment Lookups'!$J$5:$K$46,2,FALSE),TRUE)","v":{"$error":"#N/A"}},"",{"$f":"SUBSTITUTE(SUBSTITUTE(CONCATENATE(Q27, V27,IF(AND(State=\"TX\",LEFT(Q27,7)=\"Unitary\",BQ27>65000),\"Other\",W27),IF(BC27>0,IF(X27=\"\",\"A\",X27),\"\"),BS27), \" \", \"\"),\"/\",\"\")","v":{"$error":"#N/A"}},{"$f":"INDEX('Equipment Lookups'!$AG$5:$AG$46,MATCH(Inventory!BT27,'Equipment Lookups'!$J$5:$J$46,0))","v":{"$error":"#N/A"}},{"$f":"IFERROR(IF(AM27<>\"\",AM27,IF(State=\"TX\",INDEX(TX_EFLHSanAntonio[[CFAir Cooled Chiller]:[CFPTRoom]],MATCH(Inventory!C27,TX_EFLHSanAntonio[Building Type],0),MATCH(BV27,EFLH!$N$2:$Q$2,0)),VLOOKUP(C27,INDIRECT($BZ$5),4,FALSE))),\"-\")","v":"-"},{"$f":"IFERROR(IF(AK27<>\"\",AK27,IF(State=\"TX\",INDEX(TX_EFLHSanAntonio[[EFLHcAir Cooled Chiller]:[EFLHcPTRoom]],MATCH(Inventory!C27,TX_EFLHSanAntonio[Building Type],0),MATCH(BV27,EFLH!$V$2:$Y$2,0)),VLOOKUP(C27,INDIRECT($BZ$5),2,FALSE))),\"-\")","v":"-"},{"$f":"IFERROR(IF(AL27<>\"\",AL27,IF(State=\"TX\",INDEX(TX_EFLHSanAntonio[[EFLHhDX]:[EFLHhPTRoom]],MATCH(Inventory!C27,TX_EFLHSanAntonio[Building Type],0),MATCH(BV27,EFLH!$Z$2:$AA$2,0)),VLOOKUP(C27,INDIRECT($BZ$5),3,FALSE))),\"-\")","v":"-"},{"$f":"IF(AN27<>\"\",AN27,IF(State=\"TX\",INDEX(TX_EFLHSanAntonio[[NCPAir Cooled Chiller]:[NCPPTRoom]],MATCH(Inventory!C27,TX_EFLHSanAntonio[Building Type],0),MATCH(BV27,EFLH!$R$2:$U$2,0)),0))","v":0},1,{"$f":"_xlfn.SINGLE(IF(IFERROR(SEARCH(\"Terminal\",G27,1)>0,FALSE),12/(INDEX(INDIRECT(BN27),MATCH(BL27,BaselineRow,0),1)+INDEX(INDIRECT(BN27),MATCH(BL27,BaselineRow,0),2)*BJ27),INDEX(INDIRECT(BN27),MATCH(BL27,BaselineRow,0),1)))","v":{"$error":"#N/A"}},{"$error":"#N/A"},"",{"$error":"#N/A"},{"$error":"#N/A"},"",false,{"$error":"#N/A"},{"$error":"#N/A"},"","","","",{"$error":"#N/A"},{"$error":"#N/A"},{"$error":"#N/A"},0,{"$error":"#VALUE!"},{"$error":"#VALUE!"},{"$error":"#VALUE!"},{"$error":"#VALUE!"},{"$error":"#VALUE!"},{"$error":"#VALUE!"},{"$error":"#VALUE!"},{"$error":"#VALUE!"},0,0,0,0,{"$f":"INDEX('Utility Admin'!$P$2:$AD$2,1,MATCH($Q27,'Utility Admin'!$P$3:$AD$3,0))","v":{"$error":"#N/A"}},{"$f":"INDEX('Utility Admin'!AE$2:AS$2,1,MATCH($Q27,'Utility Admin'!$P$3:$AD$3,0))","v":{"$error":"#N/A"}},{"$f":"IF(kWhOverride=\"\",INDEX('Utility Admin'!$AT$2:$BH$2,1,MATCH($Q27,'Utility Admin'!$P$3:$AD$3,0)),kWhOverride)","v":{"$error":"#N/A"}},{"$f":"IF(B27=\"New Construction\",\"\",IF(L27=\"\",\"\",MAX(ProgramYear-BL27,1,)))","v":""},{"$f":"INDEX('Equipment Lookups'!$AI$5:$BV$46,MATCH(Inventory!BM27,'Equipment Lookups'!$J$5:$J$46,0),MATCH(Inventory!DH27,'Equipment Lookups'!$AI$4:$BV$4,0))","v":{"$error":"#N/A"}},{"$f":"INDEX('Equipment Lookups'!$AH$5:$AH$46,MATCH(Inventory!BT27,'Equipment Lookups'!$J$5:$J$46,0))","v":{"$error":"#N/A"}},{"$error":"#N/A"},{"$error":"#N/A"},{"$error":"#N/A"},{"$error":"#N/A"},{"$error":"#N/A"},{"$error":"#N/A"},{"$error":"#N/A"},{"$error":"#N/A"},{"$error":"#N/A"},{"$error":"#N/A"},{"$error":"#N/A"},{"$error":"#N/A"},{"$error":"#N/A"},{"$error":"#N/A"},{"$error":"#N/A"},{"$error":"#N/A"},{"$error":"#N/A"},{"$error":"#N/A"},{"$error":"#N/A"},0,0,0]
[21,null,null,null,null,null,null,null,"",null,null,null,null,null,null,null,null,null,"",null,"",null,null,"","",null,null,null,null,"",null,"",null,null,null,null,null,null,null,null,0,0,0,{"$f":"IFERROR(IF($AS$3<'Utility Admin'!$I$2,AS28,'Utility Admin'!$I$2/Inventory!$AS$3*AS28),0)","v":0},0,0,null,"","","","","",null,0,0,0,"",0,{"$f":"IF('Project Info'!$D$7=\"TX\",INDEX(EFLH!$AB$4:$AB$30,MATCH(C28,TX_EFLHSanAntonio[Building Type],0),1),'Project Info'!$D$7&\"EquipmentType\")","v":"EquipmentType"},0,0,0,{"$f":"HLOOKUP(BJ28,'Equipment Lookups'!$L$4:$AE$46,VLOOKUP(Inventory!BM28,'Equipment Lookups'!$J$5:$K$46,2,FALSE),TRUE)","v":{"$error":"#N/A"}},{"$f":"IF(L28=\"\",\"\",MAX(IF(L28=\"Unknown\",ProgramYear-INDEX('Equipment Lookups'!$AF$5:$AF$38,MATCH(Inventory!BM28,'Equipment Lookups'!$J$5:$J$38,0)),_xlfn.NUMBERVALUE(RIGHT(L28,4))),INDEX(BaselineRow,1)))","v":""},"",{"$error":"#N/A"},0,"",0,0,{"$f":"HLOOKUP(BQ28,'Equipment Lookups'!$L$4:$AE$46,VLOOKUP(Inventory!BT28,'Equipment Lookups'!$J$5:$K$46,2,FALSE),TRUE)","v":{"$error":"#N/A"}},"",{"$f":"SUBSTITUTE(SUBSTITUTE(CONCATENATE(Q28, V28,IF(AND(State=\"TX\",LEFT(Q28,7)=\"Unitary\",BQ28>65000),\"Other\",W28),IF(BC28>0,IF(X28=\"\",\"A\",X28),\"\"),BS28), \" \", \"\"),\"/\",\"\")","v":{"$error":"#N/A"}},{"$f":"INDEX('Equipment Lookups'!$AG$5:$AG$46,MATCH(Inventory!BT28,'Equipment Lookups'!$J$5:$J$46,0))","v":{"$error":"#N/A"}},{"$f":"IFERROR(IF(AM28<>\"\",AM28,IF(State=\"TX\",INDEX(TX_EFLHSanAntonio[[CFAir Cooled Chiller]:[CFPTRoom]],MATCH(Inventory!C28,TX_EFLHSanAntonio[Building Type],0),MATCH(BV28,EFLH!$N$2:$Q$2,0)),VLOOKUP(C28,INDIRECT($BZ$5),4,FALSE))),\"-\")","v":"-"},{"$f":"IFERROR(IF(AK28<>\"\",AK28,IF(State=\"TX\",INDEX(TX_EFLHSanAntonio[[EFLHcAir Cooled Chiller]:[EFLHcPTRoom]],MATCH(Inventory!C28,TX_EFLHSanAntonio[Building Type],0),MATCH(BV28,EFLH!$V$2:$Y$2,0)),VLOOKUP(C28,INDIRECT($BZ$5),2,FALSE))),\"-\")","v":"-"},{"$f":"IFERROR(IF(AL28<>\"\",AL28,IF(State=\"TX\",INDEX(TX_EFLHSanAntonio[[EFLHhDX]:[EFLHhPTRoom]],MATCH(Inventory!C28,TX_EFLHSanAntonio[Building Type],0),MATCH(BV28,EFLH!$Z$2:$AA$2,0)),VLOOKUP(C28,INDIRECT($BZ$5),3,FALSE))),\"-\")","v":"-"},{"$f":"IF(AN28<>\"\",AN28,IF(State=\"TX\",INDEX(TX_EFLHSanAntonio[[NCPAir Cooled Chiller]:[NCPPTRoom]],MATCH(Inventory!C28,TX_EFLHSanAntonio[Building Type],0),MATCH(BV28,EFLH!$R$2:$U$2,0)),0))","v":0},1,{"$f":"_xlfn.SINGLE(IF(IFERROR(SEARCH(\"Terminal\",G28,1)>0,FALSE),12/(INDEX(INDIRECT(BN28),MATCH(BL28,BaselineRow,0),1)+INDEX(INDIRECT(BN28),MATCH(BL28,BaselineRow,0),2)*BJ28),INDEX(INDIRECT(BN28),MATCH(BL28,BaselineRow,0),1)))","v":{"$error":"#N/A"}},{"$error":"#N/A"},"",{"$error":"#N/A"},{"$error":"#N/A"},"",false,{"$error":"#N/A"},{"$error":"#N/A"},"","","","",{"$error":"#N/A"},{"$error":"#N/A"},{"$error":"#N/A"},0,{"$error":"#VALUE!"},{"$error":"#VALUE!"},{"$error":"#VALUE!"},{"$error":"#VALUE!"},{"$error":"#VALUE!"},{"$error":"#VALUE!"},{"$error":"#VALUE!"},{"$error":"#VALUE!"},0,0,0,0,{"$f":"INDEX('Utility Admin'!$P$2:$AD$2,1,MATCH($Q28,'Utility Admin'!$P$3:$AD$3,0))","v":{"$error":"#N/A"}},{"$f":"INDEX('Utility Admin'!AE$2:AS$2,1,MATCH($Q28,'Utility Admin'!$P$3:$AD$3,0))","v":{"$error":"#N/A"}},{"$f":"IF(kWhOverride=\"\",INDEX('Utility Admin'!$AT$2:$BH$2,1,MATCH($Q28,'Utility Admin'!$P$3:$AD$3,0)),kWhOverride)","v":{"$error":"#N/A"}},{"$f":"IF(B28=\"New Construction\",\"\",IF(L28=\"\",\"\",MAX(ProgramYear-BL28,1,)))","v":""},{"$f":"INDEX('Equipment Lookups'!$AI$5:$BV$46,MATCH(Inventory!BM28,'Equipment Lookups'!$J$5:$J$46,0),MATCH(Inventory!DH28,'Equipment Lookups'!$AI$4:$BV$4,0))","v":{"$error":"#N/A"}},{"$f":"INDEX('Equipment Lookups'!$AH$5:$AH$46,MATCH(Inventory!BT28,'Equipment Lookups'!$J$5:$J$46,0))","v":{"$error":"#N/A"}},{"$error":"#N/A"},{"$error":"#N/A"},{"$error":"#N/A"},{"$error":"#N/A"},{"$error":"#N/A"},{"$error":"#N/A"},{"$error":"#N/A"},{"$error":"#N/A"},{"$error":"#N/A"},{"$error":"#N/A"},{"$error":"#N/A"},{"$error":"#N/A"},{"$error":"#N/A"},{"$error":"#N/A"},{"$error":"#N/A"},{"$error":"#N/A"},{"$error":"#N/A"},{"$error":"#N/A"},{"$error":"#N/A"},0,0,0]
[22,null,null,null,null,null,null,null,"",null,null,null,null,null,null,null,null,null,"",null,"",null,null,"","",null,null,null,null,"",null,"",null,null,null,null,null,null,null,null,0,0,0,{"$f":"IFERROR(IF($AS$3<'Utility Admin'!$I$2,AS29,'Utility Admin'!$I$2/Inventory!$AS$3*AS29),0)","v":0},0,0,null,"","","","","",null,0,0,0,"",0,{"$f":"IF('Project Info'!$D$7=\"TX\",INDEX(EFLH!$AB$4:$AB$30,MATCH(C29,TX_EFLHSanAntonio[Building Type],0),1),'Project Info'!$D$7&\"EquipmentType\")","v":"EquipmentType"},0,0,0,{"$f":"HLOOKUP(BJ29,'Equipment Lookups'!$L$4:$AE$46,VLOOKUP(Inventory!BM29,'Equipment Lookups'!$J$5:$K$46,2,FALSE),TRUE)","v":{"$error":"#N/A"}},{"$f":"IF(L29=\"\",\"\",MAX(IF(L29=\"Unknown\",ProgramYear-INDEX('Equipment Lookups'!$AF$5:$AF$38,MATCH(Inventory!BM29,'Equipment Lookups'!$J$5:$J$38,0)),_xlfn.NUMBERVALUE(RIGHT(L29,4))),INDEX(BaselineRow,1)))","v":""},"",{"$error":"#N/A"},0,"",0,0,{"$f":"HLOOKUP(BQ29,'Equipment Lookups'!$L$4:$AE$46,VLOOKUP(Inventory!BT29,'Equipment Lookups'!$J$5:$K$46,2,FALSE),TRUE)","v":{"$error":"#N/A"}},"",{"$f":"SUBSTITUTE(SUBSTITUTE(CONCATENATE(Q29, V29,IF(AND(State=\"TX\",LEFT(Q29,7)=\"Unitary\",BQ29>65000),\"Other\",W29),IF(BC29>0,IF(X29=\"\",\"A\",X29),\"\"),BS29), \" \", \"\"),\"/\",\"\")","v":{"$error":"#N/A"}},{"$f":"INDEX('Equipment Lookups'!$AG$5:$AG$46,MATCH(Inventory!BT29,'Equipment Lookups'!$J$5:$J$46,0))","v":{"$error":"#N/A"}},{"$f":"IFERROR(IF(AM29<>\"\",AM29,IF(State=\"TX\",INDEX(TX_EFLHSanAntonio[[CFAir Cooled Chiller]:[CFPTRoom]],MATCH(Inventory!C29,TX_EFLHSanAntonio[Building Type],0),MATCH(BV29,EFLH!$N$2:$Q$2,0)),VLOOKUP(C29,INDIRECT($BZ$5),4,FALSE))),\"-\")","v":"-"},{"$f":"IFERROR(IF(AK29<>\"\",AK29,IF(State=\"TX\",INDEX(TX_EFLHSanAntonio[[EFLHcAir Cooled Chiller]:[EFLHcPTRoom]],MATCH(Inventory!C29,TX_EFLHSanAntonio[Building Type],0),MATCH(BV29,EFLH!$V$2:$Y$2,0)),VLOOKUP(C29,INDIRECT($BZ$5),2,FALSE))),\"-\")","v":"-"},{"$f":"IFERROR(IF(AL29<>\"\",AL29,IF(State=\"TX\",INDEX(TX_EFLHSanAntonio[[EFLHhDX]:[EFLHhPTRoom]],MATCH(Inventory!C29,TX_EFLHSanAntonio[Building Type],0),MATCH(BV29,EFLH!$Z$2:$AA$2,0)),VLOOKUP(C29,INDIRECT($BZ$5),3,FALSE))),\"-\")","v":"-"},{"$f":"IF(AN29<>\"\",AN29,IF(State=\"TX\",INDEX(TX_EFLHSanAntonio[[NCPAir Cooled Chiller]:[NCPPTRoom]],MATCH(Inventory!C29,TX_EFLHSanAntonio[Building Type],0),MATCH(BV29,EFLH!$R$2:$U$2,0)),0))","v":0},1,{"$f":"_xlfn.SINGLE(IF(IFERROR(SEARCH(\"Terminal\",G29,1)>0,FALSE),12/(INDEX(INDIRECT(BN29),MATCH(BL29,BaselineRow,0),1)+INDEX(INDIRECT(BN29),MATCH(BL29,BaselineRow,0),2)*BJ29),INDEX(INDIRECT(BN29),MATCH(BL29,BaselineRow,0),1)))","v":{"$error":"#N/A"}},{"$error":"#N/A"},"",{"$error":"#N/A"},{"$error":"#N/A"},"",false,{"$error":"#N/A"},{"$error":"#N/A"},"","","","",{"$error":"#N/A"},{"$error":"#N/A"},{"$error":"#N/A"},0,{"$error":"#VALUE!"},{"$error":"#VALUE!"},{"$error":"#VALUE!"},{"$error":"#VALUE!"},{"$error":"#VALUE!"},{"$error":"#VALUE!"},{"$error":"#VALUE!"},{"$error":"#VALUE!"},0,0,0,0,{"$f":"INDEX('Utility Admin'!$P$2:$AD$2,1,MATCH($Q29,'Utility Admin'!$P$3:$AD$3,0))","v":{"$error":"#N/A"}},{"$f":"INDEX('Utility Admin'!AE$2:AS$2,1,MATCH($Q29,'Utility Admin'!$P$3:$AD$3,0))","v":{"$error":"#N/A"}},{"$f":"IF(kWhOverride=\"\",INDEX('Utility Admin'!$AT$2:$BH$2,1,MATCH($Q29,'Utility Admin'!$P$3:$AD$3,0)),kWhOverride)","v":{"$error":"#N/A"}},{"$f":"IF(B29=\"New Construction\",\"\",IF(L29=\"\",\"\",MAX(ProgramYear-BL29,1,)))","v":""},{"$f":"INDEX('Equipment Lookups'!$AI$5:$BV$46,MATCH(Inventory!BM29,'Equipment Lookups'!$J$5:$J$46,0),MATCH(Inventory!DH29,'Equipment Lookups'!$AI$4:$BV$4,0))","v":{"$error":"#N/A"}},{"$f":"INDEX('Equipment Lookups'!$AH$5:$AH$46,MATCH(Inventory!BT29,'Equipment Lookups'!$J$5:$J$46,0))","v":{"$error":"#N/A"}},{"$error":"#N/A"},{"$error":"#N/A"},{"$error":"#N/A"},{"$error":"#N/A"},{"$error":"#N/A"},{"$error":"#N/A"},{"$error":"#N/A"},{"$error":"#N/A"},{"$error":"#N/A"},{"$error":"#N/A"},{"$error":"#N/A"},{"$error":"#N/A"},{"$error":"#N/A"},{"$error":"#N/A"},{"$error":"#N/A"},{"$error":"#N/A"},{"$error":"#N/A"},{"$error":"#N/A"},{"$error":"#N/A"},0,0,0]
[23,null,null,null,null,null,null,null,"",null,null,null,null,null,null,null,null,null,"",null,"",null,null,"","",null,null,null,null,"",null,"",null,null,null,null,null,null,null,null,0,0,0,{"$f":"IFERROR(IF($AS$3<'Utility Admin'!$I$2,AS30,'Utility Admin'!$I$2/Inventory!$AS$3*AS30),0)","v":0},0,0,null,"","","","","",null,0,0,0,"",0,{"$f":"IF('Project Info'!$D$7=\"TX\",INDEX(EFLH!$AB$4:$AB$30,MATCH(C30,TX_EFLHSanAntonio[Building Type],0),1),'Project Info'!$D$7&\"EquipmentType\")","v":"EquipmentType"},0,0,0,{"$f":"HLOOKUP(BJ30,'Equipment Lookups'!$L$4:$AE$46,VLOOKUP(Inventory!BM30,'Equipment Lookups'!$J$5:$K$46,2,FALSE),TRUE)","v":{"$error":"#N/A"}},{"$f":"IF(L30=\"\",\"\",MAX(IF(L30=\"Unknown\",ProgramYear-INDEX('Equipment Lookups'!$AF$5:$AF$38,MATCH(Inventory!BM30,'Equipment Lookups'!$J$5:$J$38,0)),_xlfn.NUMBERVALUE(RIGHT(L30,4))),INDEX(BaselineRow,1)))","v":""},"",{"$error":"#N/A"},0,"",0,0,{"$f":"HLOOKUP(BQ30,'Equipment Lookups'!$L$4:$AE$46,VLOOKUP(Inventory!BT30,'Equipment Lookups'!$J$5:$K$46,2,FALSE),TRUE)","v":{"$error":"#N/A"}},"",{"$f":"SUBSTITUTE(SUBSTITUTE(CONCATENATE(Q30, V30,IF(AND(State=\"TX\",LEFT(Q30,7)=\"Unitary\",BQ30>65000),\"Other\",W30),IF(BC30>0,IF(X30=\"\",\"A\",X30),\"\"),BS30), \" \", \"\"),\"/\",\"\")","v":{"$error":"#N/A"}},{"$f":"INDEX('Equipment Lookups'!$AG$5:$AG$46,MATCH(Inventory!BT30,'Equipment Lookups'!$J$5:$J$46,0))","v":{"$error":"#N/A"}},{"$f":"IFERROR(IF(AM30<>\"\",AM30,IF(State=\"TX\",INDEX(TX_EFLHSanAntonio[[CFAir Cooled Chiller]:[CFPTRoom]],MATCH(Inventory!C30,TX_EFLHSanAntonio[Building Type],0),MATCH(BV30,EFLH!$N$2:$Q$2,0)),VLOOKUP(C30,INDIRECT($BZ$5),4,FALSE))),\"-\")","v":"-"},{"$f":"IFERROR(IF(AK30<>\"\",AK30,IF(State=\"TX\",INDEX(TX_EFLHSanAntonio[[EFLHcAir Cooled Chiller]:[EFLHcPTRoom]],MATCH(Inventory!C30,TX_EFLHSanAntonio[Building Type],0),MATCH(BV30,EFLH!$V$2:$Y$2,0)),VLOOKUP(C30,INDIRECT($BZ$5),2,FALSE))),\"-\")","v":"-"},{"$f":"IFERROR(IF(AL30<>\"\",AL30,IF(State=\"TX\",INDEX(TX_EFLHSanAntonio[[EFLHhDX]:[EFLHhPTRoom]],MATCH(Inventory!C30,TX_EFLHSanAntonio[Building Type],0),MATCH(BV30,EFLH!$Z$2:$AA$2,0)),VLOOKUP(C30,INDIRECT($BZ$5),3,FALSE))),\"-\")","v":"-"},{"$f":"IF(AN30<>\"\",AN30,IF(State=\"TX\",INDEX(TX_EFLHSanAntonio[[NCPAir Cooled Chiller]:[NCPPTRoom]],MATCH(Inventory!C30,TX_EFLHSanAntonio[Building Type],0),MATCH(BV30,EFLH!$R$2:$U$2,0)),0))","v":0},1,{"$f":"_xlfn.SINGLE(IF(IFERROR(SEARCH(\"Terminal\",G30,1)>0,FALSE),12/(INDEX(INDIRECT(BN30),MATCH(BL30,BaselineRow,0),1)+INDEX(INDIRECT(BN30),MATCH(BL30,BaselineRow,0),2)*BJ30),INDEX(INDIRECT(BN30),MATCH(BL30,BaselineRow,0),1)))","v":{"$error":"#N/A"}},{"$error":"#N/A"},"",{"$error":"#N/A"},{"$error":"#N/A"},"",false,{"$error":"#N/A"},{"$error":"#N/A"},"","","","",{"$error":"#N/A"},{"$error":"#N/A"},{"$error":"#N/A"},0,{"$error":"#VALUE!"},{"$error":"#VALUE!"},{"$error":"#VALUE!"},{"$error":"#VALUE!"},{"$error":"#VALUE!"},{"$error":"#VALUE!"},{"$error":"#VALUE!"},{"$error":"#VALUE!"},0,0,0,0,{"$f":"INDEX('Utility Admin'!$P$2:$AD$2,1,MATCH($Q30,'Utility Admin'!$P$3:$AD$3,0))","v":{"$error":"#N/A"}},{"$f":"INDEX('Utility Admin'!AE$2:AS$2,1,MATCH($Q30,'Utility Admin'!$P$3:$AD$3,0))","v":{"$error":"#N/A"}},{"$f":"IF(kWhOverride=\"\",INDEX('Utility Admin'!$AT$2:$BH$2,1,MATCH($Q30,'Utility Admin'!$P$3:$AD$3,0)),kWhOverride)","v":{"$error":"#N/A"}},{"$f":"IF(B30=\"New Construction\",\"\",IF(L30=\"\",\"\",MAX(ProgramYear-BL30,1,)))","v":""},{"$f":"INDEX('Equipment Lookups'!$AI$5:$BV$46,MATCH(Inventory!BM30,'Equipment Lookups'!$J$5:$J$46,0),MATCH(Inventory!DH30,'Equipment Lookups'!$AI$4:$BV$4,0))","v":{"$error":"#N/A"}},{"$f":"INDEX('Equipment Lookups'!$AH$5:$AH$46,MATCH(Inventory!BT30,'Equipment Lookups'!$J$5:$J$46,0))","v":{"$error":"#N/A"}},{"$error":"#N/A"},{"$error":"#N/A"},{"$error":"#N/A"},{"$error":"#N/A"},{"$error":"#N/A"},{"$error":"#N/A"},{"$error":"#N/A"},{"$error":"#N/A"},{"$error":"#N/A"},{"$error":"#N/A"},{"$error":"#N/A"},{"$error":"#N/A"},{"$error":"#N/A"},{"$error":"#N/A"},{"$error":"#N/A"},{"$error":"#N/A"},{"$error":"#N/A"},{"$error":"#N/A"},{"$error":"#N/A"},0,0,0]
[24,null,null,null,null,null,null,null,"",null,null,null,null,null,null,null,null,null,"",null,"",null,null,"","",null,null,null,null,"",null,"",null,null,null,null,null,null,null,null,0,0,0,{"$f":"IFERROR(IF($AS$3<'Utility Admin'!$I$2,AS31,'Utility Admin'!$I$2/Inventory!$AS$3*AS31),0)","v":0},0,0,null,"","","","","",null,0,0,0,"",0,{"$f":"IF('Project Info'!$D$7=\"TX\",INDEX(EFLH!$AB$4:$AB$30,MATCH(C31,TX_EFLHSanAntonio[Building Type],0),1),'Project Info'!$D$7&\"EquipmentType\")","v":"EquipmentType"},0,0,0,{"$f":"HLOOKUP(BJ31,'Equipment Lookups'!$L$4:$AE$46,VLOOKUP(Inventory!BM31,'Equipment Lookups'!$J$5:$K$46,2,FALSE),TRUE)","v":{"$error":"#N/A"}},{"$f":"IF(L31=\"\",\"\",MAX(IF(L31=\"Unknown\",ProgramYear-INDEX('Equipment Lookups'!$AF$5:$AF$38,MATCH(Inventory!BM31,'Equipment Lookups'!$J$5:$J$38,0)),_xlfn.NUMBERVALUE(RIGHT(L31,4))),INDEX(BaselineRow,1)))","v":""},"",{"$error":"#N/A"},0,"",0,0,{"$f":"HLOOKUP(BQ31,'Equipment Lookups'!$L$4:$AE$46,VLOOKUP(Inventory!BT31,'Equipment Lookups'!$J$5:$K$46,2,FALSE),TRUE)","v":{"$error":"#N/A"}},"",{"$f":"SUBSTITUTE(SUBSTITUTE(CONCATENATE(Q31, V31,IF(AND(State=\"TX\",LEFT(Q31,7)=\"Unitary\",BQ31>65000),\"Other\",W31),IF(BC31>0,IF(X31=\"\",\"A\",X31),\"\"),BS31), \" \", \"\"),\"/\",\"\")","v":{"$error":"#N/A"}},{"$f":"INDEX('Equipment Lookups'!$AG$5:$AG$46,MATCH(Inventory!BT31,'Equipment Lookups'!$J$5:$J$46,0))","v":{"$error":"#N/A"}},{"$f":"IFERROR(IF(AM31<>\"\",AM31,IF(State=\"TX\",INDEX(TX_EFLHSanAntonio[[CFAir Cooled Chiller]:[CFPTRoom]],MATCH(Inventory!C31,TX_EFLHSanAntonio[Building Type],0),MATCH(BV31,EFLH!$N$2:$Q$2,0)),VLOOKUP(C31,INDIRECT($BZ$5),4,FALSE))),\"-\")","v":"-"},{"$f":"IFERROR(IF(AK31<>\"\",AK31,IF(State=\"TX\",INDEX(TX_EFLHSanAntonio[[EFLHcAir Cooled Chiller]:[EFLHcPTRoom]],MATCH(Inventory!C31,TX_EFLHSanAntonio[Building Type],0),MATCH(BV31,EFLH!$V$2:$Y$2,0)),VLOOKUP(C31,INDIRECT($BZ$5),2,FALSE))),\"-\")","v":"-"},{"$f":"IFERROR(IF(AL31<>\"\",AL31,IF(State=\"TX\",INDEX(TX_EFLHSanAntonio[[EFLHhDX]:[EFLHhPTRoom]],MATCH(Inventory!C31,TX_EFLHSanAntonio[Building Type],0),MATCH(BV31,EFLH!$Z$2:$AA$2,0)),VLOOKUP(C31,INDIRECT($BZ$5),3,FALSE))),\"-\")","v":"-"},{"$f":"IF(AN31<>\"\",AN31,IF(State=\"TX\",INDEX(TX_EFLHSanAntonio[[NCPAir Cooled Chiller]:[NCPPTRoom]],MATCH(Inventory!C31,TX_EFLHSanAntonio[Building Type],0),MATCH(BV31,EFLH!$R$2:$U$2,0)),0))","v":0},1,{"$f":"_xlfn.SINGLE(IF(IFERROR(SEARCH(\"Terminal\",G31,1)>0,FALSE),12/(INDEX(INDIRECT(BN31),MATCH(BL31,BaselineRow,0),1)+INDEX(INDIRECT(BN31),MATCH(BL31,BaselineRow,0),2)*BJ31),INDEX(INDIRECT(BN31),MATCH(BL31,BaselineRow,0),1)))","v":{"$error":"#N/A"}},{"$error":"#N/A"},"",{"$error":"#N/A"},{"$error":"#N/A"},"",false,{"$error":"#N/A"},{"$error":"#N/A"},"","","","",{"$error":"#N/A"},{"$error":"#N/A"},{"$error":"#N/A"},0,{"$error":"#VALUE!"},{"$error":"#VALUE!"},{"$error":"#VALUE!"},{"$error":"#VALUE!"},{"$error":"#VALUE!"},{"$error":"#VALUE!"},{"$error":"#VALUE!"},{"$error":"#VALUE!"},0,0,0,0,{"$f":"INDEX('Utility Admin'!$P$2:$AD$2,1,MATCH($Q31,'Utility Admin'!$P$3:$AD$3,0))","v":{"$error":"#N/A"}},{"$f":"INDEX('Utility Admin'!AE$2:AS$2,1,MATCH($Q31,'Utility Admin'!$P$3:$AD$3,0))","v":{"$error":"#N/A"}},{"$f":"IF(kWhOverride=\"\",INDEX('Utility Admin'!$AT$2:$BH$2,1,MATCH($Q31,'Utility Admin'!$P$3:$AD$3,0)),kWhOverride)","v":{"$error":"#N/A"}},{"$f":"IF(B31=\"New Construction\",\"\",IF(L31=\"\",\"\",MAX(ProgramYear-BL31,1,)))","v":""},{"$f":"INDEX('Equipment Lookups'!$AI$5:$BV$46,MATCH(Inventory!BM31,'Equipment Lookups'!$J$5:$J$46,0),MATCH(Inventory!DH31,'Equipment Lookups'!$AI$4:$BV$4,0))","v":{"$error":"#N/A"}},{"$f":"INDEX('Equipment Lookups'!$AH$5:$AH$46,MATCH(Inventory!BT31,'Equipment Lookups'!$J$5:$J$46,0))","v":{"$error":"#N/A"}},{"$error":"#N/A"},{"$error":"#N/A"},{"$error":"#N/A"},{"$error":"#N/A"},{"$error":"#N/A"},{"$error":"#N/A"},{"$error":"#N/A"},{"$error":"#N/A"},{"$error":"#N/A"},{"$error":"#N/A"},{"$error":"#N/A"},{"$error":"#N/A"},{"$error":"#N/A"},{"$error":"#N/A"},{"$error":"#N/A"},{"$error":"#N/A"},{"$error":"#N/A"},{"$error":"#N/A"},{"$error":"#N/A"},0,0,0]
[25,null,null,null,null,null,null,null,"",null,null,null,null,null,null,null,null,null,"",null,"",null,null,"","",null,null,null,null,"",null,"",null,null,null,null,null,null,null,null,0,0,0,{"$f":"IFERROR(IF($AS$3<'Utility Admin'!$I$2,AS32,'Utility Admin'!$I$2/Inventory!$AS$3*AS32),0)","v":0},0,0,null,"","","","","",null,0,0,0,"",0,{"$f":"IF('Project Info'!$D$7=\"TX\",INDEX(EFLH!$AB$4:$AB$30,MATCH(C32,TX_EFLHSanAntonio[Building Type],0),1),'Project Info'!$D$7&\"EquipmentType\")","v":"EquipmentType"},0,0,0,{"$f":"HLOOKUP(BJ32,'Equipment Lookups'!$L$4:$AE$46,VLOOKUP(Inventory!BM32,'Equipment Lookups'!$J$5:$K$46,2,FALSE),TRUE)","v":{"$error":"#N/A"}},{"$f":"IF(L32=\"\",\"\",MAX(IF(L32=\"Unknown\",ProgramYear-INDEX('Equipment Lookups'!$AF$5:$AF$38,MATCH(Inventory!BM32,'Equipment Lookups'!$J$5:$J$38,0)),_xlfn.NUMBERVALUE(RIGHT(L32,4))),INDEX(BaselineRow,1)))","v":""},"",{"$error":"#N/A"},0,"",0,0,{"$f":"HLOOKUP(BQ32,'Equipment Lookups'!$L$4:$AE$46,VLOOKUP(Inventory!BT32,'Equipment Lookups'!$J$5:$K$46,2,FALSE),TRUE)","v":{"$error":"#N/A"}},"",{"$f":"SUBSTITUTE(SUBSTITUTE(CONCATENATE(Q32, V32,IF(AND(State=\"TX\",LEFT(Q32,7)=\"Unitary\",BQ32>65000),\"Other\",W32),IF(BC32>0,IF(X32=\"\",\"A\",X32),\"\"),BS32), \" \", \"\"),\"/\",\"\")","v":{"$error":"#N/A"}},{"$f":"INDEX('Equipment Lookups'!$AG$5:$AG$46,MATCH(Inventory!BT32,'Equipment Lookups'!$J$5:$J$46,0))","v":{"$error":"#N/A"}},{"$f":"IFERROR(IF(AM32<>\"\",AM32,IF(State=\"TX\",INDEX(TX_EFLHSanAntonio[[CFAir Cooled Chiller]:[CFPTRoom]],MATCH(Inventory!C32,TX_EFLHSanAntonio[Building Type],0),MATCH(BV32,EFLH!$N$2:$Q$2,0)),VLOOKUP(C32,INDIRECT($BZ$5),4,FALSE))),\"-\")","v":"-"},{"$f":"IFERROR(IF(AK32<>\"\",AK32,IF(State=\"TX\",INDEX(TX_EFLHSanAntonio[[EFLHcAir Cooled Chiller]:[EFLHcPTRoom]],MATCH(Inventory!C32,TX_EFLHSanAntonio[Building Type],0),MATCH(BV32,EFLH!$V$2:$Y$2,0)),VLOOKUP(C32,INDIRECT($BZ$5),2,FALSE))),\"-\")","v":"-"},{"$f":"IFERROR(IF(AL32<>\"\",AL32,IF(State=\"TX\",INDEX(TX_EFLHSanAntonio[[EFLHhDX]:[EFLHhPTRoom]],MATCH(Inventory!C32,TX_EFLHSanAntonio[Building Type],0),MATCH(BV32,EFLH!$Z$2:$AA$2,0)),VLOOKUP(C32,INDIRECT($BZ$5),3,FALSE))),\"-\")","v":"-"},{"$f":"IF(AN32<>\"\",AN32,IF(State=\"TX\",INDEX(TX_EFLHSanAntonio[[NCPAir Cooled Chiller]:[NCPPTRoom]],MATCH(Inventory!C32,TX_EFLHSanAntonio[Building Type],0),MATCH(BV32,EFLH!$R$2:$U$2,0)),0))","v":0},1,{"$f":"_xlfn.SINGLE(IF(IFERROR(SEARCH(\"Terminal\",G32,1)>0,FALSE),12/(INDEX(INDIRECT(BN32),MATCH(BL32,BaselineRow,0),1)+INDEX(INDIRECT(BN32),MATCH(BL32,BaselineRow,0),2)*BJ32),INDEX(INDIRECT(BN32),MATCH(BL32,BaselineRow,0),1)))","v":{"$error":"#N/A"}},{"$error":"#N/A"},"",{"$error":"#N/A"},{"$error":"#N/A"},"",false,{"$error":"#N/A"},{"$error":"#N/A"},"","","","",{"$error":"#N/A"},{"$error":"#N/A"},{"$error":"#N/A"},0,{"$error":"#VALUE!"},{"$error":"#VALUE!"},{"$error":"#VALUE!"},{"$error":"#VALUE!"},{"$error":"#VALUE!"},{"$error":"#VALUE!"},{"$error":"#VALUE!"},{"$error":"#VALUE!"},0,0,0,0,{"$f":"INDEX('Utility Admin'!$P$2:$AD$2,1,MATCH($Q32,'Utility Admin'!$P$3:$AD$3,0))","v":{"$error":"#N/A"}},{"$f":"INDEX('Utility Admin'!AE$2:AS$2,1,MATCH($Q32,'Utility Admin'!$P$3:$AD$3,0))","v":{"$error":"#N/A"}},{"$f":"IF(kWhOverride=\"\",INDEX('Utility Admin'!$AT$2:$BH$2,1,MATCH($Q32,'Utility Admin'!$P$3:$AD$3,0)),kWhOverride)","v":{"$error":"#N/A"}},{"$f":"IF(B32=\"New Construction\",\"\",IF(L32=\"\",\"\",MAX(ProgramYear-BL32,1,)))","v":""},{"$f":"INDEX('Equipment Lookups'!$AI$5:$BV$46,MATCH(Inventory!BM32,'Equipment Lookups'!$J$5:$J$46,0),MATCH(Inventory!DH32,'Equipment Lookups'!$AI$4:$BV$4,0))","v":{"$error":"#N/A"}},{"$f":"INDEX('Equipment Lookups'!$AH$5:$AH$46,MATCH(Inventory!BT32,'Equipment Lookups'!$J$5:$J$46,0))","v":{"$error":"#N/A"}},{"$error":"#N/A"},{"$error":"#N/A"},{"$error":"#N/A"},{"$error":"#N/A"},{"$error":"#N/A"},{"$error":"#N/A"},{"$error":"#N/A"},{"$error":"#N/A"},{"$error":"#N/A"},{"$error":"#N/A"},{"$error":"#N/A"},{"$error":"#N/A"},{"$error":"#N/A"},{"$error":"#N/A"},{"$error":"#N/A"},{"$error":"#N/A"},{"$error":"#N/A"},{"$error":"#N/A"},{"$error":"#N/A"},0,0,0]
[]
[null,null,null,null,null,null,null,null,{"$f":"IF(G34=\"\",\"\",IF(RIGHT(G34,7)=\"Chiller\",\"Tons\",\"Btuh\"))","v":""},null,null,null,null,null,null,null,null,null,"",null,"",null,null,{"$f":"IF(RIGHT(Q34,7)=\"Chiller\",\"A\",\"\")","v":""},"",null,null,null,null,"",null,{"$f":"IFERROR(IF(BB34=0,\"\",IF(LEFT(Q34,4)=\"Pack\",\"COP\",IF((BR34*12000)<65000,\"HSPF\" & IF(LEFT(Q34,4)=\"Unit\",\"2\",\"\"),\"COP\"))),\"\")","v":""}]

{"sheet":"Summary","index":3,"n_rows":18,"n_cols":8,"rows_kept":18,"cut":false,"hidden":true,"merged":[[1,2,1,6]]}
[1]
[null,"Project Name:",{"$f":"IF('Project Info'!D4=\"\",\"\",'Project Info'!D4)","v":""}]
[]
[null,null,null,"Total Quantity","Total Non-Coinc kW","Total Peak kW","Total kWh","Total Incentive"]
[null,null,null,{"$f":"SUM(D10:D15)","v":0},{"$f":"SUM(E10:E15)","v":0},{"$f":"SUM(F10:F15)","v":0},{"$f":"SUM(G10:G15)","v":0},{"$f":"SUM(H10:H15)","v":0}]
[null,null,null,""]
[]
[]
[null,null,"EUL","Quantity","Non-Coinc kW","Peak kW","kWh","Incentive"]
[null,"Chiller Air Cooled - Centrifugal",{"$f":"'Equipment Lookups'!AH5","v":25},{"$f":"IFERROR(SUMIF(Inventory!$BT$8:$BT$32,'Equipment Lookups'!$J5,Inventory!$AG$8:$AG$32),0)","v":0},{"$f":"IFERROR(SUMIFS(Inventory!AO$8:AO$32,Inventory!$BT$8:$BT$32,'Equipment Lookups'!$J5,Inventory!AO$8:AO$32,\"<>Check*\"),0)","v":0},{"$f":"IFERROR(SUMIFS(Inventory!AP$8:AP$32,Inventory!$BT$8:$BT$32,'Equipment Lookups'!$J5,Inventory!AP$8:AP$32,\"<>Check*\"),0)","v":0},{"$f":"IFERROR(SUMIFS(Inventory!AQ$8:AQ$32,Inventory!$BT$8:$BT$32,'Equipment Lookups'!$J5,Inventory!AQ$8:AQ$32,\"<>Check*\"),0)","v":0},{"$f":"IFERROR(SUMIF(Inventory!$BT$8:$BT$32,'Equipment Lookups'!$J5,Inventory!$AR$8:$AR$32),0)","v":0}]
[null,"Chiller Air Cooled - Screw/Scroll/Reciprocating",{"$f":"'Equipment Lookups'!AH6","v":20},{"$f":"IFERROR(SUMIF(Inventory!$BT$8:$BT$32,'Equipment Lookups'!$J6,Inventory!$AG$8:$AG$32),0)","v":0},{"$f":"IFERROR(SUMIFS(Inventory!AO$8:AO$32,Inventory!$BT$8:$BT$32,'Equipment Lookups'!$J6,Inventory!AO$8:AO$32,\"<>Check*\"),0)","v":0},{"$f":"IFERROR(SUMIFS(Inventory!AP$8:AP$32,Inventory!$BT$8:$BT$32,'Equipment Lookups'!$J6,Inventory!AP$8:AP$32,\"<>Check*\"),0)","v":0},{"$f":"IFERROR(SUMIFS(Inventory!AQ$8:AQ$32,Inventory!$BT$8:$BT$32,'Equipment Lookups'!$J6,Inventory!AQ$8:AQ$32,\"<>Check*\"),0)","v":0},{"$f":"IFERROR(SUMIF(Inventory!$BT$8:$BT$32,'Equipment Lookups'!$J6,Inventory!$AR$8:$AR$32),0)","v":0}]
[null,"Chiller Water Cooled - Centrifugal",{"$f":"'Equipment Lookups'!AH7","v":25},{"$f":"IFERROR(SUMIF(Inventory!$BT$8:$BT$32,'Equipment Lookups'!$J7,Inventory!$AG$8:$AG$32),0)","v":0},{"$f":"IFERROR(SUMIFS(Inventory!AO$8:AO$32,Inventory!$BT$8:$BT$32,'Equipment Lookups'!$J7,Inventory!AO$8:AO$32,\"<>Check*\"),0)","v":0},{"$f":"IFERROR(SUMIFS(Inventory!AP$8:AP$32,Inventory!$BT$8:$BT$32,'Equipment Lookups'!$J7,Inventory!AP$8:AP$32,\"<>Check*\"),0)","v":0},{"$f":"IFERROR(SUMIFS(Inventory!AQ$8:AQ$32,Inventory!$BT$8:$BT$32,'Equipment Lookups'!$J7,Inventory!AQ$8:AQ$32,\"<>Check*\"),0)","v":0},{"$f":"IFERROR(SUMIF(Inventory!$BT$8:$BT$32,'Equipment Lookups'!$J7,Inventory!$AR$8:$AR$32),0)","v":0}]
[null,"Chiller Water Cooled - Screw/Scroll/Reciprocating",{"$f":"'Equipment Lookups'!AH8","v":20},{"$f":"IFERROR(SUMIF(Inventory!$BT$8:$BT$32,'Equipment Lookups'!$J8,Inventory!$AG$8:$AG$32),0)","v":0},{"$f":"IFERROR(SUMIFS(Inventory!AO$8:AO$32,Inventory!$BT$8:$BT$32,'Equipment Lookups'!$J8,Inventory!AO$8:AO$32,\"<>Check*\"),0)","v":0},{"$f":"IFERROR(SUMIFS(Inventory!AP$8:AP$32,Inventory!$BT$8:$BT$32,'Equipment Lookups'!$J8,Inventory!AP$8:AP$32,\"<>Check*\"),0)","v":0},{"$f":"IFERROR(SUMIFS(Inventory!AQ$8:AQ$32,Inventory!$BT$8:$BT$32,'Equipment Lookups'!$J8,Inventory!AQ$8:AQ$32,\"<>Check*\"),0)","v":0},{"$f":"IFERROR(SUMIF(Inventory!$BT$8:$BT$32,'Equipment Lookups'!$J8,Inventory!$AR$8:$AR$32),0)","v":0}]
[null,"DX AC/HP",{"$f":"'Equipment Lookups'!AH9","v":15},{"$f":"IFERROR(SUMIFS(Inventory!AG8:AG32,Inventory!BV8:BV32,\"DX\"),0)","v":0},{"$f":"IFERROR(SUMIFS(Inventory!AO$8:AO$32,Inventory!$BV$8:$BV$32,\"DX\",Inventory!AO$8:AO$32,\"<>Check*\"),0)","v":0},{"$f":"IFERROR(SUMIFS(Inventory!AP$8:AP$32,Inventory!$BV$8:$BV$32,\"DX\",Inventory!AP$8:AP$32,\"<>Check*\"),0)","v":0},{"$f":"IFERROR(SUMIFS(Inventory!AQ$8:AQ$32,Inventory!$BV$8:$BV$32,\"DX\",Inventory!AQ$8:AQ$32,\"<>Check*\"),0)","v":0},{"$f":"IFERROR(SUMIFS(Inventory!AR$8:AR$32,Inventory!$BV$8:$BV$32,\"DX\",Inventory!AR$8:AR$32,\"<>Check*\"),0)","v":0}]
[null,"Room AC/HP",{"$f":"'Equipment Lookups'!AH15","v":9},{"$f":"IFERROR(SUMIFS(Inventory!AG8:AG32,Inventory!BV8:BV32,\"PTRoom\"),0)","v":0},{"$f":"IFERROR(SUMIFS(Inventory!AO$8:AO$32,Inventory!$BV$8:$BV$32,\"PTRoom*\",Inventory!AO$8:AO$32,\"<>Check*\"),0)","v":0},{"$f":"IFERROR(SUMIFS(Inventory!AP$8:AP$32,Inventory!$BV$8:$BV$32,\"PTRoom\",Inventory!AP$8:AP$32,\"<>Check*\"),0)","v":0},{"$f":"IFERROR(SUMIFS(Inventory!AQ$8:AQ$32,Inventory!$BV$8:$BV$32,\"PTRoom\",Inventory!AQ$8:AQ$32,\"<>Check*\"),0)","v":0},{"$f":"IFERROR(SUMIFS(Inventory!AR$8:AR$32,Inventory!$BV$8:$BV$32,\"PTRoom\",Inventory!AR$8:AR$32,\"<>Check*\"),0)","v":0}]
[]
[]
[null,"Version:",{"$f":"'Project Info'!K1","v":"v24.0"}]

{"sheet":"Report","index":4,"n_rows":124,"n_cols":13,"rows_kept":124,"cut":false,"hidden":true,"merged":[[104,1,104,5],[105,1,105,5],[106,7,106,9],[123,1,123,5],[125,1,125,5],[39,1,39,2],[39,4,39,5],[43,1,43,5],[46,7,46,8],[46,9,46,10],[20,1,20,5],[22,1,22,5],[29,1,29,2],[32,1,32,5],[34,1,34,2],[34,4,34,5],[18,1,18,2],[1,1,1,5],[2,1,2,5],[4,1,4,5],[5,1,5,5],[6,1,6,5],[7,1,7,5],[13,1,14,5],[15,1,16,2],[17,1,17,2],[15,3,16,5]]}
[1]
[null,"Energy Efficiency Assessment"]
[null,{"$f":"'Project Info'!I7&\" - \"&'Project Info'!I8","v":" - "}]
[]
[null,{"$f":"IF('Project Info'!$D$4=\"\",\"Prepared for: [Company Name]\",CONCATENATE(\"Prepared for: \",'Project Info'!$D$4))","v":"Prepared for: [Company Name]"}]
[null,{"$f":"IF('Project Info'!$D$10=\"\",\"Contact Name:\",CONCATENATE(\"Contact Name: \",'Project Info'!$D$10))","v":"Contact Name:"}]
[null,{"$f":"IF('Project Info'!$D$11=\"\",\"Contact Phone:\",CONCATENATE(\"Contact Phone: \",'Project Info'!$D$11))","v":"Contact Phone:"}]
[null,{"$f":"IF('Project Info'!$I$11=\"\",\"Contact Email:\",CONCATENATE(\"Contact Email: \",'Project Info'!$I$11))","v":"Contact Email:"}]
[]
[null,"Est. Project Cost",{"$f":"'Project Info'!$D$17","v":0},null,"Est. Annual Energy Savings",{"$f":"($B$26*$F$36)+($B$27*$F$37)","v":0}]
[null,"Est. Utility Incentive Rate/kWh",{"$f":"IFERROR(Inventory!AS3/Inventory!AQ3,0)","v":0},null,"Simple Payback (years)",{"$f":"MAX(0,IF(ISERROR($C$38/$F$38),0,$C$38/$F$38))","v":0}]
[null,"Est. Utility Incentive*",{"$f":"Inventory!$AR$3","v":0},null,"Total # of Units",{"$f":"SUM(Inventory!AG8:AG32)","v":0}]
[null,{"$f":"IF('Utility Admin'!$G$2<>999999,\"*Incentive may be capped at $\"&'Utility Admin'!$G$2&\" per project or \"&'Utility Admin'!$H$2*100&\"% of project cost\",\"*Incentive may be capped at \"&'Utility Admin'!$H$2*100&\"% of project cost\")","v":{"$error":"#N/A"}}]
[null,"The undersigned person hereby represents that he/she has received L.O.I. & Project Application and is authorized to commit the Customer to participate in the Program."]
[]
[null,"Incentive to be Paid to:",null,{"$f":"IF('Project Info'!D16=\"\",\"\",'Project Info'!D16)","v":""}]
[]
[]
[null,"Authorized Signature",null,null,"Printed Name","Date"]
[]
[null,"CLEAResult makes no warranties, whether expressed or implied, nor assumes any legal liability or responsibility for the accuracy, completeness, or usefulness of the contents of this Energy Efficiency Assessment. These calculations are based on the rates displayed below. These calculations are not exact and should only be used to formulate a decision on whether or not to pursue an HVAC retrofit."]
[]
[null,{"$f":"TODAY()","v":"2024-01-18"}]
[]
[null,"Rate:"]
[null,{"$f":"'Project Info'!J17","v":0},"$/kW"]
[null,{"$f":"'Project Info'!$I$17","v":0.1},"$/kWh"]
[]
[null,"Building Type:"]
[null,{"$f":"IF(Inventory!C8=\"\",\"\",Inventory!C8)","v":""}]
[]
[null,"Project Description:"]
[null,{"$f":"IF('Project Info'!D19=\"\",\"\",'Project Info'!D19)","v":""}]
[]
[null,"Estimated Project Cost",null,null,"Energy Savings"]
[null,"Est. Project Cost",{"$f":"'Project Info'!$D$17","v":0},null,"Est. kW Savings",{"$f":"Inventory!$AP$3","v":0}]
[null,"Est. Utility Incentive",{"$f":"Inventory!$AR$3","v":0},null,"Est. kWh Savings",{"$f":"Inventory!$AQ$3","v":0}]
[null,"Est. Project Cost after Incentive",{"$f":"$C$36-$C$37","v":0},null,"Est. Annual Energy Savings",{"$f":"($B$26*$F$36)+($B$27*$F$37)","v":0}]
[]
[null,"Payback & Return on Investment",null,null,"Cost of Waiting"]
[null,"Simple Payback (years)",{"$f":"MAX(0,IF(ISERROR($C$38/$F$38),0,$C$38/$F$38))","v":0},null,"Monthly",{"$f":"$F$42/12","v":0}]
[null,"Return on Investment",{"$f":"IF(ISERROR(1/$C$41),0,1/$C$41)","v":0},null,"Annually",{"$f":"$F$38","v":0}]
[]
[null,"CLEAResult makes this tool available to participants in our Energy Efficiency programs. CLEAResult makes no warranties, whether expressed or implied, nor assumes any legal liability or responsibility for the accuracy, completeness, or usefulness of the contents of this Energy Efficiency Assessment. These calculations are based on the rates displayed above. These calculations are not exact and should only be used to formulate a decision on whether or not to pursue an HVAC retrofit."]
[]
[]
[null,null,null,null,null,null,null,"Existing",null,"Post-Retrofit",null,"Existing",{"$f":"($H$49*$B$26)+($I$49*$B$27)","v":0}]
[null,null,null,null,null,null,null,"kW","kWh","kW","kWh","Retrofit",{"$f":"($J$49*$B$26)+($K$49*$B$27)","v":0}]
[null,null,null,null,null,null,null,{"$f":"IFERROR(SUM(Inventory!EE8:EE32),0)","v":0},{"$f":"IFERROR(SUM(Inventory!ED8:ED32),0)","v":0},{"$f":"$H$49-$F$36","v":0},{"$f":"$I$49-$F$37","v":0},"Cost of Waiting",{"$f":"$M$47-$M$48","v":0}]
[]
[null,null,null,null,null,null,null,null,null,null,null,"Y-Axis","X-Axis"]
[null,null,null,null,null,null,null,null,null,null,null,"ANNUAL COST\nOF WAITING!",{"$f":"$M$49","v":0}]
[null,null,null,null,null,null,null,null,null,null,null,"Annual Cost\nafter Retrofit",{"$f":"$M$48","v":0}]
[null,null,null,null,null,null,null,null,null,null,null,"Annual Cost\nbefore Retrofit",{"$f":"$M$47","v":0}]
[]
[]
[]
[]
[]
[]
[]
[]
[]
[]
[]
[]
[]
[]
[]
[]
[]
[null,null,"Totals:",null,null,"Totals:"]
[null,"Est. Demand Reduction (kW) :",{"$f":"$F$36","v":0},null,"Est. Total Year 1 Cash Flow :",{"$f":"$J$79","v":0}]
[null,"Est. Energy Reduction (kWh) :",{"$f":"$F$37","v":0},null,"Est. Total Year 5 Cash Flow :",{"$f":"$J$80","v":0}]
[null,"Est. Annual $ Savings :",{"$f":"$F$38","v":0},null,"Est. Total Year 10 Cash Flow :",{"$f":"$J$81","v":0}]
[null,"Est. Project Cost :",{"$f":"$C$36","v":0},null,"Est. Total Year 15 Cash Flow :",{"$f":"$J$82","v":0}]
[null,"Est. Program Incentive :",{"$f":"$C$37","v":0}]
[]
[null,null,null,null,null,null,null,"Year 1",{"$f":"$F$38","v":0},{"$f":"$I79-$C$38","v":0}]
[null,null,null,null,null,null,null,"Year 5",{"$f":"$I$79*5","v":0},{"$f":"$I80-$C$38","v":0}]
[null,null,null,null,null,null,null,"Year 10",{"$f":"$I$79*10","v":0},{"$f":"$I81-$C$38","v":0}]
[null,null,null,null,null,null,null,"Year 15",{"$f":"$I$79*15","v":0},{"$f":"$I82-$C$38","v":0}]
[]
[]
[]
[]
[]
[]
[]
[]
[]
[]
[]
[]
[]
[]
[]
[]
[]
[]
[]
[]
[]
[]
[null,"Annual Carbon Impact"]
[null,"Your energy efficiency opportunity's estimated energy savings is roughly equivalent to the annual carbon dioxide emissions reduction of:"]
[null,null,null,null,null,null,null,"CO2 Equivalency Type",null,null,"kWh","CO2 (Tons)","Equivalency"]
[null,null,null,null,null,null,null,"Acres of Forest               ",null,null,{"$f":"$F$37","v":0},{"$f":"$K108*0.00068956","v":0},{"$f":"$L108/1.22","v":0}]
[null,null,null,null,null,null,null,"Recyc Tons of Waste               ",null,null,{"$f":"$F$37","v":0},{"$f":"$K109*0.00068956","v":0},{"$f":"$L109/2.67","v":0}]
[null,null,null,null,null,null,null,"Passenger Vehicles               ",null,null,{"$f":"$F$37","v":0},{"$f":"$K110*0.00068956","v":0},{"$f":"$L110/4.8","v":0}]
[null,null,null,null,null,null,null,"Homes Worth of Elec               ",null,null,{"$f":"$F$37","v":0},{"$f":"$K111*0.00068956","v":0},{"$f":"$L111/6.68","v":0}]
[null,null,null,null,null,null,null,"Tanker Trucks of Gas               ",null,null,{"$f":"$F$37","v":0},{"$f":"$K112*0.00068956","v":0},{"$f":"$L112/75.82","v":0}]
[]
[]
[]
[]
[]
[]
[]
[]
[]
[]
[]
[null,"NOTES"]

{"sheet":"Inspection Form","index":5,"n_rows":31,"n_cols":23,"rows_kept":31,"cut":false,"hidden":true,"merged":[[0,12,0,13],[2,2,4,2],[2,3,4,3],[3,4,4,4],[3,6,3,7],[3,8,4,8],[3,5,4,5],[3,9,4,9],[3,13,4,13],[3,20,4,20],[3,21,4,21],[3,16,4,16],[3,17,4,17],[3,18,4,18],[3,14,3,15],[3,10,4,10],[3,11,4,11],[3,12,4,12],[3,19,4,19]]}
[1,null,"HVAC INSPECTION FORM",null,null,null,null,null,null,null,null,"Project:",{"$f":"IF('Project Info'!D4=\"\",\"\",'Project Info'!D4)","v":""},null,null,null,null,null,"Pre Inspection"]
[null,null,"Post Inspection",null,null,null,null,null,null,null,null,null,null,null,null,null,null,null,"Post Inspection"]
[null,null,"Project Type","Building Type","Removed Equipment",null,null,null,null,null,null,"Installed Equipment"]
[null,null,null,null,"Make / Model #","Equipment Type","Cooling Capacity",null,"Equipment Detail","# of Units","Manuf Year","Make / Model #","Serial #","Equipment Type","Cooling Capacity",null,"Equipment Detail","Heating Section Type","# of Units","Part of Redundant Chiller System?","HP of Condenser Water Pump","HP of Cooling Tower Fan"]
[null,null,null,null,null,null,"Units","Rating",null,null,null,null,null,null,"Units","Rating"]
[null,1,{"$f":"IF(Inventory!B8=\"\",\"\",Inventory!B8)","v":""},{"$f":"IF(Inventory!C8=\"\",\"\",Inventory!C8)","v":""},{"$f":"IF(Inventory!D8=\"\",\"\",Inventory!D8)&\" \"&IF(Inventory!E8=\"\",\"\",Inventory!E8)","v":" "},{"$f":"IF(Inventory!G8=\"\",\"\",Inventory!G8)","v":""},{"$f":"IF(Inventory!I8=\"\",\"\",Inventory!I8)","v":""},{"$f":"IF(Inventory!H8=\"\",\"\",Inventory!H8)","v":""},{"$f":"IF(Inventory!J8=\"\",\"\",Inventory!J8)","v":""},{"$f":"IF(Inventory!K8=\"\",\"\",Inventory!K8)","v":""},{"$f":"IF(Inventory!L8=\"\",\"\",Inventory!L8)","v":""},{"$f":"IF(Inventory!M8=\"\",\"\",Inventory!M8)&\" \"&IF(Inventory!N8=\"\",\"\",Inventory!N8)","v":" "},{"$f":"IF(Inventory!O8=\"\",\"\",Inventory!O8)","v":""},{"$f":"IF(Inventory!Q8=\"\",\"\",Inventory!Q8)","v":""},{"$f":"IF(Inventory!S8=\"\",\"\",Inventory!S8)","v":""},{"$f":"IF(Inventory!R8=\"\",\"\",Inventory!R8)","v":""},{"$f":"IF(Inventory!V8=\"\",\"\",Inventory!V8)","v":""},{"$f":"IF(Inventory!W8=\"\",\"\",Inventory!W8)","v":""},{"$f":"IF(Inventory!AG8=\"\",\"\",Inventory!AG8)","v":""},{"$f":"IF(Inventory!Y8=\"\",\"\",Inventory!Y8)","v":""},{"$f":"IF(Inventory!Z8=\"\",\"\",Inventory!Z8)","v":""},{"$f":"IF(Inventory!AA8=\"\",\"\",Inventory!AA8)","v":""},{"$f":"IFERROR(SEARCH(\"Chiller\",N6),0)","v":0}]
[null,2,{"$f":"IF(Inventory!B9=\"\",\"\",Inventory!B9)","v":""},{"$f":"IF(Inventory!C9=\"\",\"\",Inventory!C9)","v":""},{"$f":"IF(Inventory!D9=\"\",\"\",Inventory!D9)&\" \"&IF(Inventory!E9=\"\",\"\",Inventory!E9)","v":" "},{"$f":"IF(Inventory!G9=\"\",\"\",Inventory!G9)","v":""},{"$f":"IF(Inventory!I9=\"\",\"\",Inventory!I9)","v":""},{"$f":"IF(Inventory!H9=\"\",\"\",Inventory!H9)","v":""},{"$f":"IF(Inventory!J9=\"\",\"\",Inventory!J9)","v":""},{"$f":"IF(Inventory!K9=\"\",\"\",Inventory!K9)","v":""},{"$f":"IF(Inventory!L9=\"\",\"\",Inventory!L9)","v":""},{"$f":"IF(Inventory!M9=\"\",\"\",Inventory!M9)&\" \"&IF(Inventory!N9=\"\",\"\",Inventory!N9)","v":" "},{"$f":"IF(Inventory!O9=\"\",\"\",Inventory!O9)","v":""},{"$f":"IF(Inventory!Q9=\"\",\"\",Inventory!Q9)","v":""},{"$f":"IF(Inventory!S9=\"\",\"\",Inventory!S9)","v":""},{"$f":"IF(Inventory!R9=\"\",\"\",Inventory!R9)","v":""},{"$f":"IF(Inventory!V9=\"\",\"\",Inventory!V9)","v":""},{"$f":"IF(Inventory!W9=\"\",\"\",Inventory!W9)","v":""},{"$f":"IF(Inventory!AG9=\"\",\"\",Inventory!AG9)","v":""},{"$f":"IF(Inventory!Y9=\"\",\"\",Inventory!Y9)","v":""},{"$f":"IF(Inventory!Z9=\"\",\"\",Inventory!Z9)","v":""},{"$f":"IF(Inventory!AA9=\"\",\"\",Inventory!AA9)","v":""},{"$f":"IFERROR(SEARCH(\"Chiller\",N7),0)","v":0}]
[null,3,{"$f":"IF(Inventory!B10=\"\",\"\",Inventory!B10)","v":""},{"$f":"IF(Inventory!C10=\"\",\"\",Inventory!C10)","v":""},{"$f":"IF(Inventory!D10=\"\",\"\",Inventory!D10)&\" \"&IF(Inventory!E10=\"\",\"\",Inventory!E10)","v":" "},{"$f":"IF(Inventory!G10=\"\",\"\",Inventory!G10)","v":""},{"$f":"IF(Inventory!I10=\"\",\"\",Inventory!I10)","v":""},{"$f":"IF(Inventory!H10=\"\",\"\",Inventory!H10)","v":""},{"$f":"IF(Inventory!J10=\"\",\"\",Inventory!J10)","v":""},{"$f":"IF(Inventory!K10=\"\",\"\",Inventory!K10)","v":""},{"$f":"IF(Inventory!L10=\"\",\"\",Inventory!L10)","v":""},{"$f":"IF(Inventory!M10=\"\",\"\",Inventory!M10)&\" \"&IF(Inventory!N10=\"\",\"\",Inventory!N10)","v":" "},{"$f":"IF(Inventory!O10=\"\",\"\",Inventory!O10)","v":""},{"$f":"IF(Inventory!Q10=\"\",\"\",Inventory!Q10)","v":""},{"$f":"IF(Inventory!S10=\"\",\"\",Inventory!S10)","v":""},{"$f":"IF(Inventory!R10=\"\",\"\",Inventory!R10)","v":""},{"$f":"IF(Inventory!V10=\"\",\"\",Inventory!V10)","v":""},{"$f":"IF(Inventory!W10=\"\",\"\",Inventory!W10)","v":""},{"$f":"IF(Inventory!AG10=\"\",\"\",Inventory!AG10)","v":""},{"$f":"IF(Inventory!Y10=\"\",\"\",Inventory!Y10)","v":""},{"$f":"IF(Inventory!Z10=\"\",\"\",Inventory!Z10)","v":""},{"$f":"IF(Inventory!AA10=\"\",\"\",Inventory!AA10)","v":""},0]
[null,4,{"$f":"IF(Inventory!B11=\"\",\"\",Inventory!B11)","v":""},{"$f":"IF(Inventory!C11=\"\",\"\",Inventory!C11)","v":""},{"$f":"IF(Inventory!D11=\"\",\"\",Inventory!D11)&\" \"&IF(Inventory!E11=\"\",\"\",Inventory!E11)","v":" "},{"$f":"IF(Inventory!G11=\"\",\"\",Inventory!G11)","v":""},{"$f":"IF(Inventory!I11=\"\",\"\",Inventory!I11)","v":""},{"$f":"IF(Inventory!H11=\"\",\"\",Inventory!H11)","v":""},{"$f":"IF(Inventory!J11=\"\",\"\",Inventory!J11)","v":""},{"$f":"IF(Inventory!K11=\"\",\"\",Inventory!K11)","v":""},{"$f":"IF(Inventory!L11=\"\",\"\",Inventory!L11)","v":""},{"$f":"IF(Inventory!M11=\"\",\"\",Inventory!M11)&\" \"&IF(Inventory!N11=\"\",\"\",Inventory!N11)","v":" "},{"$f":"IF(Inventory!O11=\"\",\"\",Inventory!O11)","v":""},{"$f":"IF(Inventory!Q11=\"\",\"\",Inventory!Q11)","v":""},{"$f":"IF(Inventory!S11=\"\",\"\",Inventory!S11)","v":""},{"$f":"IF(Inventory!R11=\"\",\"\",Inventory!R11)","v":""},{"$f":"IF(Inventory!V11=\"\",\"\",Inventory!V11)","v":""},{"$f":"IF(Inventory!W11=\"\",\"\",Inventory!W11)","v":""},{"$f":"IF(Inventory!AG11=\"\",\"\",Inventory!AG11)","v":""},{"$f":"IF(Inventory!Y11=\"\",\"\",Inventory!Y11)","v":""},{"$f":"IF(Inventory!Z11=\"\",\"\",Inventory!Z11)","v":""},{"$f":"IF(Inventory!AA11=\"\",\"\",Inventory!AA11)","v":""},0]
[null,5,{"$f":"IF(Inventory!B12=\"\",\"\",Inventory!B12)","v":""},{"$f":"IF(Inventory!C12=\"\",\"\",Inventory!C12)","v":""},{"$f":"IF(Inventory!D12=\"\",\"\",Inventory!D12)&\" \"&IF(Inventory!E12=\"\",\"\",Inventory!E12)","v":" "},{"$f":"IF(Inventory!G12=\"\",\"\",Inventory!G12)","v":""},{"$f":"IF(Inventory!I12=\"\",\"\",Inventory!I12)","v":""},{"$f":"IF(Inventory!H12=\"\",\"\",Inventory!H12)","v":""},{"$f":"IF(Inventory!J12=\"\",\"\",Inventory!J12)","v":""},{"$f":"IF(Inventory!K12=\"\",\"\",Inventory!K12)","v":""},{"$f":"IF(Inventory!L12=\"\",\"\",Inventory!L12)","v":""},{"$f":"IF(Inventory!M12=\"\",\"\",Inventory!M12)&\" \"&IF(Inventory!N12=\"\",\"\",Inventory!N12)","v":" "},{"$f":"IF(Inventory!O12=\"\",\"\",Inventory!O12)","v":""},{"$f":"IF(Inventory!Q12=\"\",\"\",Inventory!Q12)","v":""},{"$f":"IF(Inventory!S12=\"\",\"\",Inventory!S12)","v":""},{"$f":"IF(Inventory!R12=\"\",\"\",Inventory!R12)","v":""},{"$f":"IF(Inventory!V12=\"\",\"\",Inventory!V12)","v":""},{"$f":"IF(Inventory!W12=\"\",\"\",Inventory!W12)","v":""},{"$f":"IF(Inventory!AG12=\"\",\"\",Inventory!AG12)","v":""},{"$f":"IF(Inventory!Y12=\"\",\"\",Inventory!Y12)","v":""},{"$f":"IF(Inventory!Z12=\"\",\"\",Inventory!Z12)","v":""},{"$f":"IF(Inventory!AA12=\"\",\"\",Inventory!AA12)","v":""},0]
[null,6,{"$f":"IF(Inventory!B13=\"\",\"\",Inventory!B13)","v":""},{"$f":"IF(Inventory!C13=\"\",\"\",Inventory!C13)","v":""},{"$f":"IF(Inventory!D13=\"\",\"\",Inventory!D13)&\" \"&IF(Inventory!E13=\"\",\"\",Inventory!E13)","v":" "},{"$f":"IF(Inventory!G13=\"\",\"\",Inventory!G13)","v":""},{"$f":"IF(Inventory!I13=\"\",\"\",Inventory!I13)","v":""},{"$f":"IF(Inventory!H13=\"\",\"\",Inventory!H13)","v":""},{"$f":"IF(Inventory!J13=\"\",\"\",Inventory!J13)","v":""},{"$f":"IF(Inventory!K13=\"\",\"\",Inventory!K13)","v":""},{"$f":"IF(Inventory!L13=\"\",\"\",Inventory!L13)","v":""},{"$f":"IF(Inventory!M13=\"\",\"\",Inventory!M13)&\" \"&IF(Inventory!N13=\"\",\"\",Inventory!N13)","v":" "},{"$f":"IF(Inventory!O13=\"\",\"\",Inventory!O13)","v":""},{"$f":"IF(Inventory!Q13=\"\",\"\",Inventory!Q13)","v":""},{"$f":"IF(Inventory!S13=\"\",\"\",Inventory!S13)","v":""},{"$f":"IF(Inventory!R13=\"\",\"\",Inventory!R13)","v":""},{"$f":"IF(Inventory!V13=\"\",\"\",Inventory!V13)","v":""},{"$f":"IF(Inventory!W13=\"\",\"\",Inventory!W13)","v":""},{"$f":"IF(Inventory!AG13=\"\",\"\",Inventory!AG13)","v":""},{"$f":"IF(Inventory!Y13=\"\",\"\",Inventory!Y13)","v":""},{"$f":"IF(Inventory!Z13=\"\",\"\",Inventory!Z13)","v":""},{"$f":"IF(Inventory!AA13=\"\",\"\",Inventory!AA13)","v":""},0]
[null,7,{"$f":"IF(Inventory!B14=\"\",\"\",Inventory!B14)","v":""},{"$f":"IF(Inventory!C14=\"\",\"\",Inventory!C14)","v":""},{"$f":"IF(Inventory!D14=\"\",\"\",Inventory!D14)&\" \"&IF(Inventory!E14=\"\",\"\",Inventory!E14)","v":" "},{"$f":"IF(Inventory!G14=\"\",\"\",Inventory!G14)","v":""},{"$f":"IF(Inventory!I14=\"\",\"\",Inventory!I14)","v":""},{"$f":"IF(Inventory!H14=\"\",\"\",Inventory!H14)","v":""},{"$f":"IF(Inventory!J14=\"\",\"\",Inventory!J14)","v":""},{"$f":"IF(Inventory!K14=\"\",\"\",Inventory!K14)","v":""},{"$f":"IF(Inventory!L14=\"\",\"\",Inventory!L14)","v":""},{"$f":"IF(Inventory!M14=\"\",\"\",Inventory!M14)&\" \"&IF(Inventory!N14=\"\",\"\",Inventory!N14)","v":" "},{"$f":"IF(Inventory!O14=\"\",\"\",Inventory!O14)","v":""},{"$f":"IF(Inventory!Q14=\"\",\"\",Inventory!Q14)","v":""},{"$f":"IF(Inventory!S14=\"\",\"\",Inventory!S14)","v":""},{"$f":"IF(Inventory!R14=\"\",\"\",Inventory!R14)","v":""},{"$f":"IF(Inventory!V14=\"\",\"\",Inventory!V14)","v":""},{"$f":"IF(Inventory!W14=\"\",\"\",Inventory!W14)","v":""},{"$f":"IF(Inventory!AG14=\"\",\"\",Inventory!AG14)","v":""},{"$f":"IF(Inventory!Y14=\"\",\"\",Inventory!Y14)","v":""},{"$f":"IF(Inventory!Z14=\"\",\"\",Inventory!Z14)","v":""},{"$f":"IF(Inventory!AA14=\"\",\"\",Inventory!AA14)","v":""},0]
[null,8,{"$f":"IF(Inventory!B15=\"\",\"\",Inventory!B15)","v":""},{"$f":"IF(Inventory!C15=\"\",\"\",Inventory!C15)","v":""},{"$f":"IF(Inventory!D15=\"\",\"\",Inventory!D15)&\" \"&IF(Inventory!E15=\"\",\"\",Inventory!E15)","v":" "},{"$f":"IF(Inventory!G15=\"\",\"\",Inventory!G15)","v":""},{"$f":"IF(Inventory!I15=\"\",\"\",Inventory!I15)","v":""},{"$f":"IF(Inventory!H15=\"\",\"\",Inventory!H15)","v":""},{"$f":"IF(Inventory!J15=\"\",\"\",Inventory!J15)","v":""},{"$f":"IF(Inventory!K15=\"\",\"\",Inventory!K15)","v":""},{"$f":"IF(Inventory!L15=\"\",\"\",Inventory!L15)","v":""},{"$f":"IF(Inventory!M15=\"\",\"\",Inventory!M15)&\" \"&IF(Inventory!N15=\"\",\"\",Inventory!N15)","v":" "},{"$f":"IF(Inventory!O15=\"\",\"\",Inventory!O15)","v":""},{"$f":"IF(Inventory!Q15=\"\",\"\",Inventory!Q15)","v":""},{"$f":"IF(Inventory!S15=\"\",\"\",Inventory!S15)","v":""},{"$f":"IF(Inventory!R15=\"\",\"\",Inventory!R15)","v":""},{"$f":"IF(Inventory!V15=\"\",\"\",Inventory!V15)","v":""},{"$f":"IF(Inventory!W15=\"\",\"\",Inventory!W15)","v":""},{"$f":"IF(Inventory!AG15=\"\",\"\",Inventory!AG15)","v":""},{"$f":"IF(Inventory!Y15=\"\",\"\",Inventory!Y15)","v":""},{"$f":"IF(Inventory!Z15=\"\",\"\",Inventory!Z15)","v":""},{"$f":"IF(Inventory!AA15=\"\",\"\",Inventory!AA15)","v":""},0]
[null,9,{"$f":"IF(Inventory!B16=\"\",\"\",Inventory!B16)","v":""},{"$f":"IF(Inventory!C16=\"\",\"\",Inventory!C16)","v":""},{"$f":"IF(Inventory!D16=\"\",\"\",Inventory!D16)&\" \"&IF(Inventory!E16=\"\",\"\",Inventory!E16)","v":" "},{"$f":"IF(Inventory!G16=\"\",\"\",Inventory!G16)","v":""},{"$f":"IF(Inventory!I16=\"\",\"\",Inventory!I16)","v":""},{"$f":"IF(Inventory!H16=\"\",\"\",Inventory!H16)","v":""},{"$f":"IF(Inventory!J16=\"\",\"\",Inventory!J16)","v":""},{"$f":"IF(Inventory!K16=\"\",\"\",Inventory!K16)","v":""},{"$f":"IF(Inventory!L16=\"\",\"\",Inventory!L16)","v":""},{"$f":"IF(Inventory!M16=\"\",\"\",Inventory!M16)&\" \"&IF(Inventory!N16=\"\",\"\",Inventory!N16)","v":" "},{"$f":"IF(Inventory!O16=\"\",\"\",Inventory!O16)","v":""},{"$f":"IF(Inventory!Q16=\"\",\"\",Inventory!Q16)","v":""},{"$f":"IF(Inventory!S16=\"\",\"\",Inventory!S16)","v":""},{"$f":"IF(Inventory!R16=\"\",\"\",Inventory!R16)","v":""},{"$f":"IF(Inventory!V16=\"\",\"\",Inventory!V16)","v":""},{"$f":"IF(Inventory!W16=\"\",\"\",Inventory!W16)","v":""},{"$f":"IF(Inventory!AG16=\"\",\"\",Inventory!AG16)","v":""},{"$f":"IF(Inventory!Y16=\"\",\"\",Inventory!Y16)","v":""},{"$f":"IF(Inventory!Z16=\"\",\"\",Inventory!Z16)","v":""},{"$f":"IF(Inventory!AA16=\"\",\"\",Inventory!AA16)","v":""},0]
[null,10,{"$f":"IF(Inventory!B17=\"\",\"\",Inventory!B17)","v":""},{"$f":"IF(Inventory!C17=\"\",\"\",Inventory!C17)","v":""},{"$f":"IF(Inventory!D17=\"\",\"\",Inventory!D17)&\" \"&IF(Inventory!E17=\"\",\"\",Inventory!E17)","v":" "},{"$f":"IF(Inventory!G17=\"\",\"\",Inventory!G17)","v":""},{"$f":"IF(Inventory!I17=\"\",\"\",Inventory!I17)","v":""},{"$f":"IF(Inventory!H17=\"\",\"\",Inventory!H17)","v":""},{"$f":"IF(Inventory!J17=\"\",\"\",Inventory!J17)","v":""},{"$f":"IF(Inventory!K17=\"\",\"\",Inventory!K17)","v":""},{"$f":"IF(Inventory!L17=\"\",\"\",Inventory!L17)","v":""},{"$f":"IF(Inventory!M17=\"\",\"\",Inventory!M17)&\" \"&IF(Inventory!N17=\"\",\"\",Inventory!N17)","v":" "},{"$f":"IF(Inventory!O17=\"\",\"\",Inventory!O17)","v":""},{"$f":"IF(Inventory!Q17=\"\",\"\",Inventory!Q17)","v":""},{"$f":"IF(Inventory!S17=\"\",\"\",Inventory!S17)","v":""},{"$f":"IF(Inventory!R17=\"\",\"\",Inventory!R17)","v":""},{"$f":"IF(Inventory!V17=\"\",\"\",Inventory!V17)","v":""},{"$f":"IF(Inventory!W17=\"\",\"\",Inventory!W17)","v":""},{"$f":"IF(Inventory!AG17=\"\",\"\",Inventory!AG17)","v":""},{"$f":"IF(Inventory!Y17=\"\",\"\",Inventory!Y17)","v":""},{"$f":"IF(Inventory!Z17=\"\",\"\",Inventory!Z17)","v":""},{"$f":"IF(Inventory!AA17=\"\",\"\",Inventory!AA17)","v":""},0]
[null,11,{"$f":"IF(Inventory!B18=\"\",\"\",Inventory!B18)","v":""},{"$f":"IF(Inventory!C18=\"\",\"\",Inventory!C18)","v":""},{"$f":"IF(Inventory!D18=\"\",\"\",Inventory!D18)&\" \"&IF(Inventory!E18=\"\",\"\",Inventory!E18)","v":" "},{"$f":"IF(Inventory!G18=\"\",\"\",Inventory!G18)","v":""},{"$f":"IF(Inventory!I18=\"\",\"\",Inventory!I18)","v":""},{"$f":"IF(Inventory!H18=\"\",\"\",Inventory!H18)","v":""},{"$f":"IF(Inventory!J18=\"\",\"\",Inventory!J18)","v":""},{"$f":"IF(Inventory!K18=\"\",\"\",Inventory!K18)","v":""},{"$f":"IF(Inventory!L18=\"\",\"\",Inventory!L18)","v":""},{"$f":"IF(Inventory!M18=\"\",\"\",Inventory!M18)&\" \"&IF(Inventory!N18=\"\",\"\",Inventory!N18)","v":" "},{"$f":"IF(Inventory!O18=\"\",\"\",Inventory!O18)","v":""},{"$f":"IF(Inventory!Q18=\"\",\"\",Inventory!Q18)","v":""},{"$f":"IF(Inventory!S18=\"\",\"\",Inventory!S18)","v":""},{"$f":"IF(Inventory!R18=\"\",\"\",Inventory!R18)","v":""},{"$f":"IF(Inventory!V18=\"\",\"\",Inventory!V18)","v":""},{"$f":"IF(Inventory!W18=\"\",\"\",Inventory!W18)","v":""},{"$f":"IF(Inventory!AG18=\"\",\"\",Inventory!AG18)","v":""},{"$f":"IF(Inventory!Y18=\"\",\"\",Inventory!Y18)","v":""},{"$f":"IF(Inventory!Z18=\"\",\"\",Inventory!Z18)","v":""},{"$f":"IF(Inventory!AA18=\"\",\"\",Inventory!AA18)","v":""},0]
[null,12,{"$f":"IF(Inventory!B19=\"\",\"\",Inventory!B19)","v":""},{"$f":"IF(Inventory!C19=\"\",\"\",Inventory!C19)","v":""},{"$f":"IF(Inventory!D19=\"\",\"\",Inventory!D19)&\" \"&IF(Inventory!E19=\"\",\"\",Inventory!E19)","v":" "},{"$f":"IF(Inventory!G19=\"\",\"\",Inventory!G19)","v":""},{"$f":"IF(Inventory!I19=\"\",\"\",Inventory!I19)","v":""},{"$f":"IF(Inventory!H19=\"\",\"\",Inventory!H19)","v":""},{"$f":"IF(Inventory!J19=\"\",\"\",Inventory!J19)","v":""},{"$f":"IF(Inventory!K19=\"\",\"\",Inventory!K19)","v":""},{"$f":"IF(Inventory!L19=\"\",\"\",Inventory!L19)","v":""},{"$f":"IF(Inventory!M19=\"\",\"\",Inventory!M19)&\" \"&IF(Inventory!N19=\"\",\"\",Inventory!N19)","v":" "},{"$f":"IF(Inventory!O19=\"\",\"\",Inventory!O19)","v":""},{"$f":"IF(Inventory!Q19=\"\",\"\",Inventory!Q19)","v":""},{"$f":"IF(Inventory!S19=\"\",\"\",Inventory!S19)","v":""},{"$f":"IF(Inventory!R19=\"\",\"\",Inventory!R19)","v":""},{"$f":"IF(Inventory!V19=\"\",\"\",Inventory!V19)","v":""},{"$f":"IF(Inventory!W19=\"\",\"\",Inventory!W19)","v":""},{"$f":"IF(Inventory!AG19=\"\",\"\",Inventory!AG19)","v":""},{"$f":"IF(Inventory!Y19=\"\",\"\",Inventory!Y19)","v":""},{"$f":"IF(Inventory!Z19=\"\",\"\",Inventory!Z19)","v":""},{"$f":"IF(Inventory!AA19=\"\",\"\",Inventory!AA19)","v":""},0]
[null,13,{"$f":"IF(Inventory!B20=\"\",\"\",Inventory!B20)","v":""},{"$f":"IF(Inventory!C20=\"\",\"\",Inventory!C20)","v":""},{"$f":"IF(Inventory!D20=\"\",\"\",Inventory!D20)&\" \"&IF(Inventory!E20=\"\",\"\",Inventory!E20)","v":" "},{"$f":"IF(Inventory!G20=\"\",\"\",Inventory!G20)","v":""},{"$f":"IF(Inventory!I20=\"\",\"\",Inventory!I20)","v":""},{"$f":"IF(Inventory!H20=\"\",\"\",Inventory!H20)","v":""},{"$f":"IF(Inventory!J20=\"\",\"\",Inventory!J20)","v":""},{"$f":"IF(Inventory!K20=\"\",\"\",Inventory!K20)","v":""},{"$f":"IF(Inventory!L20=\"\",\"\",Inventory!L20)","v":""},{"$f":"IF(Inventory!M20=\"\",\"\",Inventory!M20)&\" \"&IF(Inventory!N20=\"\",\"\",Inventory!N20)","v":" "},{"$f":"IF(Inventory!O20=\"\",\"\",Inventory!O20)","v":""},{"$f":"IF(Inventory!Q20=\"\",\"\",Inventory!Q20)","v":""},{"$f":"IF(Inventory!S20=\"\",\"\",Inventory!S20)","v":""},{"$f":"IF(Inventory!R20=\"\",\"\",Inventory!R20)","v":""},{"$f":"IF(Inventory!V20=\"\",\"\",Inventory!V20)","v":""},{"$f":"IF(Inventory!W20=\"\",\"\",Inventory!W20)","v":""},{"$f":"IF(Inventory!AG20=\"\",\"\",Inventory!AG20)","v":""},{"$f":"IF(Inventory!Y20=\"\",\"\",Inventory!Y20)","v":""},{"$f":"IF(Inventory!Z20=\"\",\"\",Inventory!Z20)","v":""},{"$f":"IF(Inventory!AA20=\"\",\"\",Inventory!AA20)","v":""},0]
[null,14,{"$f":"IF(Inventory!B21=\"\",\"\",Inventory!B21)","v":""},{"$f":"IF(Inventory!C21=\"\",\"\",Inventory!C21)","v":""},{"$f":"IF(Inventory!D21=\"\",\"\",Inventory!D21)&\" \"&IF(Inventory!E21=\"\",\"\",Inventory!E21)","v":" "},{"$f":"IF(Inventory!G21=\"\",\"\",Inventory!G21)","v":""},{"$f":"IF(Inventory!I21=\"\",\"\",Inventory!I21)","v":""},{"$f":"IF(Inventory!H21=\"\",\"\",Inventory!H21)","v":""},{"$f":"IF(Inventory!J21=\"\",\"\",Inventory!J21)","v":""},{"$f":"IF(Inventory!K21=\"\",\"\",Inventory!K21)","v":""},{"$f":"IF(Inventory!L21=\"\",\"\",Inventory!L21)","v":""},{"$f":"IF(Inventory!M21=\"\",\"\",Inventory!M21)&\" \"&IF(Inventory!N21=\"\",\"\",Inventory!N21)","v":" "},{"$f":"IF(Inventory!O21=\"\",\"\",Inventory!O21)","v":""},{"$f":"IF(Inventory!Q21=\"\",\"\",Inventory!Q21)","v":""},{"$f":"IF(Inventory!S21=\"\",\"\",Inventory!S21)","v":""},{"$f":"IF(Inventory!R21=\"\",\"\",Inventory!R21)","v":""},{"$f":"IF(Inventory!V21=\"\",\"\",Inventory!V21)","v":""},{"$f":"IF(Inventory!W21=\"\",\"\",Inventory!W21)","v":""},{"$f":"IF(Inventory!AG21=\"\",\"\",Inventory!AG21)","v":""},{"$f":"IF(Inventory!Y21=\"\",\"\",Inventory!Y21)","v":""},{"$f":"IF(Inventory!Z21=\"\",\"\",Inventory!Z21)","v":""},{"$f":"IF(Inventory!AA21=\"\",\"\",Inventory!AA21)","v":""},0]
[null,15,{"$f":"IF(Inventory!B22=\"\",\"\",Inventory!B22)","v":""},{"$f":"IF(Inventory!C22=\"\",\"\",Inventory!C22)","v":""},{"$f":"IF(Inventory!D22=\"\",\"\",Inventory!D22)&\" \"&IF(Inventory!E22=\"\",\"\",Inventory!E22)","v":" "},{"$f":"IF(Inventory!G22=\"\",\"\",Inventory!G22)","v":""},{"$f":"IF(Inventory!I22=\"\",\"\",Inventory!I22)","v":""},{"$f":"IF(Inventory!H22=\"\",\"\",Inventory!H22)","v":""},{"$f":"IF(Inventory!J22=\"\",\"\",Inventory!J22)","v":""},{"$f":"IF(Inventory!K22=\"\",\"\",Inventory!K22)","v":""},{"$f":"IF(Inventory!L22=\"\",\"\",Inventory!L22)","v":""},{"$f":"IF(Inventory!M22=\"\",\"\",Inventory!M22)&\" \"&IF(Inventory!N22=\"\",\"\",Inventory!N22)","v":" "},{"$f":"IF(Inventory!O22=\"\",\"\",Inventory!O22)","v":""},{"$f":"IF(Inventory!Q22=\"\",\"\",Inventory!Q22)","v":""},{"$f":"IF(Inventory!S22=\"\",\"\",Inventory!S22)","v":""},{"$f":"IF(Inventory!R22=\"\",\"\",Inventory!R22)","v":""},{"$f":"IF(Inventory!V22=\"\",\"\",Inventory!V22)","v":""},{"$f":"IF(Inventory!W22=\"\",\"\",Inventory!W22)","v":""},{"$f":"IF(Inventory!AG22=\"\",\"\",Inventory!AG22)","v":""},{"$f":"IF(Inventory!Y22=\"\",\"\",Inventory!Y22)","v":""},{"$f":"IF(Inventory!Z22=\"\",\"\",Inventory!Z22)","v":""},{"$f":"IF(Inventory!AA22=\"\",\"\",Inventory!AA22)","v":""},0]
[null,16,{"$f":"IF(Inventory!B23=\"\",\"\",Inventory!B23)","v":""},{"$f":"IF(Inventory!C23=\"\",\"\",Inventory!C23)","v":""},{"$f":"IF(Inventory!D23=\"\",\"\",Inventory!D23)&\" \"&IF(Inventory!E23=\"\",\"\",Inventory!E23)","v":" "},{"$f":"IF(Inventory!G23=\"\",\"\",Inventory!G23)","v":""},{"$f":"IF(Inventory!I23=\"\",\"\",Inventory!I23)","v":""},{"$f":"IF(Inventory!H23=\"\",\"\",Inventory!H23)","v":""},{"$f":"IF(Inventory!J23=\"\",\"\",Inventory!J23)","v":""},{"$f":"IF(Inventory!K23=\"\",\"\",Inventory!K23)","v":""},{"$f":"IF(Inventory!L23=\"\",\"\",Inventory!L23)","v":""},{"$f":"IF(Inventory!M23=\"\",\"\",Inventory!M23)&\" \"&IF(Inventory!N23=\"\",\"\",Inventory!N23)","v":" "},{"$f":"IF(Inventory!O23=\"\",\"\",Inventory!O23)","v":""},{"$f":"IF(Inventory!Q23=\"\",\"\",Inventory!Q23)","v":""},{"$f":"IF(Inventory!S23=\"\",\"\",Inventory!S23)","v":""},{"$f":"IF(Inventory!R23=\"\",\"\",Inventory!R23)","v":""},{"$f":"IF(Inventory!V23=\"\",\"\",Inventory!V23)","v":""},{"$f":"IF(Inventory!W23=\"\",\"\",Inventory!W23)","v":""},{"$f":"IF(Inventory!AG23=\"\",\"\",Inventory!AG23)","v":""},{"$f":"IF(Inventory!Y23=\"\",\"\",Inventory!Y23)","v":""},{"$f":"IF(Inventory!Z23=\"\",\"\",Inventory!Z23)","v":""},{"$f":"IF(Inventory!AA23=\"\",\"\",Inventory!AA23)","v":""},0]
[null,17,{"$f":"IF(Inventory!B24=\"\",\"\",Inventory!B24)","v":""},{"$f":"IF(Inventory!C24=\"\",\"\",Inventory!C24)","v":""},{"$f":"IF(Inventory!D24=\"\",\"\",Inventory!D24)&\" \"&IF(Inventory!E24=\"\",\"\",Inventory!E24)","v":" "},{"$f":"IF(Inventory!G24=\"\",\"\",Inventory!G24)","v":""},{"$f":"IF(Inventory!I24=\"\",\"\",Inventory!I24)","v":""},{"$f":"IF(Inventory!H24=\"\",\"\",Inventory!H24)","v":""},{"$f":"IF(Inventory!J24=\"\",\"\",Inventory!J24)","v":""},{"$f":"IF(Inventory!K24=\"\",\"\",Inventory!K24)","v":""},{"$f":"IF(Inventory!L24=\"\",\"\",Inventory!L24)","v":""},{"$f":"IF(Inventory!M24=\"\",\"\",Inventory!M24)&\" \"&IF(Inventory!N24=\"\",\"\",Inventory!N24)","v":" "},{"$f":"IF(Inventory!O24=\"\",\"\",Inventory!O24)","v":""},{"$f":"IF(Inventory!Q24=\"\",\"\",Inventory!Q24)","v":""},{"$f":"IF(Inventory!S24=\"\",\"\",Inventory!S24)","v":""},{"$f":"IF(Inventory!R24=\"\",\"\",Inventory!R24)","v":""},{"$f":"IF(Inventory!V24=\"\",\"\",Inventory!V24)","v":""},{"$f":"IF(Inventory!W24=\"\",\"\",Inventory!W24)","v":""},{"$f":"IF(Inventory!AG24=\"\",\"\",Inventory!AG24)","v":""},{"$f":"IF(Inventory!Y24=\"\",\"\",Inventory!Y24)","v":""},{"$f":"IF(Inventory!Z24=\"\",\"\",Inventory!Z24)","v":""},{"$f":"IF(Inventory!AA24=\"\",\"\",Inventory!AA24)","v":""},0]
[null,18,{"$f":"IF(Inventory!B25=\"\",\"\",Inventory!B25)","v":""},{"$f":"IF(Inventory!C25=\"\",\"\",Inventory!C25)","v":""},{"$f":"IF(Inventory!D25=\"\",\"\",Inventory!D25)&\" \"&IF(Inventory!E25=\"\",\"\",Inventory!E25)","v":" "},{"$f":"IF(Inventory!G25=\"\",\"\",Inventory!G25)","v":""},{"$f":"IF(Inventory!I25=\"\",\"\",Inventory!I25)","v":""},{"$f":"IF(Inventory!H25=\"\",\"\",Inventory!H25)","v":""},{"$f":"IF(Inventory!J25=\"\",\"\",Inventory!J25)","v":""},{"$f":"IF(Inventory!K25=\"\",\"\",Inventory!K25)","v":""},{"$f":"IF(Inventory!L25=\"\",\"\",Inventory!L25)","v":""},{"$f":"IF(Inventory!M25=\"\",\"\",Inventory!M25)&\" \"&IF(Inventory!N25=\"\",\"\",Inventory!N25)","v":" "},{"$f":"IF(Inventory!O25=\"\",\"\",Inventory!O25)","v":""},{"$f":"IF(Inventory!Q25=\"\",\"\",Inventory!Q25)","v":""},{"$f":"IF(Inventory!S25=\"\",\"\",Inventory!S25)","v":""},{"$f":"IF(Inventory!R25=\"\",\"\",Inventory!R25)","v":""},{"$f":"IF(Inventory!V25=\"\",\"\",Inventory!V25)","v":""},{"$f":"IF(Inventory!W25=\"\",\"\",Inventory!W25)","v":""},{"$f":"IF(Inventory!AG25=\"\",\"\",Inventory!AG25)","v":""},{"$f":"IF(Inventory!Y25=\"\",\"\",Inventory!Y25)","v":""},{"$f":"IF(Inventory!Z25=\"\",\"\",Inventory!Z25)","v":""},{"$f":"IF(Inventory!AA25=\"\",\"\",Inventory!AA25)","v":""},0]
[null,19,{"$f":"IF(Inventory!B26=\"\",\"\",Inventory!B26)","v":""},{"$f":"IF(Inventory!C26=\"\",\"\",Inventory!C26)","v":""},{"$f":"IF(Inventory!D26=\"\",\"\",Inventory!D26)&\" \"&IF(Inventory!E26=\"\",\"\",Inventory!E26)","v":" "},{"$f":"IF(Inventory!G26=\"\",\"\",Inventory!G26)","v":""},{"$f":"IF(Inventory!I26=\"\",\"\",Inventory!I26)","v":""},{"$f":"IF(Inventory!H26=\"\",\"\",Inventory!H26)","v":""},{"$f":"IF(Inventory!J26=\"\",\"\",Inventory!J26)","v":""},{"$f":"IF(Inventory!K26=\"\",\"\",Inventory!K26)","v":""},{"$f":"IF(Inventory!L26=\"\",\"\",Inventory!L26)","v":""},{"$f":"IF(Inventory!M26=\"\",\"\",Inventory!M26)&\" \"&IF(Inventory!N26=\"\",\"\",Inventory!N26)","v":" "},{"$f":"IF(Inventory!O26=\"\",\"\",Inventory!O26)","v":""},{"$f":"IF(Inventory!Q26=\"\",\"\",Inventory!Q26)","v":""},{"$f":"IF(Inventory!S26=\"\",\"\",Inventory!S26)","v":""},{"$f":"IF(Inventory!R26=\"\",\"\",Inventory!R26)","v":""},{"$f":"IF(Inventory!V26=\"\",\"\",Inventory!V26)","v":""},{"$f":"IF(Inventory!W26=\"\",\"\",Inventory!W26)","v":""},{"$f":"IF(Inventory!AG26=\"\",\"\",Inventory!AG26)","v":""},{"$f":"IF(Inventory!Y26=\"\",\"\",Inventory!Y26)","v":""},{"$f":"IF(Inventory!Z26=\"\",\"\",Inventory!Z26)","v":""},{"$f":"IF(Inventory!AA26=\"\",\"\",Inventory!AA26)","v":""},0]
[null,20,{"$f":"IF(Inventory!B27=\"\",\"\",Inventory!B27)","v":""},{"$f":"IF(Inventory!C27=\"\",\"\",Inventory!C27)","v":""},{"$f":"IF(Inventory!D27=\"\",\"\",Inventory!D27)&\" \"&IF(Inventory!E27=\"\",\"\",Inventory!E27)","v":" "},{"$f":"IF(Inventory!G27=\"\",\"\",Inventory!G27)","v":""},{"$f":"IF(Inventory!I27=\"\",\"\",Inventory!I27)","v":""},{"$f":"IF(Inventory!H27=\"\",\"\",Inventory!H27)","v":""},{"$f":"IF(Inventory!J27=\"\",\"\",Inventory!J27)","v":""},{"$f":"IF(Inventory!K27=\"\",\"\",Inventory!K27)","v":""},{"$f":"IF(Inventory!L27=\"\",\"\",Inventory!L27)","v":""},{"$f":"IF(Inventory!M27=\"\",\"\",Inventory!M27)&\" \"&IF(Inventory!N27=\"\",\"\",Inventory!N27)","v":" "},{"$f":"IF(Inventory!O27=\"\",\"\",Inventory!O27)","v":""},{"$f":"IF(Inventory!Q27=\"\",\"\",Inventory!Q27)","v":""},{"$f":"IF(Inventory!S27=\"\",\"\",Inventory!S27)","v":""},{"$f":"IF(Inventory!R27=\"\",\"\",Inventory!R27)","v":""},{"$f":"IF(Inventory!V27=\"\",\"\",Inventory!V27)","v":""},{"$f":"IF(Inventory!W27=\"\",\"\",Inventory!W27)","v":""},{"$f":"IF(Inventory!AG27=\"\",\"\",Inventory!AG27)","v":""},{"$f":"IF(Inventory!Y27=\"\",\"\",Inventory!Y27)","v":""},{"$f":"IF(Inventory!Z27=\"\",\"\",Inventory!Z27)","v":""},{"$f":"IF(Inventory!AA27=\"\",\"\",Inventory!AA27)","v":""},0]
[null,21,{"$f":"IF(Inventory!B28=\"\",\"\",Inventory!B28)","v":""},{"$f":"IF(Inventory!C28=\"\",\"\",Inventory!C28)","v":""},{"$f":"IF(Inventory!D28=\"\",\"\",Inventory!D28)&\" \"&IF(Inventory!E28=\"\",\"\",Inventory!E28)","v":" "},{"$f":"IF(Inventory!G28=\"\",\"\",Inventory!G28)","v":""},{"$f":"IF(Inventory!I28=\"\",\"\",Inventory!I28)","v":""},{"$f":"IF(Inventory!H28=\"\",\"\",Inventory!H28)","v":""},{"$f":"IF(Inventory!J28=\"\",\"\",Inventory!J28)","v":""},{"$f":"IF(Inventory!K28=\"\",\"\",Inventory!K28)","v":""},{"$f":"IF(Inventory!L28=\"\",\"\",Inventory!L28)","v":""},{"$f":"IF(Inventory!M28=\"\",\"\",Inventory!M28)&\" \"&IF(Inventory!N28=\"\",\"\",Inventory!N28)","v":" "},{"$f":"IF(Inventory!O28=\"\",\"\",Inventory!O28)","v":""},{"$f":"IF(Inventory!Q28=\"\",\"\",Inventory!Q28)","v":""},{"$f":"IF(Inventory!S28=\"\",\"\",Inventory!S28)","v":""},{"$f":"IF(Inventory!R28=\"\",\"\",Inventory!R28)","v":""},{"$f":"IF(Inventory!V28=\"\",\"\",Inventory!V28)","v":""},{"$f":"IF(Inventory!W28=\"\",\"\",Inventory!W28)","v":""},{"$f":"IF(Inventory!AG28=\"\",\"\",Inventory!AG28)","v":""},{"$f":"IF(Inventory!Y28=\"\",\"\",Inventory!Y28)","v":""},{"$f":"IF(Inventory!Z28=\"\",\"\",Inventory!Z28)","v":""},{"$f":"IF(Inventory!AA28=\"\",\"\",Inventory!AA28)","v":""},0]
[null,22,{"$f":"IF(Inventory!B29=\"\",\"\",Inventory!B29)","v":""},{"$f":"IF(Inventory!C29=\"\",\"\",Inventory!C29)","v":""},{"$f":"IF(Inventory!D29=\"\",\"\",Inventory!D29)&\" \"&IF(Inventory!E29=\"\",\"\",Inventory!E29)","v":" "},{"$f":"IF(Inventory!G29=\"\",\"\",Inventory!G29)","v":""},{"$f":"IF(Inventory!I29=\"\",\"\",Inventory!I29)","v":""},{"$f":"IF(Inventory!H29=\"\",\"\",Inventory!H29)","v":""},{"$f":"IF(Inventory!J29=\"\",\"\",Inventory!J29)","v":""},{"$f":"IF(Inventory!K29=\"\",\"\",Inventory!K29)","v":""},{"$f":"IF(Inventory!L29=\"\",\"\",Inventory!L29)","v":""},{"$f":"IF(Inventory!M29=\"\",\"\",Inventory!M29)&\" \"&IF(Inventory!N29=\"\",\"\",Inventory!N29)","v":" "},{"$f":"IF(Inventory!O29=\"\",\"\",Inventory!O29)","v":""},{"$f":"IF(Inventory!Q29=\"\",\"\",Inventory!Q29)","v":""},{"$f":"IF(Inventory!S29=\"\",\"\",Inventory!S29)","v":""},{"$f":"IF(Inventory!R29=\"\",\"\",Inventory!R29)","v":""},{"$f":"IF(Inventory!V29=\"\",\"\",Inventory!V29)","v":""},{"$f":"IF(Inventory!W29=\"\",\"\",Inventory!W29)","v":""},{"$f":"IF(Inventory!AG29=\"\",\"\",Inventory!AG29)","v":""},{"$f":"IF(Inventory!Y29=\"\",\"\",Inventory!Y29)","v":""},{"$f":"IF(Inventory!Z29=\"\",\"\",Inventory!Z29)","v":""},{"$f":"IF(Inventory!AA29=\"\",\"\",Inventory!AA29)","v":""},0]
[null,23,{"$f":"IF(Inventory!B30=\"\",\"\",Inventory!B30)","v":""},{"$f":"IF(Inventory!C30=\"\",\"\",Inventory!C30)","v":""},{"$f":"IF(Inventory!D30=\"\",\"\",Inventory!D30)&\" \"&IF(Inventory!E30=\"\",\"\",Inventory!E30)","v":" "},{"$f":"IF(Inventory!G30=\"\",\"\",Inventory!G30)","v":""},{"$f":"IF(Inventory!I30=\"\",\"\",Inventory!I30)","v":""},{"$f":"IF(Inventory!H30=\"\",\"\",Inventory!H30)","v":""},{"$f":"IF(Inventory!J30=\"\",\"\",Inventory!J30)","v":""},{"$f":"IF(Inventory!K30=\"\",\"\",Inventory!K30)","v":""},{"$f":"IF(Inventory!L30=\"\",\"\",Inventory!L30)","v":""},{"$f":"IF(Inventory!M30=\"\",\"\",Inventory!M30)&\" \"&IF(Inventory!N30=\"\",\"\",Inventory!N30)","v":" "},{"$f":"IF(Inventory!O30=\"\",\"\",Inventory!O30)","v":""},{"$f":"IF(Inventory!Q30=\"\",\"\",Inventory!Q30)","v":""},{"$f":"IF(Inventory!S30=\"\",\"\",Inventory!S30)","v":""},{"$f":"IF(Inventory!R30=\"\",\"\",Inventory!R30)","v":""},{"$f":"IF(Inventory!V30=\"\",\"\",Inventory!V30)","v":""},{"$f":"IF(Inventory!W30=\"\",\"\",Inventory!W30)","v":""},{"$f":"IF(Inventory!AG30=\"\",\"\",Inventory!AG30)","v":""},{"$f":"IF(Inventory!Y30=\"\",\"\",Inventory!Y30)","v":""},{"$f":"IF(Inventory!Z30=\"\",\"\",Inventory!Z30)","v":""},{"$f":"IF(Inventory!AA30=\"\",\"\",Inventory!AA30)","v":""},0]
[null,24,{"$f":"IF(Inventory!B31=\"\",\"\",Inventory!B31)","v":""},{"$f":"IF(Inventory!C31=\"\",\"\",Inventory!C31)","v":""},{"$f":"IF(Inventory!D31=\"\",\"\",Inventory!D31)&\" \"&IF(Inventory!E31=\"\",\"\",Inventory!E31)","v":" "},{"$f":"IF(Inventory!G31=\"\",\"\",Inventory!G31)","v":""},{"$f":"IF(Inventory!I31=\"\",\"\",Inventory!I31)","v":""},{"$f":"IF(Inventory!H31=\"\",\"\",Inventory!H31)","v":""},{"$f":"IF(Inventory!J31=\"\",\"\",Inventory!J31)","v":""},{"$f":"IF(Inventory!K31=\"\",\"\",Inventory!K31)","v":""},{"$f":"IF(Inventory!L31=\"\",\"\",Inventory!L31)","v":""},{"$f":"IF(Inventory!M31=\"\",\"\",Inventory!M31)&\" \"&IF(Inventory!N31=\"\",\"\",Inventory!N31)","v":" "},{"$f":"IF(Inventory!O31=\"\",\"\",Inventory!O31)","v":""},{"$f":"IF(Inventory!Q31=\"\",\"\",Inventory!Q31)","v":""},{"$f":"IF(Inventory!S31=\"\",\"\",Inventory!S31)","v":""},{"$f":"IF(Inventory!R31=\"\",\"\",Inventory!R31)","v":""},{"$f":"IF(Inventory!V31=\"\",\"\",Inventory!V31)","v":""},{"$f":"IF(Inventory!W31=\"\",\"\",Inventory!W31)","v":""},{"$f":"IF(Inventory!AG31=\"\",\"\",Inventory!AG31)","v":""},{"$f":"IF(Inventory!Y31=\"\",\"\",Inventory!Y31)","v":""},{"$f":"IF(Inventory!Z31=\"\",\"\",Inventory!Z31)","v":""},{"$f":"IF(Inventory!AA31=\"\",\"\",Inventory!AA31)","v":""},0]
[null,25,{"$f":"IF(Inventory!B32=\"\",\"\",Inventory!B32)","v":""},{"$f":"IF(Inventory!C32=\"\",\"\",Inventory!C32)","v":""},{"$f":"IF(Inventory!D32=\"\",\"\",Inventory!D32)&\" \"&IF(Inventory!E32=\"\",\"\",Inventory!E32)","v":" "},{"$f":"IF(Inventory!G32=\"\",\"\",Inventory!G32)","v":""},{"$f":"IF(Inventory!I32=\"\",\"\",Inventory!I32)","v":""},{"$f":"IF(Inventory!H32=\"\",\"\",Inventory!H32)","v":""},{"$f":"IF(Inventory!J32=\"\",\"\",Inventory!J32)","v":""},{"$f":"IF(Inventory!K32=\"\",\"\",Inventory!K32)","v":""},{"$f":"IF(Inventory!L32=\"\",\"\",Inventory!L32)","v":""},{"$f":"IF(Inventory!M32=\"\",\"\",Inventory!M32)&\" \"&IF(Inventory!N32=\"\",\"\",Inventory!N32)","v":" "},{"$f":"IF(Inventory!O32=\"\",\"\",Inventory!O32)","v":""},{"$f":"IF(Inventory!Q32=\"\",\"\",Inventory!Q32)","v":""},{"$f":"IF(Inventory!S32=\"\",\"\",Inventory!S32)","v":""},{"$f":"IF(Inventory!R32=\"\",\"\",Inventory!R32)","v":""},{"$f":"IF(Inventory!V32=\"\",\"\",Inventory!V32)","v":""},{"$f":"IF(Inventory!W32=\"\",\"\",Inventory!W32)","v":""},{"$f":"IF(Inventory!AG32=\"\",\"\",Inventory!AG32)","v":""},{"$f":"IF(Inventory!Y32=\"\",\"\",Inventory!Y32)","v":""},{"$f":"IF(Inventory!Z32=\"\",\"\",Inventory!Z32)","v":""},{"$f":"IF(Inventory!AA32=\"\",\"\",Inventory!AA32)","v":""},0]
[null,null,null,null,null,null,null,null,null,null,null,null,null,null,null,null,null,null,null,null,null,{"$f":"SUM(W6:W30)","v":0}]

{"sheet":"Building Types","index":6,"n_rows":72,"n_cols":10,"rows_kept":72,"cut":false,"hidden":true,"merged":[[57,9,68,9],[69,9,71,9],[57,5,68,5],[57,6,68,6],[21,9,23,9],[26,9,30,9],[31,9,32,9],[33,9,42,9],[45,9,54,9],[57,7,68,7],[69,7,71,7],[21,8,23,8],[26,8,30,8],[31,8,32,8],[33,8,42,8],[45,8,54,8],[1,9,3,9],[4,9,5,9],[6,9,8,9],[15,9,16,9],[17,9,19,9],[1,8,3,8],[4,8,5,8],[6,8,8,8],[15,8,16,8],[17,8,19,8],[57,8,68,8],[69,8,71,8],[21,7,23,7],[26,7,30,7],[31,7,32,7],[33,7,42,7],[45,7,54,7],[1,7,3,7],[4,7,5,7],[6,7,8,7],[15,7,16,7],[17,7,19,7],[1,6,3,6],[45,6,54,6],[69,6,71,6],[33,6,42,6],[31,6,32,6],[26,6,30,6],[21,6,23,6],[17,6,19,6],[15,6,16,6],[6,6,8,6],[4,6,5,6],[26,5,30,5],[31,5,32,5],[33,5,42,5],[45,5,54,5],[69,5,71,5],[1,5,3,5],[4,5,5,5],[6,5,8,5],[15,5,16,5],[17,5,19,5],[21,5,23,5],[57,1,68,1],[57,2,68,2],[57,3,68,3],[69,1,71,1],[69,2,71,2],[69,3,71,3],[33,1,44,1],[33,2,42,2],[33,3,44,3],[45,1,54,1],[45,2,54,2],[45,3,54,3],[21,1,25,1],[21,2,23,2],[21,3,25,3],[11,1,14,1],[11,3,14,3],[26,1,32,1],[26,2,30,2],[26,3,30,3],[31,2,32,2],[31,3,32,3],[15,1,19,1],[15,2,16,2],[15,3,16,3],[17,2,19,2],[17,3,19,3],[9,1,10,1],[9,3,10,3],[1,1,8,1],[1,2,3,2],[1,3,8,3],[4,2,5,2],[6,2,8,2],[11,4,12,4],[13,4,14,4],[11,5,12,5],[13,5,14,5],[11,6,12,6],[13,6,14,6]]}
[1,"Building Type","Principal Building Activity","Definition","Detailed Business Type Examples","Average Floor Area (ft2)","Average # of Floors","Cooling EFLH - \nDX Systems","Cooling EFLH - \nAir-Cooled Chillers","Cooling EFLH - \nWater-Cooled Chillers"]
[null,"Education","College","Buildings used for academic or technical classroom instruction, such as elementary, middle, or high schools, and classroom buildings on college or university campuses. Buildings on education campuses for which the main use is not classroom are included in the category relating to their use. For example, administration buildings are part of \"Office,\" dormitories are \"Lodging,\" and libraries are \"Public Assembly.\"","1) College or University","Not specified","Not specified",2101,2173,3894]
[null,null,null,null,"2) Career or Vocational Training"]
[null,null,null,null,"3) Adult Education"]
[null,null,"Primary School",null,"1) Elementary or Middle School",73960,1,1633,915,1716]
[null,null,null,null,"2) Preschool or Daycare"]
[null,null,"Secondary School",null,"1) High School",210887,2,1429,1477,2647]
[null,null,null,null,"2) Religious Education"]
[]
[null,"Food Sales","Convenience","Buildings used for retail or wholesale of food.","1) Gas Station with a Convenience Store","Not specified",1,2307,"-","-"]
[null,null,"Supermarket",null,"2) Convenience Store",45000,1,829,"-","-"]
[null,"Food Service","Full-Service Restaurant","Buildings used for preparation and sale of food and beverages for consumption.","1) Restaurant or Cafeteria",5500,1,2249,"-","-"]
[null,null,"24-Hr Full Service",null,null,null,null,2548,"-","-"]
[null,null,"Quick-Service Restaurant",null,"1) Fast Food",2500,1,1996,"-","-"]
[null,null,"24-Hr Quick Service",null,null,null,null,2311,"-","-"]
[null,"Healthcare","Hospital","Buildings used as diagnostic and treatment facilities for inpatient care.","1) Hospital",241351,5,3534,3115,4015]
[null,null,null,null,"2) Inpatient Rehabilitation"]
[null,null,"Outpatient Healthcare","Buildings used as diagnostic and treatment facilities for outpatient care. Medical offices are included here if they use any type of diagnostic medical equipment (if they do not, they are categorized as an office building).","1) Medical Office",40946,3,2925,"-","-"]
[null,null,null,null,"2) Clinic or Outpatient Health Care"]
[null,null,null,null,"3) Veterinarian"]
[null,"Large Multifamily","Midrise Apartment","Buildings containing multifamily dwelling units, having multiple stories, and equipped with elevators.","No sub-categories collected.",33740,4,2429,1378,2528]
[null,"Lodging","Large Hotel","Buildings used to offer multiple accommodations for short-term or long-term residents, including skilled nursing and other residential care buildings.","1) Motel or Inn",122120,6,2600,2595,3180]
[null,null,null,null,"2) Hotel"]
[null,null,null,null,"3) Dormitory, Fraternity, or Sorority"]
[null,null,"Nursing Home",null,"4) Retirement Home, Nursing Home, Assisted Living, or other Residential Care","Not specified","Not specified",2467,1400,2568]
[null,null,"Small Hotel/Motel",null,"5) Convent or Monastery",43200,4,2421,"-","-"]
[null,"Mercantile","Stand-Alone Retail","Buildings used for the sale and display of goods other than food.","1) Retail Store",24962,1,1554,1184,1652]
[null,null,null,null,"2) Beer, Wine, or Liquor Store"]
[null,null,null,null,"3) Rental Center"]
[null,null,null,null,"4) Dealership or Showroom for Vehicles or Boats"]
[null,null,null,null,"5) Studio or Gallery"]
[null,null,"Strip Mall","Shopping malls comprised of multiple connected establishments.","1) Strip Shopping Center",22500,1,1467,"-","-"]
[null,null,null,null,"2) Enclosed Malls"]
[null,"Office","Large Office","Buildings used for general office space, professional office, or administrative offices. Medical offices are included here if they do not use any type of diagnostic medical equipment (if they do, they are categorized as an outpatient health care building).","1) Administrative or Professional Office",498588,12,2866,2009,2401]
[null,null,null,null,"2) Government Office"]
[null,null,null,null,"3) Mixed-Use Office"]
[null,null,null,null,"4) Bank or Other Financial Institution"]
[null,null,null,null,"5) Medical Office"]
[null,null,null,null,"6) Sales Office"]
[null,null,null,null,"7) Contractor’s Office (e.g. Construction, Plumbing, HVAC)"]
[null,null,null,null,"8) Non-Profit or Social Services"]
[null,null,null,null,"9) Research and Development"]
[null,null,null,null,"10) City Hall or City Center"]
[null,null,"Medium Office",null,"11) Religious Office",53628,3,1523,2009,2401]
[null,null,"Small Office",null,"12) Call Center",5500,1,1598,"-","-"]
[null,"Public Assembly","Public Assembly ","Buildings in which people gather for social or recreational activities, whether in private or non-private meeting halls.","1) Social or Meeting (e.g. Community Center, Lodge, Meeting Hall, Convention Center, Senior Center)","Not specified","Not specified",2196,1231,2307]
[null,null,null,null,"2) Recreation (e.g. Gymnasium, Health Club, Bowling Alley, Ice Rink, Field House, Indoor Racquet Sports)"]
[null,null,null,null,"3) Entertainment or Culture (e.g. Museum, Theater, Cinema, Sports Arena, Casino, Night Club)"]
[null,null,null,null,"4) Library"]
[null,null,null,null,"5) Funeral Home"]
[null,null,null,null,"6) Student Activities Center"]
[null,null,null,null,"7) Armory"]
[null,null,null,null,"8) Exhibition Hall"]
[null,null,null,null,"9) Broadcasting Studio"]
[null,null,null,null,"10) Transportation Terminal"]
[null,"Religious Worship","Religious Worship","Buildings in which people gather for religious activities, (such as chapels, churches, mosques, synagogues, and temples).","No sub-categories collected.","Not specified","Not specified",602,713,994]
[null,"Other","Other","For building types not explicitly listed","Values used for Other are the most conservative values from the explicitly listed building types","Not specified","Not specified",602,713,994]
[null,"Service","Service","Buildings in which some type of service is provided, other than food service or retail sales of goods.","1) Vehicle Service or Vehicle Repair Shop","Not specified","Not specified",1742,"-","-"]
[null,null,null,null,"2) Vehicle Storage/Maintenance"]
[null,null,null,null,"3) Repair Shop"]
[null,null,null,null,"4) Dry Cleaner or Laundromat"]
[null,null,null,null,"5) Post Office or Postal Center"]
[null,null,null,null,"6) Car Wash"]
[null,null,null,null,"7) Gas Station with no Convenience Store"]
[null,null,null,null,"8) Photo Processing Shop"]
[null,null,null,null,"9) Beauty Parlor or Barber Shop"]
[null,null,null,null,"10) Tanning Salon"]
[null,null,null,null,"11) Copy Center or Printing Shop"]
[null,null,null,null,"12) Kennel"]
[null,"Warehouse","Warehouse","Buildings used to store goods, manufactured products, merchandise, raw materials, or personal belongings (such as self-storage).","1) Refrigerated Warehouse",52045,1,718,"-","-"]
[null,null,null,null,"2) Non-refrigerated warehouse"]
[null,null,null,null,"3) Distribution or Shipping Center"]

{"sheet":"DSMT Export","index":7,"n_rows":27,"n_cols":70,"rows_kept":27,"cut":false,"hidden":true,"merged":[[0,0,0,3],[2,6,3,6],[11,0,12,5],[13,0,14,5],[21,1,22,5]]}
["Project Export for DSMT\nUse this sheet to export a lighting project to a CSV file, which can be uploaded into DSMT using the Salesforce Data Import Wizard.",null,null,null,{"$f":"IF(C27=\"UAT\",\"(UAT)\",\"\")","v":""},null,null,null,"Enrollment_Application__c","Application_Premise__c","Eligible_Measure__c","RecordTypeId","Project_Type__c","Building_Type__c","Climate_Zone__c","EFLH_Cooling__c","EFLH_Heating__c","Non_Coincident_Peak_Demand_Factor__c","Coincident_Factor_PJM_SC__c","Coincident_Factor_PJM_WC__c","Existing_Manufacturer__c","Existing_Model__c","Existing_System_Type__c","Manufactured_Year__c","Existing_Equipment_Age_years__c","Manufacturer__c","Model__c","AHRI_Number__c","System_Type__c","Equipment_Type__c","Reverse_Cycle__c","Louvered_Sides__c","Casement_Window__c","Compressor_Control_Type__c","Chiller_Operating_Condition__c","Existing_Quantity__c","Quantity__c","Existing_Energy_Efficiency_Ratio__c","Baseline_EER__c","Efficient_Energy_Efficiency_Ratio__c","Existing_Design_Efficiency_kW_ton__c","Baseline_Design_Efficiency_kW_ton__c","Efficient_Design_Efficiency_kW_ton__c","Existing_Seasonal_Energy_Ratio__c","Baseline_SEER__c","Efficient_Seasonal_Energy_Ratio__c","Existing_IEER__c","Baseline_IEER__c","Efficient_IEER__c","Existing_IPLV__c","Baseline_IPLV__c","Efficient_IPLV__c","Existing_COP__c","Baseline_COP__c","Efficient_COP__c","Existing_Heat_Seasonal_Prfrmnce_Factor__c","Baseline_HSPF__c","Efficient_Heat_Seasonal_Prfrmnce_Factor__c","Existing_Cooling_Capacity_BTUH__c","Existing_Cooling_Capacity_tons__c","Cooling_BTUH__c","Cooling_Capacity_tons__c","Existing_Heating_Capacity_Btu_hr__c","Heating_BTUH__c","Measure_Life_years__c","Non_Coincident_Peak_Demand_Savings_kW__c","Summer_Coincident_Peak_Demand_Savings_kW__c","WC_Peak_Demand_Savings_kW__c","Annual_Electric_Energy_Savings_kwh__c","Total_Incentive_New__c"]
["Import Instructions",null,null,null,null,null,null,null,{"$f":"EAID","v":0},{"$f":"APID","v":0},{"$f":"INDEX('Equipment Lookups'!$L$54:$AQ$67,MATCH(Inventory!Q8,'Equipment Lookups'!$J$54:$J$67,0),MATCH('Utility Admin'!$F$2&DSMTEnviro,'Equipment Lookups'!$L$52:$AQ$52,0))","v":{"$error":"#N/A"}},{"$f":"INDEX('Equipment Lookups'!$L$54:$AQ$67,MATCH(Inventory!Q8,'Equipment Lookups'!$J$54:$J$67,0),MATCH('Utility Admin'!$F$2&DSMTEnviro,'Equipment Lookups'!$L$52:$AQ$52,0)+1)","v":{"$error":"#N/A"}},{"$f":"Inventory!B8","v":0},{"$f":"Inventory!C8","v":0},{"$f":"_xlfn.NUMBERVALUE(RIGHT('Project Info'!$D$9,1))","v":{"$error":"#VALUE!"}},{"$f":"Inventory!BX8","v":"-"},{"$f":"IF(ISNUMBER(Inventory!BY8),Inventory!BY8,0)","v":0},{"$f":"Inventory!BZ8","v":0},{"$f":"Inventory!BW8","v":"-"},{"$f":"0","v":0},{"$f":"IF(Inventory!D8=\"\",\"\",Inventory!D8)","v":""},{"$f":"IF(Inventory!E8=\"\",\"\",Inventory!E8)","v":""},{"$f":"IF(M2=\"Early Retirement\",Inventory!G8,\"\")","v":""},{"$f":"IF(Inventory!BL8>0,Inventory!BL8,\"\")","v":""},{"$f":"IF(M2=\"Early Retirement\",Inventory!DH8,\"\")","v":""},{"$f":"Inventory!M8","v":0},{"$f":"Inventory!N8","v":0},{"$f":"Inventory!P8","v":0},{"$f":"IF(AND(Inventory!BV8=\"DX\",Inventory!V8<>\"\"),Inventory!V8,\"\")","v":{"$error":"#N/A"}},{"$f":"IF(Inventory!BV8=\"PTRoom\",Inventory!V8,\"\")","v":{"$error":"#N/A"}},{"$f":"IF(LEFT(AD2,4)=\"With\",IF(LEFT(AD2,18)=\"With Reverse Cycle\",\"Yes\",\"No\"),\"\")","v":{"$error":"#N/A"}},{"$f":"IF(LEFT(AD2,4)=\"With\",IF(RIGHT(AD2,19)=\"With Louvered Sides\",\"Yes\",\"No\"),\"\")","v":{"$error":"#N/A"}},{"$f":"IF(LEFT(AD2,4)=\"Case\",IF(AD2=\"Casement Slider\",\"Casement-Slider\",\"None\"),\"\")","v":{"$error":"#N/A"}},{"$f":"IF(RIGHT(Inventory!Q8,7)=\"Chiller\",Inventory!V8,\"\")","v":""},{"$f":"IF(RIGHT(Inventory!Q8,7)=\"Chiller\",Inventory!X8,\"\")","v":""},{"$f":"IF(M2=\"Early Retirement\",Inventory!K8,\"\")","v":""},{"$f":"Inventory!AG8","v":0},{"$f":"IF(AND(M2=\"Early Retirement\",LEFT(Inventory!AD8,3)=\"EER\"),12/Inventory!CL8,\"\")","v":""},{"$f":"IF(LEFT(Inventory!AD8,3)=\"EER\",12/Inventory!CI8,\"\")","v":""},{"$f":"IF(LEFT(Inventory!AD8,3)=\"EER\",12/Inventory!CL8,\"\")","v":""},{"$f":"IF(M2=\"Early Retirement\",Inventory!CB8,\"\")","v":""},{"$f":"Inventory!CI8","v":{"$error":"#N/A"}},{"$f":"Inventory!CL8","v":""},{"$f":"IF(AND(M2=\"Early Retirement\",OR(AND(LEFT(Inventory!AD8,3)=\"EER\",Inventory!BO8<=5.42),Inventory!Q8=\"Air Cooled Chiller\")),12/Inventory!CC8,\"\")","v":""},{"$f":"IF(OR(AND(LEFT(Inventory!AD8,3)=\"EER\",Inventory!BO8<=5.42),Inventory!Q8=\"Air Cooled Chiller\"),12/Inventory!CJ8,\"\")","v":""},{"$f":"IF(OR(AND(LEFT(Inventory!AD8,3)=\"EER\",Inventory!BO8<=5.42),Inventory!Q8=\"Air Cooled Chiller\"),12/Inventory!CM8,\"\")","v":""},{"$f":"IF(AND(M2=\"Early Retirement\",RIGHT(Inventory!AD8,4)=\"IEER\"),12/Inventory!CC8,\"\")","v":""},{"$f":"IF(RIGHT(Inventory!AD8,4)=\"IEER\",12/Inventory!CJ8,\"\")","v":""},{"$f":"IF(RIGHT(Inventory!AD8,4)=\"IEER\",12/Inventory!CM8,\"\")","v":""},{"$f":"IF(M2=\"Early Retirement\",Inventory!CC8,\"\")","v":""},{"$f":"Inventory!CJ8","v":{"$error":"#N/A"}},{"$f":"Inventory!CM8","v":""},{"$f":"IF(AND(M2=\"Early Retirement\",Inventory!BB8=1),12/3.412/Inventory!CD8,\"\")","v":""},{"$f":"IF(Inventory!BB8=1,12/3.412/Inventory!CK8,\"\")","v":""},{"$f":"IF(Inventory!BB8=1,12/3.412/Inventory!CN8,\"\")","v":""},{"$f":"IF(AND(M2=\"Early Retirement\",Inventory!BB8=1,LEFT(Inventory!AF8,4)=\"HSPF\"),12/Inventory!CD8,\"\")","v":""},{"$f":"IF(AND(Inventory!BB8=1,LEFT(Inventory!AF8,4)=\"HSPF\"),12/Inventory!CK8,\"\")","v":""},{"$f":"IF(AND(Inventory!BB8=1,LEFT(Inventory!AF8,4)=\"HSPF\"),12/Inventory!CN8,\"\")","v":""},{"$f":"IF(AND(M2=\"Early Retirement\",RIGHT(Inventory!G8,7)<>\"Chiller\"),Inventory!H8*IF(Inventory!I8=\"Btuh\",1,12000),\"\")","v":""},{"$f":"IF(M2=\"Early Retirement\",Inventory!H8/IF(Inventory!I8=\"Btuh\",12000,1),\"\")","v":""},{"$f":"IF(RIGHT(Inventory!Q8,7)=\"Chiller\",\"\",Inventory!BQ8)","v":0},{"$f":"Inventory!BO8","v":0},{"$f":"IF(AND(M2=\"Early Retirement\",Inventory!BB8=1),Inventory!BR8*12000,\"\")","v":""},{"$f":"IF(Inventory!BB8=1,Inventory!BR8*12000,\"\")","v":""},{"$f":"Inventory!DJ8","v":{"$error":"#N/A"}},{"$f":"IF(ISNUMBER(Inventory!AO8),Inventory!AO8,0)","v":0},{"$f":"IF(ISNUMBER(Inventory!AP8),Inventory!AP8,0)","v":0},{"$f":"0","v":0},{"$f":"IF(ISNUMBER(Inventory!AQ8),Inventory!AQ8,0)","v":0},{"$f":"Inventory!AR8","v":0}]
["Enter the Enrollment Application ID and Application Premise ID below, then use the buttons to create and export the CSV.",null,null,null,null,null,null,null,0,0,{"$f":"INDEX('Equipment Lookups'!$L$54:$AQ$67,MATCH(Inventory!Q9,'Equipment Lookups'!$J$54:$J$67,0),MATCH('Utility Admin'!$F$2&DSMTEnviro,'Equipment Lookups'!$L$52:$AQ$52,0))","v":{"$error":"#N/A"}},{"$f":"INDEX('Equipment Lookups'!$L$54:$AQ$67,MATCH(Inventory!Q9,'Equipment Lookups'!$J$54:$J$67,0),MATCH('Utility Admin'!$F$2&DSMTEnviro,'Equipment Lookups'!$L$52:$AQ$52,0)+1)","v":{"$error":"#N/A"}},{"$f":"Inventory!B9","v":0},{"$f":"Inventory!C9","v":0},{"$f":"_xlfn.NUMBERVALUE(RIGHT('Project Info'!$D$9,1))","v":{"$error":"#VALUE!"}},{"$f":"Inventory!BX9","v":"-"},{"$f":"IF(ISNUMBER(Inventory!BY9),Inventory!BY9,0)","v":0},{"$f":"Inventory!BZ9","v":0},{"$f":"Inventory!BW9","v":"-"},{"$f":"0","v":0},{"$f":"IF(Inventory!D9=\"\",\"\",Inventory!D9)","v":""},{"$f":"IF(Inventory!E9=\"\",\"\",Inventory!E9)","v":""},{"$f":"IF(M3=\"Early Retirement\",Inventory!G9,\"\")","v":""},{"$f":"IF(Inventory!BL9>0,Inventory!BL9,\"\")","v":""},{"$f":"IF(M3=\"Early Retirement\",Inventory!DH9,\"\")","v":""},{"$f":"Inventory!M9","v":0},{"$f":"Inventory!N9","v":0},{"$f":"Inventory!P9","v":0},{"$f":"IF(AND(Inventory!BV9=\"DX\",Inventory!V9<>\"\"),Inventory!V9,\"\")","v":{"$error":"#N/A"}},{"$f":"IF(Inventory!BV9=\"PTRoom\",Inventory!V9,\"\")","v":{"$error":"#N/A"}},{"$f":"IF(LEFT(AD3,4)=\"With\",IF(LEFT(AD3,18)=\"With Reverse Cycle\",\"Yes\",\"No\"),\"\")","v":{"$error":"#N/A"}},{"$f":"IF(LEFT(AD3,4)=\"With\",IF(RIGHT(AD3,19)=\"With Louvered Sides\",\"Yes\",\"No\"),\"\")","v":{"$error":"#N/A"}},{"$error":"#N/A"},{"$f":"IF(RIGHT(Inventory!Q9,7)=\"Chiller\",Inventory!V9,\"\")","v":""},{"$f":"IF(RIGHT(Inventory!Q9,7)=\"Chiller\",Inventory!X9,\"\")","v":""},{"$f":"IF(M3=\"Early Retirement\",Inventory!K9,\"\")","v":""},{"$f":"Inventory!AG9","v":0},{"$f":"IF(AND(M3=\"Early Retirement\",LEFT(Inventory!AD9,3)=\"EER\"),12/Inventory!CL9,\"\")","v":""},{"$f":"IF(LEFT(Inventory!AD9,3)=\"EER\",12/Inventory!CI9,\"\")","v":""},{"$f":"IF(LEFT(Inventory!AD9,3)=\"EER\",12/Inventory!CL9,\"\")","v":""},{"$f":"IF(M3=\"Early Retirement\",Inventory!CB9,\"\")","v":""},{"$f":"Inventory!CI9","v":{"$error":"#N/A"}},{"$f":"Inventory!CL9","v":""},{"$f":"IF(AND(M3=\"Early Retirement\",OR(AND(LEFT(Inventory!AD9,3)=\"EER\",Inventory!BO9<=5.42),Inventory!Q9=\"Air Cooled Chiller\")),12/Inventory!CC9,\"\")","v":""},{"$f":"IF(OR(AND(LEFT(Inventory!AD9,3)=\"EER\",Inventory!BO9<=5.42),Inventory!Q9=\"Air Cooled Chiller\"),12/Inventory!CJ9,\"\")","v":""},{"$f":"IF(OR(AND(LEFT(Inventory!AD9,3)=\"EER\",Inventory!BO9<=5.42),Inventory!Q9=\"Air Cooled Chiller\"),12/Inventory!CM9,\"\")","v":""},{"$f":"IF(AND(M3=\"Early Retirement\",RIGHT(Inventory!AD9,4)=\"IEER\"),12/Inventory!CC9,\"\")","v":""},{"$f":"IF(RIGHT(Inventory!AD9,4)=\"IEER\",12/Inventory!CJ9,\"\")","v":""},{"$f":"IF(RIGHT(Inventory!AD9,4)=\"IEER\",12/Inventory!CM9,\"\")","v":""},{"$f":"IF(M3=\"Early Retirement\",Inventory!CC9,\"\")","v":""},{"$f":"Inventory!CJ9","v":{"$error":"#N/A"}},{"$f":"Inventory!CM9","v":""},{"$f":"IF(AND(M3=\"Early Retirement\",Inventory!BB9=1),12/3.412/Inventory!CD9,\"\")","v":""},{"$f":"IF(Inventory!BB9=1,12/3.412/Inventory!CK9,\"\")","v":""},{"$f":"IF(Inventory!BB9=1,12/3.412/Inventory!CN9,\"\")","v":""},{"$f":"IF(AND(M3=\"Early Retirement\",Inventory!BB9=1,LEFT(Inventory!AF9,4)=\"HSPF\"),12/Inventory!CD9,\"\")","v":""},{"$f":"IF(AND(Inventory!BB9=1,LEFT(Inventory!AF9,4)=\"HSPF\"),12/Inventory!CK9,\"\")","v":""},{"$f":"IF(AND(Inventory!BB9=1,LEFT(Inventory!AF9,4)=\"HSPF\"),12/Inventory!CN9,\"\")","v":""},{"$f":"IF(AND(M3=\"Early Retirement\",RIGHT(Inventory!G9,7)<>\"Chiller\"),Inventory!H9*IF(Inventory!I9=\"Btuh\",1,12000),\"\")","v":""},{"$f":"IF(M3=\"Early Retirement\",Inventory!H9/IF(Inventory!I9=\"Btuh\",12000,1),\"\")","v":""},{"$f":"IF(RIGHT(Inventory!Q9,7)=\"Chiller\",\"\",Inventory!BQ9)","v":0},{"$f":"Inventory!BO9","v":0},{"$f":"IF(AND(M3=\"Early Retirement\",Inventory!BB9=1),Inventory!BR9*12000,\"\")","v":""},{"$f":"IF(Inventory!BB9=1,Inventory!BR9*12000,\"\")","v":""},{"$f":"Inventory!DJ9","v":{"$error":"#N/A"}},{"$f":"IF(ISNUMBER(Inventory!AO9),Inventory!AO9,0)","v":0},{"$f":"IF(ISNUMBER(Inventory!AP9),Inventory!AP9,0)","v":0},{"$f":"0","v":0},{"$f":"IF(ISNUMBER(Inventory!AQ9),Inventory!AQ9,0)","v":0},{"$f":"Inventory!AR9","v":0}]
[null,null,null,null,null,null,null,null,0,0,{"$f":"INDEX('Equipment Lookups'!$L$54:$AQ$67,MATCH(Inventory!Q10,'Equipment Lookups'!$J$54:$J$67,0),MATCH('Utility Admin'!$F$2&DSMTEnviro,'Equipment Lookups'!$L$52:$AQ$52,0))","v":{"$error":"#N/A"}},{"$f":"INDEX('Equipment Lookups'!$L$54:$AQ$67,MATCH(Inventory!Q10,'Equipment Lookups'!$J$54:$J$67,0),MATCH('Utility Admin'!$F$2&DSMTEnviro,'Equipment Lookups'!$L$52:$AQ$52,0)+1)","v":{"$error":"#N/A"}},{"$f":"Inventory!B10","v":0},{"$f":"Inventory!C10","v":0},{"$f":"_xlfn.NUMBERVALUE(RIGHT('Project Info'!$D$9,1))","v":{"$error":"#VALUE!"}},{"$f":"Inventory!BX10","v":"-"},{"$f":"IF(ISNUMBER(Inventory!BY10),Inventory!BY10,0)","v":0},{"$f":"Inventory!BZ10","v":0},{"$f":"Inventory!BW10","v":"-"},{"$f":"0","v":0},{"$f":"IF(Inventory!D10=\"\",\"\",Inventory!D10)","v":""},{"$f":"IF(Inventory!E10=\"\",\"\",Inventory!E10)","v":""},{"$f":"IF(M4=\"Early Retirement\",Inventory!G10,\"\")","v":""},{"$f":"IF(Inventory!BL10>0,Inventory!BL10,\"\")","v":""},{"$f":"IF(M4=\"Early Retirement\",Inventory!DH10,\"\")","v":""},{"$f":"Inventory!M10","v":0},{"$f":"Inventory!N10","v":0},{"$f":"Inventory!P10","v":0},{"$f":"IF(AND(Inventory!BV10=\"DX\",Inventory!V10<>\"\"),Inventory!V10,\"\")","v":{"$error":"#N/A"}},{"$f":"IF(Inventory!BV10=\"PTRoom\",Inventory!V10,\"\")","v":{"$error":"#N/A"}},{"$error":"#N/A"},{"$error":"#N/A"},{"$error":"#N/A"},{"$f":"IF(RIGHT(Inventory!Q10,7)=\"Chiller\",Inventory!V10,\"\")","v":""},{"$f":"IF(RIGHT(Inventory!Q10,7)=\"Chiller\",Inventory!X10,\"\")","v":""},{"$f":"IF(M4=\"Early Retirement\",Inventory!K10,\"\")","v":""},{"$f":"Inventory!AG10","v":0},{"$f":"IF(AND(M4=\"Early Retirement\",LEFT(Inventory!AD10,3)=\"EER\"),12/Inventory!CL10,\"\")","v":""},{"$f":"IF(LEFT(Inventory!AD10,3)=\"EER\",12/Inventory!CI10,\"\")","v":""},{"$f":"IF(LEFT(Inventory!AD10,3)=\"EER\",12/Inventory!CL10,\"\")","v":""},{"$f":"IF(M4=\"Early Retirement\",Inventory!CB10,\"\")","v":""},{"$f":"Inventory!CI10","v":{"$error":"#N/A"}},{"$f":"Inventory!CL10","v":""},{"$f":"IF(AND(M4=\"Early Retirement\",OR(AND(LEFT(Inventory!AD10,3)=\"EER\",Inventory!BO10<=5.42),Inventory!Q10=\"Air Cooled Chiller\")),12/Inventory!CC10,\"\")","v":""},{"$f":"IF(OR(AND(LEFT(Inventory!AD10,3)=\"EER\",Inventory!BO10<=5.42),Inventory!Q10=\"Air Cooled Chiller\"),12/Inventory!CJ10,\"\")","v":""},{"$f":"IF(OR(AND(LEFT(Inventory!AD10,3)=\"EER\",Inventory!BO10<=5.42),Inventory!Q10=\"Air Cooled Chiller\"),12/Inventory!CM10,\"\")","v":""},{"$f":"IF(AND(M4=\"Early Retirement\",RIGHT(Inventory!AD10,4)=\"IEER\"),12/Inventory!CC10,\"\")","v":""},{"$f":"IF(RIGHT(Inventory!AD10,4)=\"IEER\",12/Inventory!CJ10,\"\")","v":""},{"$f":"IF(RIGHT(Inventory!AD10,4)=\"IEER\",12/Inventory!CM10,\"\")","v":""},{"$f":"IF(M4=\"Early Retirement\",Inventory!CC10,\"\")","v":""},{"$f":"Inventory!CJ10","v":{"$error":"#N/A"}},{"$f":"Inventory!CM10","v":""},{"$f":"IF(AND(M4=\"Early Retirement\",Inventory!BB10=1),12/3.412/Inventory!CD10,\"\")","v":""},{"$f":"IF(Inventory!BB10=1,12/3.412/Inventory!CK10,\"\")","v":""},{"$f":"IF(Inventory!BB10=1,12/3.412/Inventory!CN10,\"\")","v":""},{"$f":"IF(AND(M4=\"Early Retirement\",Inventory!BB10=1,LEFT(Inventory!AF10,4)=\"HSPF\"),12/Inventory!CD10,\"\")","v":""},{"$f":"IF(AND(Inventory!BB10=1,LEFT(Inventory!AF10,4)=\"HSPF\"),12/Inventory!CK10,\"\")","v":""},{"$f":"IF(AND(Inventory!BB10=1,LEFT(Inventory!AF10,4)=\"HSPF\"),12/Inventory!CN10,\"\")","v":""},{"$f":"IF(AND(M4=\"Early Retirement\",RIGHT(Inventory!G10,7)<>\"Chiller\"),Inventory!H10*IF(Inventory!I10=\"Btuh\",1,12000),\"\")","v":""},{"$f":"IF(M4=\"Early Retirement\",Inventory!H10/IF(Inventory!I10=\"Btuh\",12000,1),\"\")","v":""},{"$f":"IF(RIGHT(Inventory!Q10,7)=\"Chiller\",\"\",Inventory!BQ10)","v":0},{"$f":"Inventory!BO10","v":0},{"$f":"IF(AND(M4=\"Early Retirement\",Inventory!BB10=1),Inventory!BR10*12000,\"\")","v":""},{"$f":"IF(Inventory!BB10=1,Inventory!BR10*12000,\"\")","v":""},{"$f":"Inventory!DJ10","v":{"$error":"#N/A"}},{"$f":"IF(ISNUMBER(Inventory!AO10),Inventory!AO10,0)","v":0},{"$f":"IF(ISNUMBER(Inventory!AP10),Inventory!AP10,0)","v":0},{"$f":"0","v":0},{"$f":"IF(ISNUMBER(Inventory!AQ10),Inventory!AQ10,0)","v":0},{"$f":"Inventory!AR10","v":0}]
[null,"Enrollment Application ID:",null,null,null,null,null,null,0,0,{"$f":"INDEX('Equipment Lookups'!$L$54:$AQ$67,MATCH(Inventory!Q11,'Equipment Lookups'!$J$54:$J$67,0),MATCH('Utility Admin'!$F$2&DSMTEnviro,'Equipment Lookups'!$L$52:$AQ$52,0))","v":{"$error":"#N/A"}},{"$f":"INDEX('Equipment Lookups'!$L$54:$AQ$67,MATCH(Inventory!Q11,'Equipment Lookups'!$J$54:$J$67,0),MATCH('Utility Admin'!$F$2&DSMTEnviro,'Equipment Lookups'!$L$52:$AQ$52,0)+1)","v":{"$error":"#N/A"}},{"$f":"Inventory!B11","v":0},{"$f":"Inventory!C11","v":0},{"$f":"_xlfn.NUMBERVALUE(RIGHT('Project Info'!$D$9,1))","v":{"$error":"#VALUE!"}},{"$f":"Inventory!BX11","v":"-"},{"$f":"IF(ISNUMBER(Inventory!BY11),Inventory!BY11,0)","v":0},{"$f":"Inventory!BZ11","v":0},{"$f":"Inventory!BW11","v":"-"},{"$f":"0","v":0},{"$f":"IF(Inventory!D11=\"\",\"\",Inventory!D11)","v":""},{"$f":"IF(Inventory!E11=\"\",\"\",Inventory!E11)","v":""},{"$f":"IF(M5=\"Early Retirement\",Inventory!G11,\"\")","v":""},{"$f":"IF(Inventory!BL11>0,Inventory!BL11,\"\")","v":""},{"$f":"IF(M5=\"Early Retirement\",Inventory!DH11,\"\")","v":""},{"$f":"Inventory!M11","v":0},{"$f":"Inventory!N11","v":0},{"$f":"Inventory!P11","v":0},{"$f":"IF(AND(Inventory!BV11=\"DX\",Inventory!V11<>\"\"),Inventory!V11,\"\")","v":{"$error":"#N/A"}},{"$f":"IF(Inventory!BV11=\"PTRoom\",Inventory!V11,\"\")","v":{"$error":"#N/A"}},{"$error":"#N/A"},{"$error":"#N/A"},{"$error":"#N/A"},{"$f":"IF(RIGHT(Inventory!Q11,7)=\"Chiller\",Inventory!V11,\"\")","v":""},{"$f":"IF(RIGHT(Inventory!Q11,7)=\"Chiller\",Inventory!X11,\"\")","v":""},{"$f":"IF(M5=\"Early Retirement\",Inventory!K11,\"\")","v":""},{"$f":"Inventory!AG11","v":0},{"$f":"IF(AND(M5=\"Early Retirement\",LEFT(Inventory!AD11,3)=\"EER\"),12/Inventory!CL11,\"\")","v":""},{"$f":"IF(LEFT(Inventory!AD11,3)=\"EER\",12/Inventory!CI11,\"\")","v":""},{"$f":"IF(LEFT(Inventory!AD11,3)=\"EER\",12/Inventory!CL11,\"\")","v":""},{"$f":"IF(M5=\"Early Retirement\",Inventory!CB11,\"\")","v":""},{"$f":"Inventory!CI11","v":{"$error":"#N/A"}},{"$f":"Inventory!CL11","v":""},{"$f":"IF(AND(M5=\"Early Retirement\",OR(AND(LEFT(Inventory!AD11,3)=\"EER\",Inventory!BO11<=5.42),Inventory!Q11=\"Air Cooled Chiller\")),12/Inventory!CC11,\"\")","v":""},{"$f":"IF(OR(AND(LEFT(Inventory!AD11,3)=\"EER\",Inventory!BO11<=5.42),Inventory!Q11=\"Air Cooled Chiller\"),12/Inventory!CJ11,\"\")","v":""},{"$f":"IF(OR(AND(LEFT(Inventory!AD11,3)=\"EER\",Inventory!BO11<=5.42),Inventory!Q11=\"Air Cooled Chiller\"),12/Inventory!CM11,\"\")","v":""},{"$f":"IF(AND(M5=\"Early Retirement\",RIGHT(Inventory!AD11,4)=\"IEER\"),12/Inventory!CC11,\"\")","v":""},{"$f":"IF(RIGHT(Inventory!AD11,4)=\"IEER\",12/Inventory!CJ11,\"\")","v":""},{"$f":"IF(RIGHT(Inventory!AD11,4)=\"IEER\",12/Inventory!CM11,\"\")","v":""},{"$f":"IF(M5=\"Early Retirement\",Inventory!CC11,\"\")","v":""},{"$f":"Inventory!CJ11","v":{"$error":"#N/A"}},{"$f":"Inventory!CM11","v":""},{"$f":"IF(AND(M5=\"Early Retirement\",Inventory!BB11=1),12/3.412/Inventory!CD11,\"\")","v":""},{"$f":"IF(Inventory!BB11=1,12/3.412/Inventory!CK11,\"\")","v":""},{"$f":"IF(Inventory!BB11=1,12/3.412/Inventory!CN11,\"\")","v":""},{"$f":"IF(AND(M5=\"Early Retirement\",Inventory!BB11=1,LEFT(Inventory!AF11,4)=\"HSPF\"),12/Inventory!CD11,\"\")","v":""},{"$f":"IF(AND(Inventory!BB11=1,LEFT(Inventory!AF11,4)=\"HSPF\"),12/Inventory!CK11,\"\")","v":""},{"$f":"IF(AND(Inventory!BB11=1,LEFT(Inventory!AF11,4)=\"HSPF\"),12/Inventory!CN11,\"\")","v":""},{"$f":"IF(AND(M5=\"Early Retirement\",RIGHT(Inventory!G11,7)<>\"Chiller\"),Inventory!H11*IF(Inventory!I11=\"Btuh\",1,12000),\"\")","v":""},{"$f":"IF(M5=\"Early Retirement\",Inventory!H11/IF(Inventory!I11=\"Btuh\",12000,1),\"\")","v":""},{"$f":"IF(RIGHT(Inventory!Q11,7)=\"Chiller\",\"\",Inventory!BQ11)","v":0},{"$f":"Inventory!BO11","v":0},{"$f":"IF(AND(M5=\"Early Retirement\",Inventory!BB11=1),Inventory!BR11*12000,\"\")","v":""},{"$f":"IF(Inventory!BB11=1,Inventory!BR11*12000,\"\")","v":""},{"$f":"Inventory!DJ11","v":{"$error":"#N/A"}},{"$f":"IF(ISNUMBER(Inventory!AO11),Inventory!AO11,0)","v":0},{"$f":"IF(ISNUMBER(Inventory!AP11),Inventory!AP11,0)","v":0},{"$f":"0","v":0},{"$f":"IF(ISNUMBER(Inventory!AQ11),Inventory!AQ11,0)","v":0},{"$f":"Inventory!AR11","v":0}]
[null,"Application Premise ID:",null,null,null,null,null,null,0,0,{"$f":"INDEX('Equipment Lookups'!$L$54:$AQ$67,MATCH(Inventory!Q12,'Equipment Lookups'!$J$54:$J$67,0),MATCH('Utility Admin'!$F$2&DSMTEnviro,'Equipment Lookups'!$L$52:$AQ$52,0))","v":{"$error":"#N/A"}},{"$f":"INDEX('Equipment Lookups'!$L$54:$AQ$67,MATCH(Inventory!Q12,'Equipment Lookups'!$J$54:$J$67,0),MATCH('Utility Admin'!$F$2&DSMTEnviro,'Equipment Lookups'!$L$52:$AQ$52,0)+1)","v":{"$error":"#N/A"}},{"$f":"Inventory!B12","v":0},{"$f":"Inventory!C12","v":0},{"$f":"_xlfn.NUMBERVALUE(RIGHT('Project Info'!$D$9,1))","v":{"$error":"#VALUE!"}},{"$f":"Inventory!BX12","v":"-"},{"$f":"IF(ISNUMBER(Inventory!BY12),Inventory!BY12,0)","v":0},{"$f":"Inventory!BZ12","v":0},{"$f":"Inventory!BW12","v":"-"},{"$f":"0","v":0},{"$f":"IF(Inventory!D12=\"\",\"\",Inventory!D12)","v":""},{"$f":"IF(Inventory!E12=\"\",\"\",Inventory!E12)","v":""},{"$f":"IF(M6=\"Early Retirement\",Inventory!G12,\"\")","v":""},{"$f":"IF(Inventory!BL12>0,Inventory!BL12,\"\")","v":""},{"$f":"IF(M6=\"Early Retirement\",Inventory!DH12,\"\")","v":""},{"$f":"Inventory!M12","v":0},{"$f":"Inventory!N12","v":0},{"$f":"Inventory!P12","v":0},{"$f":"IF(AND(Inventory!BV12=\"DX\",Inventory!V12<>\"\"),Inventory!V12,\"\")","v":{"$error":"#N/A"}},{"$f":"IF(Inventory!BV12=\"PTRoom\",Inventory!V12,\"\")","v":{"$error":"#N/A"}},{"$error":"#N/A"},{"$error":"#N/A"},{"$error":"#N/A"},{"$f":"IF(RIGHT(Inventory!Q12,7)=\"Chiller\",Inventory!V12,\"\")","v":""},{"$f":"IF(RIGHT(Inventory!Q12,7)=\"Chiller\",Inventory!X12,\"\")","v":""},{"$f":"IF(M6=\"Early Retirement\",Inventory!K12,\"\")","v":""},{"$f":"Inventory!AG12","v":0},{"$f":"IF(AND(M6=\"Early Retirement\",LEFT(Inventory!AD12,3)=\"EER\"),12/Inventory!CL12,\"\")","v":""},{"$f":"IF(LEFT(Inventory!AD12,3)=\"EER\",12/Inventory!CI12,\"\")","v":""},{"$f":"IF(LEFT(Inventory!AD12,3)=\"EER\",12/Inventory!CL12,\"\")","v":""},{"$f":"IF(M6=\"Early Retirement\",Inventory!CB12,\"\")","v":""},{"$f":"Inventory!CI12","v":{"$error":"#N/A"}},{"$f":"Inventory!CL12","v":""},{"$f":"IF(AND(M6=\"Early Retirement\",OR(AND(LEFT(Inventory!AD12,3)=\"EER\",Inventory!BO12<=5.42),Inventory!Q12=\"Air Cooled Chiller\")),12/Inventory!CC12,\"\")","v":""},{"$f":"IF(OR(AND(LEFT(Inventory!AD12,3)=\"EER\",Inventory!BO12<=5.42),Inventory!Q12=\"Air Cooled Chiller\"),12/Inventory!CJ12,\"\")","v":""},{"$f":"IF(OR(AND(LEFT(Inventory!AD12,3)=\"EER\",Inventory!BO12<=5.42),Inventory!Q12=\"Air Cooled Chiller\"),12/Inventory!CM12,\"\")","v":""},{"$f":"IF(AND(M6=\"Early Retirement\",RIGHT(Inventory!AD12,4)=\"IEER\"),12/Inventory!CC12,\"\")","v":""},{"$f":"IF(RIGHT(Inventory!AD12,4)=\"IEER\",12/Inventory!CJ12,\"\")","v":""},{"$f":"IF(RIGHT(Inventory!AD12,4)=\"IEER\",12/Inventory!CM12,\"\")","v":""},{"$f":"IF(M6=\"Early Retirement\",Inventory!CC12,\"\")","v":""},{"$f":"Inventory!CJ12","v":{"$error":"#N/A"}},{"$f":"Inventory!CM12","v":""},{"$f":"IF(AND(M6=\"Early Retirement\",Inventory!BB12=1),12/3.412/Inventory!CD12,\"\")","v":""},{"$f":"IF(Inventory!BB12=1,12/3.412/Inventory!CK12,\"\")","v":""},{"$f":"IF(Inventory!BB12=1,12/3.412/Inventory!CN12,\"\")","v":""},{"$f":"IF(AND(M6=\"Early Retirement\",Inventory!BB12=1,LEFT(Inventory!AF12,4)=\"HSPF\"),12/Inventory!CD12,\"\")","v":""},{"$f":"IF(AND(Inventory!BB12=1,LEFT(Inventory!AF12,4)=\"HSPF\"),12/Inventory!CK12,\"\")","v":""},{"$f":"IF(AND(Inventory!BB12=1,LEFT(Inventory!AF12,4)=\"HSPF\"),12/Inventory!CN12,\"\")","v":""},{"$f":"IF(AND(M6=\"Early Retirement\",RIGHT(Inventory!G12,7)<>\"Chiller\"),Inventory!H12*IF(Inventory!I12=\"Btuh\",1,12000),\"\")","v":""},{"$f":"IF(M6=\"Early Retirement\",Inventory!H12/IF(Inventory!I12=\"Btuh\",12000,1),\"\")","v":""},{"$f":"IF(RIGHT(Inventory!Q12,7)=\"Chiller\",\"\",Inventory!BQ12)","v":0},{"$f":"Inventory!BO12","v":0},{"$f":"IF(AND(M6=\"Early Retirement\",Inventory!BB12=1),Inventory!BR12*12000,\"\")","v":""},{"$f":"IF(Inventory!BB12=1,Inventory!BR12*12000,\"\")","v":""},{"$f":"Inventory!DJ12","v":{"$error":"#N/A"}},{"$f":"IF(ISNUMBER(Inventory!AO12),Inventory!AO12,0)","v":0},{"$f":"IF(ISNUMBER(Inventory!AP12),Inventory!AP12,0)","v":0},{"$f":"0","v":0},{"$f":"IF(ISNUMBER(Inventory!AQ12),Inventory!AQ12,0)","v":0},{"$f":"Inventory!AR12","v":0}]
[null,null,null,null,null,null,null,null,0,0,{"$f":"INDEX('Equipment Lookups'!$L$54:$AQ$67,MATCH(Inventory!Q13,'Equipment Lookups'!$J$54:$J$67,0),MATCH('Utility Admin'!$F$2&DSMTEnviro,'Equipment Lookups'!$L$52:$AQ$52,0))","v":{"$error":"#N/A"}},{"$f":"INDEX('Equipment Lookups'!$L$54:$AQ$67,MATCH(Inventory!Q13,'Equipment Lookups'!$J$54:$J$67,0),MATCH('Utility Admin'!$F$2&DSMTEnviro,'Equipment Lookups'!$L$52:$AQ$52,0)+1)","v":{"$error":"#N/A"}},{"$f":"Inventory!B13","v":0},{"$f":"Inventory!C13","v":0},{"$f":"_xlfn.NUMBERVALUE(RIGHT('Project Info'!$D$9,1))","v":{"$error":"#VALUE!"}},{"$f":"Inventory!BX13","v":"-"},{"$f":"IF(ISNUMBER(Inventory!BY13),Inventory!BY13,0)","v":0},{"$f":"Inventory!BZ13","v":0},{"$f":"Inventory!BW13","v":"-"},{"$f":"0","v":0},{"$f":"IF(Inventory!D13=\"\",\"\",Inventory!D13)","v":""},{"$f":"IF(Inventory!E13=\"\",\"\",Inventory!E13)","v":""},{"$f":"IF(M7=\"Early Retirement\",Inventory!G13,\"\")","v":""},{"$f":"IF(Inventory!BL13>0,Inventory!BL13,\"\")","v":""},{"$f":"IF(M7=\"Early Retirement\",Inventory!DH13,\"\")","v":""},{"$f":"Inventory!M13","v":0},{"$f":"Inventory!N13","v":0},{"$f":"Inventory!P13","v":0},{"$f":"IF(AND(Inventory!BV13=\"DX\",Inventory!V13<>\"\"),Inventory!V13,\"\")","v":{"$error":"#N/A"}},{"$f":"IF(Inventory!BV13=\"PTRoom\",Inventory!V13,\"\")","v":{"$error":"#N/A"}},{"$error":"#N/A"},{"$error":"#N/A"},{"$f":"IF(LEFT(AD7,4)=\"Case\",IF(AD7=\"Casement Slider\",\"Casement-Slider\",\"None\"),\"\")","v":{"$error":"#N/A"}},{"$f":"IF(RIGHT(Inventory!Q13,7)=\"Chiller\",Inventory!V13,\"\")","v":""},{"$f":"IF(RIGHT(Inventory!Q13,7)=\"Chiller\",Inventory!X13,\"\")","v":""},{"$f":"IF(M7=\"Early Retirement\",Inventory!K13,\"\")","v":""},{"$f":"Inventory!AG13","v":0},{"$f":"IF(AND(M7=\"Early Retirement\",LEFT(Inventory!AD13,3)=\"EER\"),12/Inventory!CL13,\"\")","v":""},{"$f":"IF(LEFT(Inventory!AD13,3)=\"EER\",12/Inventory!CI13,\"\")","v":""},{"$f":"IF(LEFT(Inventory!AD13,3)=\"EER\",12/Inventory!CL13,\"\")","v":""},{"$f":"IF(M7=\"Early Retirement\",Inventory!CB13,\"\")","v":""},{"$f":"Inventory!CI13","v":{"$error":"#N/A"}},{"$f":"Inventory!CL13","v":""},{"$f":"IF(AND(M7=\"Early Retirement\",OR(AND(LEFT(Inventory!AD13,3)=\"EER\",Inventory!BO13<=5.42),Inventory!Q13=\"Air Cooled Chiller\")),12/Inventory!CC13,\"\")","v":""},{"$f":"IF(OR(AND(LEFT(Inventory!AD13,3)=\"EER\",Inventory!BO13<=5.42),Inventory!Q13=\"Air Cooled Chiller\"),12/Inventory!CJ13,\"\")","v":""},{"$f":"IF(OR(AND(LEFT(Inventory!AD13,3)=\"EER\",Inventory!BO13<=5.42),Inventory!Q13=\"Air Cooled Chiller\"),12/Inventory!CM13,\"\")","v":""},{"$f":"IF(AND(M7=\"Early Retirement\",RIGHT(Inventory!AD13,4)=\"IEER\"),12/Inventory!CC13,\"\")","v":""},{"$f":"IF(RIGHT(Inventory!AD13,4)=\"IEER\",12/Inventory!CJ13,\"\")","v":""},{"$f":"IF(RIGHT(Inventory!AD13,4)=\"IEER\",12/Inventory!CM13,\"\")","v":""},{"$f":"IF(M7=\"Early Retirement\",Inventory!CC13,\"\")","v":""},{"$f":"Inventory!CJ13","v":{"$error":"#N/A"}},{"$f":"Inventory!CM13","v":""},{"$f":"IF(AND(M7=\"Early Retirement\",Inventory!BB13=1),12/3.412/Inventory!CD13,\"\")","v":""},{"$f":"IF(Inventory!BB13=1,12/3.412/Inventory!CK13,\"\")","v":""},{"$f":"IF(Inventory!BB13=1,12/3.412/Inventory!CN13,\"\")","v":""},{"$f":"IF(AND(M7=\"Early Retirement\",Inventory!BB13=1,LEFT(Inventory!AF13,4)=\"HSPF\"),12/Inventory!CD13,\"\")","v":""},{"$f":"IF(AND(Inventory!BB13=1,LEFT(Inventory!AF13,4)=\"HSPF\"),12/Inventory!CK13,\"\")","v":""},{"$f":"IF(AND(Inventory!BB13=1,LEFT(Inventory!AF13,4)=\"HSPF\"),12/Inventory!CN13,\"\")","v":""},{"$f":"IF(AND(M7=\"Early Retirement\",RIGHT(Inventory!G13,7)<>\"Chiller\"),Inventory!H13*IF(Inventory!I13=\"Btuh\",1,12000),\"\")","v":""},{"$f":"IF(M7=\"Early Retirement\",Inventory!H13/IF(Inventory!I13=\"Btuh\",12000,1),\"\")","v":""},{"$f":"IF(RIGHT(Inventory!Q13,7)=\"Chiller\",\"\",Inventory!BQ13)","v":0},{"$f":"Inventory!BO13","v":0},{"$f":"IF(AND(M7=\"Early Retirement\",Inventory!BB13=1),Inventory!BR13*12000,\"\")","v":""},{"$f":"IF(Inventory!BB13=1,Inventory!BR13*12000,\"\")","v":""},{"$f":"Inventory!DJ13","v":{"$error":"#N/A"}},{"$f":"IF(ISNUMBER(Inventory!AO13),Inventory!AO13,0)","v":0},{"$f":"IF(ISNUMBER(Inventory!AP13),Inventory!AP13,0)","v":0},{"$f":"0","v":0},{"$f":"IF(ISNUMBER(Inventory!AQ13),Inventory!AQ13,0)","v":0},{"$f":"Inventory!AR13","v":0}]
[null,null,null,null,null,null,null,null,0,0,{"$f":"INDEX('Equipment Lookups'!$L$54:$AQ$67,MATCH(Inventory!Q14,'Equipment Lookups'!$J$54:$J$67,0),MATCH('Utility Admin'!$F$2&DSMTEnviro,'Equipment Lookups'!$L$52:$AQ$52,0))","v":{"$error":"#N/A"}},{"$f":"INDEX('Equipment Lookups'!$L$54:$AQ$67,MATCH(Inventory!Q14,'Equipment Lookups'!$J$54:$J$67,0),MATCH('Utility Admin'!$F$2&DSMTEnviro,'Equipment Lookups'!$L$52:$AQ$52,0)+1)","v":{"$error":"#N/A"}},{"$f":"Inventory!B14","v":0},{"$f":"Inventory!C14","v":0},{"$f":"_xlfn.NUMBERVALUE(RIGHT('Project Info'!$D$9,1))","v":{"$error":"#VALUE!"}},{"$f":"Inventory!BX14","v":"-"},{"$f":"IF(ISNUMBER(Inventory!BY14),Inventory!BY14,0)","v":0},{"$f":"Inventory!BZ14","v":0},{"$f":"Inventory!BW14","v":"-"},{"$f":"0","v":0},{"$f":"IF(Inventory!D14=\"\",\"\",Inventory!D14)","v":""},{"$f":"IF(Inventory!E14=\"\",\"\",Inventory!E14)","v":""},{"$f":"IF(M8=\"Early Retirement\",Inventory!G14,\"\")","v":""},{"$f":"IF(Inventory!BL14>0,Inventory!BL14,\"\")","v":""},{"$f":"IF(M8=\"Early Retirement\",Inventory!DH14,\"\")","v":""},{"$f":"Inventory!M14","v":0},{"$f":"Inventory!N14","v":0},{"$f":"Inventory!P14","v":0},{"$f":"IF(AND(Inventory!BV14=\"DX\",Inventory!V14<>\"\"),Inventory!V14,\"\")","v":{"$error":"#N/A"}},{"$f":"IF(Inventory!BV14=\"PTRoom\",Inventory!V14,\"\")","v":{"$error":"#N/A"}},{"$error":"#N/A"},{"$f":"IF(LEFT(AD8,4)=\"With\",IF(RIGHT(AD8,19)=\"With Louvered Sides\",\"Yes\",\"No\"),\"\")","v":{"$error":"#N/A"}},{"$f":"IF(LEFT(AD8,4)=\"Case\",IF(AD8=\"Casement Slider\",\"Casement-Slider\",\"None\"),\"\")","v":{"$error":"#N/A"}},{"$f":"IF(RIGHT(Inventory!Q14,7)=\"Chiller\",Inventory!V14,\"\")","v":""},{"$f":"IF(RIGHT(Inventory!Q14,7)=\"Chiller\",Inventory!X14,\"\")","v":""},{"$f":"IF(M8=\"Early Retirement\",Inventory!K14,\"\")","v":""},{"$f":"Inventory!AG14","v":0},{"$f":"IF(AND(M8=\"Early Retirement\",LEFT(Inventory!AD14,3)=\"EER\"),12/Inventory!CL14,\"\")","v":""},{"$f":"IF(LEFT(Inventory!AD14,3)=\"EER\",12/Inventory!CI14,\"\")","v":""},{"$f":"IF(LEFT(Inventory!AD14,3)=\"EER\",12/Inventory!CL14,\"\")","v":""},{"$f":"IF(M8=\"Early Retirement\",Inventory!CB14,\"\")","v":""},{"$f":"Inventory!CI14","v":{"$error":"#N/A"}},{"$f":"Inventory!CL14","v":""},{"$f":"IF(AND(M8=\"Early Retirement\",OR(AND(LEFT(Inventory!AD14,3)=\"EER\",Inventory!BO14<=5.42),Inventory!Q14=\"Air Cooled Chiller\")),12/Inventory!CC14,\"\")","v":""},{"$f":"IF(OR(AND(LEFT(Inventory!AD14,3)=\"EER\",Inventory!BO14<=5.42),Inventory!Q14=\"Air Cooled Chiller\"),12/Inventory!CJ14,\"\")","v":""},{"$f":"IF(OR(AND(LEFT(Inventory!AD14,3)=\"EER\",Inventory!BO14<=5.42),Inventory!Q14=\"Air Cooled Chiller\"),12/Inventory!CM14,\"\")","v":""},{"$f":"IF(AND(M8=\"Early Retirement\",RIGHT(Inventory!AD14,4)=\"IEER\"),12/Inventory!CC14,\"\")","v":""},{"$f":"IF(RIGHT(Inventory!AD14,4)=\"IEER\",12/Inventory!CJ14,\"\")","v":""},{"$f":"IF(RIGHT(Inventory!AD14,4)=\"IEER\",12/Inventory!CM14,\"\")","v":""},{"$f":"IF(M8=\"Early Retirement\",Inventory!CC14,\"\")","v":""},{"$f":"Inventory!CJ14","v":{"$error":"#N/A"}},{"$f":"Inventory!CM14","v":""},{"$f":"IF(AND(M8=\"Early Retirement\",Inventory!BB14=1),12/3.412/Inventory!CD14,\"\")","v":""},{"$f":"IF(Inventory!BB14=1,12/3.412/Inventory!CK14,\"\")","v":""},{"$f":"IF(Inventory!BB14=1,12/3.412/Inventory!CN14,\"\")","v":""},{"$f":"IF(AND(M8=\"Early Retirement\",Inventory!BB14=1,LEFT(Inventory!AF14,4)=\"HSPF\"),12/Inventory!CD14,\"\")","v":""},{"$f":"IF(AND(Inventory!BB14=1,LEFT(Inventory!AF14,4)=\"HSPF\"),12/Inventory!CK14,\"\")","v":""},{"$f":"IF(AND(Inventory!BB14=1,LEFT(Inventory!AF14,4)=\"HSPF\"),12/Inventory!CN14,\"\")","v":""},{"$f":"IF(AND(M8=\"Early Retirement\",RIGHT(Inventory!G14,7)<>\"Chiller\"),Inventory!H14*IF(Inventory!I14=\"Btuh\",1,12000),\"\")","v":""},{"$f":"IF(M8=\"Early Retirement\",Inventory!H14/IF(Inventory!I14=\"Btuh\",12000,1),\"\")","v":""},{"$f":"IF(RIGHT(Inventory!Q14,7)=\"Chiller\",\"\",Inventory!BQ14)","v":0},{"$f":"Inventory!BO14","v":0},{"$f":"IF(AND(M8=\"Early Retirement\",Inventory!BB14=1),Inventory!BR14*12000,\"\")","v":""},{"$f":"IF(Inventory!BB14=1,Inventory!BR14*12000,\"\")","v":""},{"$f":"Inventory!DJ14","v":{"$error":"#N/A"}},{"$f":"IF(ISNUMBER(Inventory!AO14),Inventory!AO14,0)","v":0},{"$f":"IF(ISNUMBER(Inventory!AP14),Inventory!AP14,0)","v":0},{"$f":"0","v":0},{"$f":"IF(ISNUMBER(Inventory!AQ14),Inventory!AQ14,0)","v":0},{"$f":"Inventory!AR14","v":0}]
[null,null,null,null,null,null,null,null,0,0,{"$f":"INDEX('Equipment Lookups'!$L$54:$AQ$67,MATCH(Inventory!Q15,'Equipment Lookups'!$J$54:$J$67,0),MATCH('Utility Admin'!$F$2&DSMTEnviro,'Equipment Lookups'!$L$52:$AQ$52,0))","v":{"$error":"#N/A"}},{"$f":"INDEX('Equipment Lookups'!$L$54:$AQ$67,MATCH(Inventory!Q15,'Equipment Lookups'!$J$54:$J$67,0),MATCH('Utility Admin'!$F$2&DSMTEnviro,'Equipment Lookups'!$L$52:$AQ$52,0)+1)","v":{"$error":"#N/A"}},{"$f":"Inventory!B15","v":0},{"$f":"Inventory!C15","v":0},{"$f":"_xlfn.NUMBERVALUE(RIGHT('Project Info'!$D$9,1))","v":{"$error":"#VALUE!"}},{"$f":"Inventory!BX15","v":"-"},{"$f":"IF(ISNUMBER(Inventory!BY15),Inventory!BY15,0)","v":0},{"$f":"Inventory!BZ15","v":0},{"$f":"Inventory!BW15","v":"-"},{"$f":"0","v":0},{"$f":"IF(Inventory!D15=\"\",\"\",Inventory!D15)","v":""},{"$f":"IF(Inventory!E15=\"\",\"\",Inventory!E15)","v":""},{"$f":"IF(M9=\"Early Retirement\",Inventory!G15,\"\")","v":""},{"$f":"IF(Inventory!BL15>0,Inventory!BL15,\"\")","v":""},{"$f":"IF(M9=\"Early Retirement\",Inventory!DH15,\"\")","v":""},{"$f":"Inventory!M15","v":0},{"$f":"Inventory!N15","v":0},{"$f":"Inventory!P15","v":0},{"$f":"IF(AND(Inventory!BV15=\"DX\",Inventory!V15<>\"\"),Inventory!V15,\"\")","v":{"$error":"#N/A"}},{"$f":"IF(Inventory!BV15=\"PTRoom\",Inventory!V15,\"\")","v":{"$error":"#N/A"}},{"$error":"#N/A"},{"$error":"#N/A"},{"$error":"#N/A"},{"$f":"IF(RIGHT(Inventory!Q15,7)=\"Chiller\",Inventory!V15,\"\")","v":""},{"$f":"IF(RIGHT(Inventory!Q15,7)=\"Chiller\",Inventory!X15,\"\")","v":""},{"$f":"IF(M9=\"Early Retirement\",Inventory!K15,\"\")","v":""},{"$f":"Inventory!AG15","v":0},{"$f":"IF(AND(M9=\"Early Retirement\",LEFT(Inventory!AD15,3)=\"EER\"),12/Inventory!CL15,\"\")","v":""},{"$f":"IF(LEFT(Inventory!AD15,3)=\"EER\",12/Inventory!CI15,\"\")","v":""},{"$f":"IF(LEFT(Inventory!AD15,3)=\"EER\",12/Inventory!CL15,\"\")","v":""},{"$f":"IF(M9=\"Early Retirement\",Inventory!CB15,\"\")","v":""},{"$f":"Inventory!CI15","v":{"$error":"#N/A"}},{"$f":"Inventory!CL15","v":""},{"$f":"IF(AND(M9=\"Early Retirement\",OR(AND(LEFT(Inventory!AD15,3)=\"EER\",Inventory!BO15<=5.42),Inventory!Q15=\"Air Cooled Chiller\")),12/Inventory!CC15,\"\")","v":""},{"$f":"IF(OR(AND(LEFT(Inventory!AD15,3)=\"EER\",Inventory!BO15<=5.42),Inventory!Q15=\"Air Cooled Chiller\"),12/Inventory!CJ15,\"\")","v":""},{"$f":"IF(OR(AND(LEFT(Inventory!AD15,3)=\"EER\",Inventory!BO15<=5.42),Inventory!Q15=\"Air Cooled Chiller\"),12/Inventory!CM15,\"\")","v":""},{"$f":"IF(AND(M9=\"Early Retirement\",RIGHT(Inventory!AD15,4)=\"IEER\"),12/Inventory!CC15,\"\")","v":""},{"$f":"IF(RIGHT(Inventory!AD15,4)=\"IEER\",12/Inventory!CJ15,\"\")","v":""},{"$f":"IF(RIGHT(Inventory!AD15,4)=\"IEER\",12/Inventory!CM15,\"\")","v":""},{"$f":"IF(M9=\"Early Retirement\",Inventory!CC15,\"\")","v":""},{"$f":"Inventory!CJ15","v":{"$error":"#N/A"}},{"$f":"Inventory!CM15","v":""},{"$f":"IF(AND(M9=\"Early Retirement\",Inventory!BB15=1),12/3.412/Inventory!CD15,\"\")","v":""},{"$f":"IF(Inventory!BB15=1,12/3.412/Inventory!CK15,\"\")","v":""},{"$f":"IF(Inventory!BB15=1,12/3.412/Inventory!CN15,\"\")","v":""},{"$f":"IF(AND(M9=\"Early Retirement\",Inventory!BB15=1,LEFT(Inventory!AF15,4)=\"HSPF\"),12/Inventory!CD15,\"\")","v":""},{"$f":"IF(AND(Inventory!BB15=1,LEFT(Inventory!AF15,4)=\"HSPF\"),12/Inventory!CK15,\"\")","v":""},{"$f":"IF(AND(Inventory!BB15=1,LEFT(Inventory!AF15,4)=\"HSPF\"),12/Inventory!CN15,\"\")","v":""},{"$f":"IF(AND(M9=\"Early Retirement\",RIGHT(Inventory!G15,7)<>\"Chiller\"),Inventory!H15*IF(Inventory!I15=\"Btuh\",1,12000),\"\")","v":""},{"$f":"IF(M9=\"Early Retirement\",Inventory!H15/IF(Inventory!I15=\"Btuh\",12000,1),\"\")","v":""},{"$f":"IF(RIGHT(Inventory!Q15,7)=\"Chiller\",\"\",Inventory!BQ15)","v":0},{"$f":"Inventory!BO15","v":0},{"$f":"IF(AND(M9=\"Early Retirement\",Inventory!BB15=1),Inventory!BR15*12000,\"\")","v":""},{"$f":"IF(Inventory!BB15=1,Inventory!BR15*12000,\"\")","v":""},{"$f":"Inventory!DJ15","v":{"$error":"#N/A"}},{"$f":"IF(ISNUMBER(Inventory!AO15),Inventory!AO15,0)","v":0},{"$f":"IF(ISNUMBER(Inventory!AP15),Inventory!AP15,0)","v":0},{"$f":"0","v":0},{"$f":"IF(ISNUMBER(Inventory!AQ15),Inventory!AQ15,0)","v":0},{"$f":"Inventory!AR15","v":0}]
[null,null,null,null,null,null,null,null,0,0,{"$f":"INDEX('Equipment Lookups'!$L$54:$AQ$67,MATCH(Inventory!Q16,'Equipment Lookups'!$J$54:$J$67,0),MATCH('Utility Admin'!$F$2&DSMTEnviro,'Equipment Lookups'!$L$52:$AQ$52,0))","v":{"$error":"#N/A"}},{"$f":"INDEX('Equipment Lookups'!$L$54:$AQ$67,MATCH(Inventory!Q16,'Equipment Lookups'!$J$54:$J$67,0),MATCH('Utility Admin'!$F$2&DSMTEnviro,'Equipment Lookups'!$L$52:$AQ$52,0)+1)","v":{"$error":"#N/A"}},{"$f":"Inventory!B16","v":0},{"$f":"Inventory!C16","v":0},{"$f":"_xlfn.NUMBERVALUE(RIGHT('Project Info'!$D$9,1))","v":{"$error":"#VALUE!"}},{"$f":"Inventory!BX16","v":"-"},{"$f":"IF(ISNUMBER(Inventory!BY16),Inventory!BY16,0)","v":0},{"$f":"Inventory!BZ16","v":0},{"$f":"Inventory!BW16","v":"-"},{"$f":"0","v":0},{"$f":"IF(Inventory!D16=\"\",\"\",Inventory!D16)","v":""},{"$f":"IF(Inventory!E16=\"\",\"\",Inventory!E16)","v":""},{"$f":"IF(M10=\"Early Retirement\",Inventory!G16,\"\")","v":""},{"$f":"IF(Inventory!BL16>0,Inventory!BL16,\"\")","v":""},{"$f":"IF(M10=\"Early Retirement\",Inventory!DH16,\"\")","v":""},{"$f":"Inventory!M16","v":0},{"$f":"Inventory!N16","v":0},{"$f":"Inventory!P16","v":0},{"$f":"IF(AND(Inventory!BV16=\"DX\",Inventory!V16<>\"\"),Inventory!V16,\"\")","v":{"$error":"#N/A"}},{"$f":"IF(Inventory!BV16=\"PTRoom\",Inventory!V16,\"\")","v":{"$error":"#N/A"}},{"$error":"#N/A"},{"$error":"#N/A"},{"$error":"#N/A"},{"$f":"IF(RIGHT(Inventory!Q16,7)=\"Chiller\",Inventory!V16,\"\")","v":""},{"$f":"IF(RIGHT(Inventory!Q16,7)=\"Chiller\",Inventory!X16,\"\")","v":""},{"$f":"IF(M10=\"Early Retirement\",Inventory!K16,\"\")","v":""},{"$f":"Inventory!AG16","v":0},{"$f":"IF(AND(M10=\"Early Retirement\",LEFT(Inventory!AD16,3)=\"EER\"),12/Inventory!CL16,\"\")","v":""},{"$f":"IF(LEFT(Inventory!AD16,3)=\"EER\",12/Inventory!CI16,\"\")","v":""},{"$f":"IF(LEFT(Inventory!AD16,3)=\"EER\",12/Inventory!CL16,\"\")","v":""},{"$f":"IF(M10=\"Early Retirement\",Inventory!CB16,\"\")","v":""},{"$f":"Inventory!CI16","v":{"$error":"#N/A"}},{"$f":"Inventory!CL16","v":""},{"$f":"IF(AND(M10=\"Early Retirement\",OR(AND(LEFT(Inventory!AD16,3)=\"EER\",Inventory!BO16<=5.42),Inventory!Q16=\"Air Cooled Chiller\")),12/Inventory!CC16,\"\")","v":""},{"$f":"IF(OR(AND(LEFT(Inventory!AD16,3)=\"EER\",Inventory!BO16<=5.42),Inventory!Q16=\"Air Cooled Chiller\"),12/Inventory!CJ16,\"\")","v":""},{"$f":"IF(OR(AND(LEFT(Inventory!AD16,3)=\"EER\",Inventory!BO16<=5.42),Inventory!Q16=\"Air Cooled Chiller\"),12/Inventory!CM16,\"\")","v":""},{"$f":"IF(AND(M10=\"Early Retirement\",RIGHT(Inventory!AD16,4)=\"IEER\"),12/Inventory!CC16,\"\")","v":""},{"$f":"IF(RIGHT(Inventory!AD16,4)=\"IEER\",12/Inventory!CJ16,\"\")","v":""},{"$f":"IF(RIGHT(Inventory!AD16,4)=\"IEER\",12/Inventory!CM16,\"\")","v":""},{"$f":"IF(M10=\"Early Retirement\",Inventory!CC16,\"\")","v":""},{"$f":"Inventory!CJ16","v":{"$error":"#N/A"}},{"$f":"Inventory!CM16","v":""},{"$f":"IF(AND(M10=\"Early Retirement\",Inventory!BB16=1),12/3.412/Inventory!CD16,\"\")","v":""},{"$f":"IF(Inventory!BB16=1,12/3.412/Inventory!CK16,\"\")","v":""},{"$f":"IF(Inventory!BB16=1,12/3.412/Inventory!CN16,\"\")","v":""},{"$f":"IF(AND(M10=\"Early Retirement\",Inventory!BB16=1,LEFT(Inventory!AF16,4)=\"HSPF\"),12/Inventory!CD16,\"\")","v":""},{"$f":"IF(AND(Inventory!BB16=1,LEFT(Inventory!AF16,4)=\"HSPF\"),12/Inventory!CK16,\"\")","v":""},{"$f":"IF(AND(Inventory!BB16=1,LEFT(Inventory!AF16,4)=\"HSPF\"),12/Inventory!CN16,\"\")","v":""},{"$f":"IF(AND(M10=\"Early Retirement\",RIGHT(Inventory!G16,7)<>\"Chiller\"),Inventory!H16*IF(Inventory!I16=\"Btuh\",1,12000),\"\")","v":""},{"$f":"IF(M10=\"Early Retirement\",Inventory!H16/IF(Inventory!I16=\"Btuh\",12000,1),\"\")","v":""},{"$f":"IF(RIGHT(Inventory!Q16,7)=\"Chiller\",\"\",Inventory!BQ16)","v":0},{"$f":"Inventory!BO16","v":0},{"$f":"IF(AND(M10=\"Early Retirement\",Inventory!BB16=1),Inventory!BR16*12000,\"\")","v":""},{"$f":"IF(Inventory!BB16=1,Inventory!BR16*12000,\"\")","v":""},{"$f":"Inventory!DJ16","v":{"$error":"#N/A"}},{"$f":"IF(ISNUMBER(Inventory!AO16),Inventory!AO16,0)","v":0},{"$f":"IF(ISNUMBER(Inventory!AP16),Inventory!AP16,0)","v":0},{"$f":"0","v":0},{"$f":"IF(ISNUMBER(Inventory!AQ16),Inventory!AQ16,0)","v":0},{"$f":"Inventory!AR16","v":0}]
[null,null,null,null,null,null,null,null,0,0,{"$f":"INDEX('Equipment Lookups'!$L$54:$AQ$67,MATCH(Inventory!Q17,'Equipment Lookups'!$J$54:$J$67,0),MATCH('Utility Admin'!$F$2&DSMTEnviro,'Equipment Lookups'!$L$52:$AQ$52,0))","v":{"$error":"#N/A"}},{"$f":"INDEX('Equipment Lookups'!$L$54:$AQ$67,MATCH(Inventory!Q17,'Equipment Lookups'!$J$54:$J$67,0),MATCH('Utility Admin'!$F$2&DSMTEnviro,'Equipment Lookups'!$L$52:$AQ$52,0)+1)","v":{"$error":"#N/A"}},{"$f":"Inventory!B17","v":0},{"$f":"Inventory!C17","v":0},{"$f":"_xlfn.NUMBERVALUE(RIGHT('Project Info'!$D$9,1))","v":{"$error":"#VALUE!"}},{"$f":"Inventory!BX17","v":"-"},{"$f":"IF(ISNUMBER(Inventory!BY17),Inventory!BY17,0)","v":0},{"$f":"Inventory!BZ17","v":0},{"$f":"Inventory!BW17","v":"-"},{"$f":"0","v":0},{"$f":"IF(Inventory!D17=\"\",\"\",Inventory!D17)","v":""},{"$f":"IF(Inventory!E17=\"\",\"\",Inventory!E17)","v":""},{"$f":"IF(M11=\"Early Retirement\",Inventory!G17,\"\")","v":""},{"$f":"IF(Inventory!BL17>0,Inventory!BL17,\"\")","v":""},{"$f":"IF(M11=\"Early Retirement\",Inventory!DH17,\"\")","v":""},{"$f":"Inventory!M17","v":0},{"$f":"Inventory!N17","v":0},{"$f":"Inventory!P17","v":0},{"$f":"IF(AND(Inventory!BV17=\"DX\",Inventory!V17<>\"\"),Inventory!V17,\"\")","v":{"$error":"#N/A"}},{"$f":"IF(Inventory!BV17=\"PTRoom\",Inventory!V17,\"\")","v":{"$error":"#N/A"}},{"$error":"#N/A"},{"$error":"#N/A"},{"$error":"#N/A"},{"$f":"IF(RIGHT(Inventory!Q17,7)=\"Chiller\",Inventory!V17,\"\")","v":""},{"$f":"IF(RIGHT(Inventory!Q17,7)=\"Chiller\",Inventory!X17,\"\")","v":""},{"$f":"IF(M11=\"Early Retirement\",Inventory!K17,\"\")","v":""},{"$f":"Inventory!AG17","v":0},{"$f":"IF(AND(M11=\"Early Retirement\",LEFT(Inventory!AD17,3)=\"EER\"),12/Inventory!CL17,\"\")","v":""},{"$f":"IF(LEFT(Inventory!AD17,3)=\"EER\",12/Inventory!CI17,\"\")","v":""},{"$f":"IF(LEFT(Inventory!AD17,3)=\"EER\",12/Inventory!CL17,\"\")","v":""},{"$f":"IF(M11=\"Early Retirement\",Inventory!CB17,\"\")","v":""},{"$f":"Inventory!CI17","v":{"$error":"#N/A"}},{"$f":"Inventory!CL17","v":""},{"$f":"IF(AND(M11=\"Early Retirement\",OR(AND(LEFT(Inventory!AD17,3)=\"EER\",Inventory!BO17<=5.42),Inventory!Q17=\"Air Cooled Chiller\")),12/Inventory!CC17,\"\")","v":""},{"$f":"IF(OR(AND(LEFT(Inventory!AD17,3)=\"EER\",Inventory!BO17<=5.42),Inventory!Q17=\"Air Cooled Chiller\"),12/Inventory!CJ17,\"\")","v":""},{"$f":"IF(OR(AND(LEFT(Inventory!AD17,3)=\"EER\",Inventory!BO17<=5.42),Inventory!Q17=\"Air Cooled Chiller\"),12/Inventory!CM17,\"\")","v":""},{"$f":"IF(AND(M11=\"Early Retirement\",RIGHT(Inventory!AD17,4)=\"IEER\"),12/Inventory!CC17,\"\")","v":""},{"$f":"IF(RIGHT(Inventory!AD17,4)=\"IEER\",12/Inventory!CJ17,\"\")","v":""},{"$f":"IF(RIGHT(Inventory!AD17,4)=\"IEER\",12/Inventory!CM17,\"\")","v":""},{"$f":"IF(M11=\"Early Retirement\",Inventory!CC17,\"\")","v":""},{"$f":"Inventory!CJ17","v":{"$error":"#N/A"}},{"$f":"Inventory!CM17","v":""},{"$f":"IF(AND(M11=\"Early Retirement\",Inventory!BB17=1),12/3.412/Inventory!CD17,\"\")","v":""},{"$f":"IF(Inventory!BB17=1,12/3.412/Inventory!CK17,\"\")","v":""},{"$f":"IF(Inventory!BB17=1,12/3.412/Inventory!CN17,\"\")","v":""},{"$f":"IF(AND(M11=\"Early Retirement\",Inventory!BB17=1,LEFT(Inventory!AF17,4)=\"HSPF\"),12/Inventory!CD17,\"\")","v":""},{"$f":"IF(AND(Inventory!BB17=1,LEFT(Inventory!AF17,4)=\"HSPF\"),12/Inventory!CK17,\"\")","v":""},{"$f":"IF(AND(Inventory!BB17=1,LEFT(Inventory!AF17,4)=\"HSPF\"),12/Inventory!CN17,\"\")","v":""},{"$f":"IF(AND(M11=\"Early Retirement\",RIGHT(Inventory!G17,7)<>\"Chiller\"),Inventory!H17*IF(Inventory!I17=\"Btuh\",1,12000),\"\")","v":""},{"$f":"IF(M11=\"Early Retirement\",Inventory!H17/IF(Inventory!I17=\"Btuh\",12000,1),\"\")","v":""},{"$f":"IF(RIGHT(Inventory!Q17,7)=\"Chiller\",\"\",Inventory!BQ17)","v":0},{"$f":"Inventory!BO17","v":0},{"$f":"IF(AND(M11=\"Early Retirement\",Inventory!BB17=1),Inventory!BR17*12000,\"\")","v":""},{"$f":"IF(Inventory!BB17=1,Inventory!BR17*12000,\"\")","v":""},{"$f":"Inventory!DJ17","v":{"$error":"#N/A"}},{"$f":"IF(ISNUMBER(Inventory!AO17),Inventory!AO17,0)","v":0},{"$f":"IF(ISNUMBER(Inventory!AP17),Inventory!AP17,0)","v":0},{"$f":"0","v":0},{"$f":"IF(ISNUMBER(Inventory!AQ17),Inventory!AQ17,0)","v":0},{"$f":"Inventory!AR17","v":0}]
["The enrollment application record ID can be found by navigating to the Enrollment Application in DSMT in your web browser and copying the ID at the end of the web address (after .com/).",null,null,null,null,null,null,null,0,0,{"$f":"INDEX('Equipment Lookups'!$L$54:$AQ$67,MATCH(Inventory!Q18,'Equipment Lookups'!$J$54:$J$67,0),MATCH('Utility Admin'!$F$2&DSMTEnviro,'Equipment Lookups'!$L$52:$AQ$52,0))","v":{"$error":"#N/A"}},{"$f":"INDEX('Equipment Lookups'!$L$54:$AQ$67,MATCH(Inventory!Q18,'Equipment Lookups'!$J$54:$J$67,0),MATCH('Utility Admin'!$F$2&DSMTEnviro,'Equipment Lookups'!$L$52:$AQ$52,0)+1)","v":{"$error":"#N/A"}},{"$f":"Inventory!B18","v":0},{"$f":"Inventory!C18","v":0},{"$f":"_xlfn.NUMBERVALUE(RIGHT('Project Info'!$D$9,1))","v":{"$error":"#VALUE!"}},{"$f":"Inventory!BX18","v":"-"},{"$f":"IF(ISNUMBER(Inventory!BY18),Inventory!BY18,0)","v":0},{"$f":"Inventory!BZ18","v":0},{"$f":"Inventory!BW18","v":"-"},{"$f":"0","v":0},{"$f":"IF(Inventory!D18=\"\",\"\",Inventory!D18)","v":""},{"$f":"IF(Inventory!E18=\"\",\"\",Inventory!E18)","v":""},{"$f":"IF(M12=\"Early Retirement\",Inventory!G18,\"\")","v":""},{"$f":"IF(Inventory!BL18>0,Inventory!BL18,\"\")","v":""},{"$f":"IF(M12=\"Early Retirement\",Inventory!DH18,\"\")","v":""},{"$f":"Inventory!M18","v":0},{"$f":"Inventory!N18","v":0},{"$f":"Inventory!P18","v":0},{"$f":"IF(AND(Inventory!BV18=\"DX\",Inventory!V18<>\"\"),Inventory!V18,\"\")","v":{"$error":"#N/A"}},{"$f":"IF(Inventory!BV18=\"PTRoom\",Inventory!V18,\"\")","v":{"$error":"#N/A"}},{"$error":"#N/A"},{"$error":"#N/A"},{"$error":"#N/A"},{"$f":"IF(RIGHT(Inventory!Q18,7)=\"Chiller\",Inventory!V18,\"\")","v":""},{"$f":"IF(RIGHT(Inventory!Q18,7)=\"Chiller\",Inventory!X18,\"\")","v":""},{"$f":"IF(M12=\"Early Retirement\",Inventory!K18,\"\")","v":""},{"$f":"Inventory!AG18","v":0},{"$f":"IF(AND(M12=\"Early Retirement\",LEFT(Inventory!AD18,3)=\"EER\"),12/Inventory!CL18,\"\")","v":""},{"$f":"IF(LEFT(Inventory!AD18,3)=\"EER\",12/Inventory!CI18,\"\")","v":""},{"$f":"IF(LEFT(Inventory!AD18,3)=\"EER\",12/Inventory!CL18,\"\")","v":""},{"$f":"IF(M12=\"Early Retirement\",Inventory!CB18,\"\")","v":""},{"$f":"Inventory!CI18","v":{"$error":"#N/A"}},{"$f":"Inventory!CL18","v":""},{"$f":"IF(AND(M12=\"Early Retirement\",OR(AND(LEFT(Inventory!AD18,3)=\"EER\",Inventory!BO18<=5.42),Inventory!Q18=\"Air Cooled Chiller\")),12/Inventory!CC18,\"\")","v":""},{"$f":"IF(OR(AND(LEFT(Inventory!AD18,3)=\"EER\",Inventory!BO18<=5.42),Inventory!Q18=\"Air Cooled Chiller\"),12/Inventory!CJ18,\"\")","v":""},{"$f":"IF(OR(AND(LEFT(Inventory!AD18,3)=\"EER\",Inventory!BO18<=5.42),Inventory!Q18=\"Air Cooled Chiller\"),12/Inventory!CM18,\"\")","v":""},{"$f":"IF(AND(M12=\"Early Retirement\",RIGHT(Inventory!AD18,4)=\"IEER\"),12/Inventory!CC18,\"\")","v":""},{"$f":"IF(RIGHT(Inventory!AD18,4)=\"IEER\",12/Inventory!CJ18,\"\")","v":""},{"$f":"IF(RIGHT(Inventory!AD18,4)=\"IEER\",12/Inventory!CM18,\"\")","v":""},{"$f":"IF(M12=\"Early Retirement\",Inventory!CC18,\"\")","v":""},{"$f":"Inventory!CJ18","v":{"$error":"#N/A"}},{"$f":"Inventory!CM18","v":""},{"$f":"IF(AND(M12=\"Early Retirement\",Inventory!BB18=1),12/3.412/Inventory!CD18,\"\")","v":""},{"$f":"IF(Inventory!BB18=1,12/3.412/Inventory!CK18,\"\")","v":""},{"$f":"IF(Inventory!BB18=1,12/3.412/Inventory!CN18,\"\")","v":""},{"$f":"IF(AND(M12=\"Early Retirement\",Inventory!BB18=1,LEFT(Inventory!AF18,4)=\"HSPF\"),12/Inventory!CD18,\"\")","v":""},{"$f":"IF(AND(Inventory!BB18=1,LEFT(Inventory!AF18,4)=\"HSPF\"),12/Inventory!CK18,\"\")","v":""},{"$f":"IF(AND(Inventory!BB18=1,LEFT(Inventory!AF18,4)=\"HSPF\"),12/Inventory!CN18,\"\")","v":""},{"$f":"IF(AND(M12=\"Early Retirement\",RIGHT(Inventory!G18,7)<>\"Chiller\"),Inventory!H18*IF(Inventory!I18=\"Btuh\",1,12000),\"\")","v":""},{"$f":"IF(M12=\"Early Retirement\",Inventory!H18/IF(Inventory!I18=\"Btuh\",12000,1),\"\")","v":""},{"$f":"IF(RIGHT(Inventory!Q18,7)=\"Chiller\",\"\",Inventory!BQ18)","v":0},{"$f":"Inventory!BO18","v":0},{"$f":"IF(AND(M12=\"Early Retirement\",Inventory!BB18=1),Inventory!BR18*12000,\"\")","v":""},{"$f":"IF(Inventory!BB18=1,Inventory!BR18*12000,\"\")","v":""},{"$f":"Inventory!DJ18","v":{"$error":"#N/A"}},{"$f":"IF(ISNUMBER(Inventory!AO18),Inventory!AO18,0)","v":0},{"$f":"IF(ISNUMBER(Inventory!AP18),Inventory!AP18,0)","v":0},{"$f":"0","v":0},{"$f":"IF(ISNUMBER(Inventory!AQ18),Inventory!AQ18,0)","v":0},{"$f":"Inventory!AR18","v":0}]
[null,null,null,null,null,null,null,null,0,0,{"$f":"INDEX('Equipment Lookups'!$L$54:$AQ$67,MATCH(Inventory!Q19,'Equipment Lookups'!$J$54:$J$67,0),MATCH('Utility Admin'!$F$2&DSMTEnviro,'Equipment Lookups'!$L$52:$AQ$52,0))","v":{"$error":"#N/A"}},{"$f":"INDEX('Equipment Lookups'!$L$54:$AQ$67,MATCH(Inventory!Q19,'Equipment Lookups'!$J$54:$J$67,0),MATCH('Utility Admin'!$F$2&DSMTEnviro,'Equipment Lookups'!$L$52:$AQ$52,0)+1)","v":{"$error":"#N/A"}},{"$f":"Inventory!B19","v":0},{"$f":"Inventory!C19","v":0},{"$f":"_xlfn.NUMBERVALUE(RIGHT('Project Info'!$D$9,1))","v":{"$error":"#VALUE!"}},{"$f":"Inventory!BX19","v":"-"},{"$f":"IF(ISNUMBER(Inventory!BY19),Inventory!BY19,0)","v":0},{"$f":"Inventory!BZ19","v":0},{"$f":"Inventory!BW19","v":"-"},{"$f":"0","v":0},{"$f":"IF(Inventory!D19=\"\",\"\",Inventory!D19)","v":""},{"$f":"IF(Inventory!E19=\"\",\"\",Inventory!E19)","v":""},{"$f":"IF(M13=\"Early Retirement\",Inventory!G19,\"\")","v":""},{"$f":"IF(Inventory!BL19>0,Inventory!BL19,\"\")","v":""},{"$f":"IF(M13=\"Early Retirement\",Inventory!DH19,\"\")","v":""},{"$f":"Inventory!M19","v":0},{"$f":"Inventory!N19","v":0},{"$f":"Inventory!P19","v":0},{"$f":"IF(AND(Inventory!BV19=\"DX\",Inventory!V19<>\"\"),Inventory!V19,\"\")","v":{"$error":"#N/A"}},{"$f":"IF(Inventory!BV19=\"PTRoom\",Inventory!V19,\"\")","v":{"$error":"#N/A"}},{"$error":"#N/A"},{"$error":"#N/A"},{"$error":"#N/A"},{"$f":"IF(RIGHT(Inventory!Q19,7)=\"Chiller\",Inventory!V19,\"\")","v":""},{"$f":"IF(RIGHT(Inventory!Q19,7)=\"Chiller\",Inventory!X19,\"\")","v":""},{"$f":"IF(M13=\"Early Retirement\",Inventory!K19,\"\")","v":""},{"$f":"Inventory!AG19","v":0},{"$f":"IF(AND(M13=\"Early Retirement\",LEFT(Inventory!AD19,3)=\"EER\"),12/Inventory!CL19,\"\")","v":""},{"$f":"IF(LEFT(Inventory!AD19,3)=\"EER\",12/Inventory!CI19,\"\")","v":""},{"$f":"IF(LEFT(Inventory!AD19,3)=\"EER\",12/Inventory!CL19,\"\")","v":""},{"$f":"IF(M13=\"Early Retirement\",Inventory!CB19,\"\")","v":""},{"$f":"Inventory!CI19","v":{"$error":"#N/A"}},{"$f":"Inventory!CL19","v":""},{"$f":"IF(AND(M13=\"Early Retirement\",OR(AND(LEFT(Inventory!AD19,3)=\"EER\",Inventory!BO19<=5.42),Inventory!Q19=\"Air Cooled Chiller\")),12/Inventory!CC19,\"\")","v":""},{"$f":"IF(OR(AND(LEFT(Inventory!AD19,3)=\"EER\",Inventory!BO19<=5.42),Inventory!Q19=\"Air Cooled Chiller\"),12/Inventory!CJ19,\"\")","v":""},{"$f":"IF(OR(AND(LEFT(Inventory!AD19,3)=\"EER\",Inventory!BO19<=5.42),Inventory!Q19=\"Air Cooled Chiller\"),12/Inventory!CM19,\"\")","v":""},{"$f":"IF(AND(M13=\"Early Retirement\",RIGHT(Inventory!AD19,4)=\"IEER\"),12/Inventory!CC19,\"\")","v":""},{"$f":"IF(RIGHT(Inventory!AD19,4)=\"IEER\",12/Inventory!CJ19,\"\")","v":""},{"$f":"IF(RIGHT(Inventory!AD19,4)=\"IEER\",12/Inventory!CM19,\"\")","v":""},{"$f":"IF(M13=\"Early Retirement\",Inventory!CC19,\"\")","v":""},{"$f":"Inventory!CJ19","v":{"$error":"#N/A"}},{"$f":"Inventory!CM19","v":""},{"$f":"IF(AND(M13=\"Early Retirement\",Inventory!BB19=1),12/3.412/Inventory!CD19,\"\")","v":""},{"$f":"IF(Inventory!BB19=1,12/3.412/Inventory!CK19,\"\")","v":""},{"$f":"IF(Inventory!BB19=1,12/3.412/Inventory!CN19,\"\")","v":""},{"$f":"IF(AND(M13=\"Early Retirement\",Inventory!BB19=1,LEFT(Inventory!AF19,4)=\"HSPF\"),12/Inventory!CD19,\"\")","v":""},{"$f":"IF(AND(Inventory!BB19=1,LEFT(Inventory!AF19,4)=\"HSPF\"),12/Inventory!CK19,\"\")","v":""},{"$f":"IF(AND(Inventory!BB19=1,LEFT(Inventory!AF19,4)=\"HSPF\"),12/Inventory!CN19,\"\")","v":""},{"$f":"IF(AND(M13=\"Early Retirement\",RIGHT(Inventory!G19,7)<>\"Chiller\"),Inventory!H19*IF(Inventory!I19=\"Btuh\",1,12000),\"\")","v":""},{"$f":"IF(M13=\"Early Retirement\",Inventory!H19/IF(Inventory!I19=\"Btuh\",12000,1),\"\")","v":""},{"$f":"IF(RIGHT(Inventory!Q19,7)=\"Chiller\",\"\",Inventory!BQ19)","v":0},{"$f":"Inventory!BO19","v":0},{"$f":"IF(AND(M13=\"Early Retirement\",Inventory!BB19=1),Inventory!BR19*12000,\"\")","v":""},{"$f":"IF(Inventory!BB19=1,Inventory!BR19*12000,\"\")","v":""},{"$f":"Inventory!DJ19","v":{"$error":"#N/A"}},{"$f":"IF(ISNUMBER(Inventory!AO19),Inventory!AO19,0)","v":0},{"$f":"IF(ISNUMBER(Inventory!AP19),Inventory!AP19,0)","v":0},{"$f":"0","v":0},{"$f":"IF(ISNUMBER(Inventory!AQ19),Inventory!AQ19,0)","v":0},{"$f":"Inventory!AR19","v":0}]
["The application premise record ID can be found by navigating to the Application Premise in DSMT in your web browser and copying the ID at the end of the web address (after .com/).",null,null,null,null,null,null,null,0,0,{"$f":"INDEX('Equipment Lookups'!$L$54:$AQ$67,MATCH(Inventory!Q20,'Equipment Lookups'!$J$54:$J$67,0),MATCH('Utility Admin'!$F$2&DSMTEnviro,'Equipment Lookups'!$L$52:$AQ$52,0))","v":{"$error":"#N/A"}},{"$f":"INDEX('Equipment Lookups'!$L$54:$AQ$67,MATCH(Inventory!Q20,'Equipment Lookups'!$J$54:$J$67,0),MATCH('Utility Admin'!$F$2&DSMTEnviro,'Equipment Lookups'!$L$52:$AQ$52,0)+1)","v":{"$error":"#N/A"}},{"$f":"Inventory!B20","v":0},{"$f":"Inventory!C20","v":0},{"$f":"_xlfn.NUMBERVALUE(RIGHT('Project Info'!$D$9,1))","v":{"$error":"#VALUE!"}},{"$f":"Inventory!BX20","v":"-"},{"$f":"IF(ISNUMBER(Inventory!BY20),Inventory!BY20,0)","v":0},{"$f":"Inventory!BZ20","v":0},{"$f":"Inventory!BW20","v":"-"},{"$f":"0","v":0},{"$f":"IF(Inventory!D20=\"\",\"\",Inventory!D20)","v":""},{"$f":"IF(Inventory!E20=\"\",\"\",Inventory!E20)","v":""},{"$f":"IF(M14=\"Early Retirement\",Inventory!G20,\"\")","v":""},{"$f":"IF(Inventory!BL20>0,Inventory!BL20,\"\")","v":""},{"$f":"IF(M14=\"Early Retirement\",Inventory!DH20,\"\")","v":""},{"$f":"Inventory!M20","v":0},{"$f":"Inventory!N20","v":0},{"$f":"Inventory!P20","v":0},{"$f":"IF(AND(Inventory!BV20=\"DX\",Inventory!V20<>\"\"),Inventory!V20,\"\")","v":{"$error":"#N/A"}},{"$f":"IF(Inventory!BV20=\"PTRoom\",Inventory!V20,\"\")","v":{"$error":"#N/A"}},{"$error":"#N/A"},{"$error":"#N/A"},{"$error":"#N/A"},{"$f":"IF(RIGHT(Inventory!Q20,7)=\"Chiller\",Inventory!V20,\"\")","v":""},{"$f":"IF(RIGHT(Inventory!Q20,7)=\"Chiller\",Inventory!X20,\"\")","v":""},{"$f":"IF(M14=\"Early Retirement\",Inventory!K20,\"\")","v":""},{"$f":"Inventory!AG20","v":0},{"$f":"IF(AND(M14=\"Early Retirement\",LEFT(Inventory!AD20,3)=\"EER\"),12/Inventory!CL20,\"\")","v":""},{"$f":"IF(LEFT(Inventory!AD20,3)=\"EER\",12/Inventory!CI20,\"\")","v":""},{"$f":"IF(LEFT(Inventory!AD20,3)=\"EER\",12/Inventory!CL20,\"\")","v":""},{"$f":"IF(M14=\"Early Retirement\",Inventory!CB20,\"\")","v":""},{"$f":"Inventory!CI20","v":{"$error":"#N/A"}},{"$f":"Inventory!CL20","v":""},{"$f":"IF(AND(M14=\"Early Retirement\",OR(AND(LEFT(Inventory!AD20,3)=\"EER\",Inventory!BO20<=5.42),Inventory!Q20=\"Air Cooled Chiller\")),12/Inventory!CC20,\"\")","v":""},{"$f":"IF(OR(AND(LEFT(Inventory!AD20,3)=\"EER\",Inventory!BO20<=5.42),Inventory!Q20=\"Air Cooled Chiller\"),12/Inventory!CJ20,\"\")","v":""},{"$f":"IF(OR(AND(LEFT(Inventory!AD20,3)=\"EER\",Inventory!BO20<=5.42),Inventory!Q20=\"Air Cooled Chiller\"),12/Inventory!CM20,\"\")","v":""},{"$f":"IF(AND(M14=\"Early Retirement\",RIGHT(Inventory!AD20,4)=\"IEER\"),12/Inventory!CC20,\"\")","v":""},{"$f":"IF(RIGHT(Inventory!AD20,4)=\"IEER\",12/Inventory!CJ20,\"\")","v":""},{"$f":"IF(RIGHT(Inventory!AD20,4)=\"IEER\",12/Inventory!CM20,\"\")","v":""},{"$f":"IF(M14=\"Early Retirement\",Inventory!CC20,\"\")","v":""},{"$f":"Inventory!CJ20","v":{"$error":"#N/A"}},{"$f":"Inventory!CM20","v":""},{"$f":"IF(AND(M14=\"Early Retirement\",Inventory!BB20=1),12/3.412/Inventory!CD20,\"\")","v":""},{"$f":"IF(Inventory!BB20=1,12/3.412/Inventory!CK20,\"\")","v":""},{"$f":"IF(Inventory!BB20=1,12/3.412/Inventory!CN20,\"\")","v":""},{"$f":"IF(AND(M14=\"Early Retirement\",Inventory!BB20=1,LEFT(Inventory!AF20,4)=\"HSPF\"),12/Inventory!CD20,\"\")","v":""},{"$f":"IF(AND(Inventory!BB20=1,LEFT(Inventory!AF20,4)=\"HSPF\"),12/Inventory!CK20,\"\")","v":""},{"$f":"IF(AND(Inventory!BB20=1,LEFT(Inventory!AF20,4)=\"HSPF\"),12/Inventory!CN20,\"\")","v":""},{"$f":"IF(AND(M14=\"Early Retirement\",RIGHT(Inventory!G20,7)<>\"Chiller\"),Inventory!H20*IF(Inventory!I20=\"Btuh\",1,12000),\"\")","v":""},{"$f":"IF(M14=\"Early Retirement\",Inventory!H20/IF(Inventory!I20=\"Btuh\",12000,1),\"\")","v":""},{"$f":"IF(RIGHT(Inventory!Q20,7)=\"Chiller\",\"\",Inventory!BQ20)","v":0},{"$f":"Inventory!BO20","v":0},{"$f":"IF(AND(M14=\"Early Retirement\",Inventory!BB20=1),Inventory!BR20*12000,\"\")","v":""},{"$f":"IF(Inventory!BB20=1,Inventory!BR20*12000,\"\")","v":""},{"$f":"Inventory!DJ20","v":{"$error":"#N/A"}},{"$f":"IF(ISNUMBER(Inventory!AO20),Inventory!AO20,0)","v":0},{"$f":"IF(ISNUMBER(Inventory!AP20),Inventory!AP20,0)","v":0},{"$f":"0","v":0},{"$f":"IF(ISNUMBER(Inventory!AQ20),Inventory!AQ20,0)","v":0},{"$f":"Inventory!AR20","v":0}]
[null,null,null,null,null,null,null,null,0,0,{"$f":"INDEX('Equipment Lookups'!$L$54:$AQ$67,MATCH(Inventory!Q21,'Equipment Lookups'!$J$54:$J$67,0),MATCH('Utility Admin'!$F$2&DSMTEnviro,'Equipment Lookups'!$L$52:$AQ$52,0))","v":{"$error":"#N/A"}},{"$f":"INDEX('Equipment Lookups'!$L$54:$AQ$67,MATCH(Inventory!Q21,'Equipment Lookups'!$J$54:$J$67,0),MATCH('Utility Admin'!$F$2&DSMTEnviro,'Equipment Lookups'!$L$52:$AQ$52,0)+1)","v":{"$error":"#N/A"}},{"$f":"Inventory!B21","v":0},{"$f":"Inventory!C21","v":0},{"$f":"_xlfn.NUMBERVALUE(RIGHT('Project Info'!$D$9,1))","v":{"$error":"#VALUE!"}},{"$f":"Inventory!BX21","v":"-"},{"$f":"IF(ISNUMBER(Inventory!BY21),Inventory!BY21,0)","v":0},{"$f":"Inventory!BZ21","v":0},{"$f":"Inventory!BW21","v":"-"},{"$f":"0","v":0},{"$f":"IF(Inventory!D21=\"\",\"\",Inventory!D21)","v":""},{"$f":"IF(Inventory!E21=\"\",\"\",Inventory!E21)","v":""},{"$f":"IF(M15=\"Early Retirement\",Inventory!G21,\"\")","v":""},{"$f":"IF(Inventory!BL21>0,Inventory!BL21,\"\")","v":""},{"$f":"IF(M15=\"Early Retirement\",Inventory!DH21,\"\")","v":""},{"$f":"Inventory!M21","v":0},{"$f":"Inventory!N21","v":0},{"$f":"Inventory!P21","v":0},{"$f":"IF(AND(Inventory!BV21=\"DX\",Inventory!V21<>\"\"),Inventory!V21,\"\")","v":{"$error":"#N/A"}},{"$f":"IF(Inventory!BV21=\"PTRoom\",Inventory!V21,\"\")","v":{"$error":"#N/A"}},{"$error":"#N/A"},{"$error":"#N/A"},{"$error":"#N/A"},{"$f":"IF(RIGHT(Inventory!Q21,7)=\"Chiller\",Inventory!V21,\"\")","v":""},{"$f":"IF(RIGHT(Inventory!Q21,7)=\"Chiller\",Inventory!X21,\"\")","v":""},{"$f":"IF(M15=\"Early Retirement\",Inventory!K21,\"\")","v":""},{"$f":"Inventory!AG21","v":0},{"$f":"IF(AND(M15=\"Early Retirement\",LEFT(Inventory!AD21,3)=\"EER\"),12/Inventory!CL21,\"\")","v":""},{"$f":"IF(LEFT(Inventory!AD21,3)=\"EER\",12/Inventory!CI21,\"\")","v":""},{"$f":"IF(LEFT(Inventory!AD21,3)=\"EER\",12/Inventory!CL21,\"\")","v":""},{"$f":"IF(M15=\"Early Retirement\",Inventory!CB21,\"\")","v":""},{"$f":"Inventory!CI21","v":{"$error":"#N/A"}},{"$f":"Inventory!CL21","v":""},{"$f":"IF(AND(M15=\"Early Retirement\",OR(AND(LEFT(Inventory!AD21,3)=\"EER\",Inventory!BO21<=5.42),Inventory!Q21=\"Air Cooled Chiller\")),12/Inventory!CC21,\"\")","v":""},{"$f":"IF(OR(AND(LEFT(Inventory!AD21,3)=\"EER\",Inventory!BO21<=5.42),Inventory!Q21=\"Air Cooled Chiller\"),12/Inventory!CJ21,\"\")","v":""},{"$f":"IF(OR(AND(LEFT(Inventory!AD21,3)=\"EER\",Inventory!BO21<=5.42),Inventory!Q21=\"Air Cooled Chiller\"),12/Inventory!CM21,\"\")","v":""},{"$f":"IF(AND(M15=\"Early Retirement\",RIGHT(Inventory!AD21,4)=\"IEER\"),12/Inventory!CC21,\"\")","v":""},{"$f":"IF(RIGHT(Inventory!AD21,4)=\"IEER\",12/Inventory!CJ21,\"\")","v":""},{"$f":"IF(RIGHT(Inventory!AD21,4)=\"IEER\",12/Inventory!CM21,\"\")","v":""},{"$f":"IF(M15=\"Early Retirement\",Inventory!CC21,\"\")","v":""},{"$f":"Inventory!CJ21","v":{"$error":"#N/A"}},{"$f":"Inventory!CM21","v":""},{"$f":"IF(AND(M15=\"Early Retirement\",Inventory!BB21=1),12/3.412/Inventory!CD21,\"\")","v":""},{"$f":"IF(Inventory!BB21=1,12/3.412/Inventory!CK21,\"\")","v":""},{"$f":"IF(Inventory!BB21=1,12/3.412/Inventory!CN21,\"\")","v":""},{"$f":"IF(AND(M15=\"Early Retirement\",Inventory!BB21=1,LEFT(Inventory!AF21,4)=\"HSPF\"),12/Inventory!CD21,\"\")","v":""},{"$f":"IF(AND(Inventory!BB21=1,LEFT(Inventory!AF21,4)=\"HSPF\"),12/Inventory!CK21,\"\")","v":""},{"$f":"IF(AND(Inventory!BB21=1,LEFT(Inventory!AF21,4)=\"HSPF\"),12/Inventory!CN21,\"\")","v":""},{"$f":"IF(AND(M15=\"Early Retirement\",RIGHT(Inventory!G21,7)<>\"Chiller\"),Inventory!H21*IF(Inventory!I21=\"Btuh\",1,12000),\"\")","v":""},{"$f":"IF(M15=\"Early Retirement\",Inventory!H21/IF(Inventory!I21=\"Btuh\",12000,1),\"\")","v":""},{"$f":"IF(RIGHT(Inventory!Q21,7)=\"Chiller\",\"\",Inventory!BQ21)","v":0},{"$f":"Inventory!BO21","v":0},{"$f":"IF(AND(M15=\"Early Retirement\",Inventory!BB21=1),Inventory!BR21*12000,\"\")","v":""},{"$f":"IF(Inventory!BB21=1,Inventory!BR21*12000,\"\")","v":""},{"$f":"Inventory!DJ21","v":{"$error":"#N/A"}},{"$f":"IF(ISNUMBER(Inventory!AO21),Inventory!AO21,0)","v":0},{"$f":"IF(ISNUMBER(Inventory!AP21),Inventory!AP21,0)","v":0},{"$f":"0","v":0},{"$f":"IF(ISNUMBER(Inventory!AQ21),Inventory!AQ21,0)","v":0},{"$f":"Inventory!AR21","v":0}]
[null,null,null,null,null,null,null,null,0,0,{"$f":"INDEX('Equipment Lookups'!$L$54:$AQ$67,MATCH(Inventory!Q22,'Equipment Lookups'!$J$54:$J$67,0),MATCH('Utility Admin'!$F$2&DSMTEnviro,'Equipment Lookups'!$L$52:$AQ$52,0))","v":{"$error":"#N/A"}},{"$f":"INDEX('Equipment Lookups'!$L$54:$AQ$67,MATCH(Inventory!Q22,'Equipment Lookups'!$J$54:$J$67,0),MATCH('Utility Admin'!$F$2&DSMTEnviro,'Equipment Lookups'!$L$52:$AQ$52,0)+1)","v":{"$error":"#N/A"}},{"$f":"Inventory!B22","v":0},{"$f":"Inventory!C22","v":0},{"$f":"_xlfn.NUMBERVALUE(RIGHT('Project Info'!$D$9,1))","v":{"$error":"#VALUE!"}},{"$f":"Inventory!BX22","v":"-"},{"$f":"IF(ISNUMBER(Inventory!BY22),Inventory!BY22,0)","v":0},{"$f":"Inventory!BZ22","v":0},{"$f":"Inventory!BW22","v":"-"},{"$f":"0","v":0},{"$f":"IF(Inventory!D22=\"\",\"\",Inventory!D22)","v":""},{"$f":"IF(Inventory!E22=\"\",\"\",Inventory!E22)","v":""},{"$f":"IF(M16=\"Early Retirement\",Inventory!G22,\"\")","v":""},{"$f":"IF(Inventory!BL22>0,Inventory!BL22,\"\")","v":""},{"$f":"IF(M16=\"Early Retirement\",Inventory!DH22,\"\")","v":""},{"$f":"Inventory!M22","v":0},{"$f":"Inventory!N22","v":0},{"$f":"Inventory!P22","v":0},{"$f":"IF(AND(Inventory!BV22=\"DX\",Inventory!V22<>\"\"),Inventory!V22,\"\")","v":{"$error":"#N/A"}},{"$f":"IF(Inventory!BV22=\"PTRoom\",Inventory!V22,\"\")","v":{"$error":"#N/A"}},{"$error":"#N/A"},{"$error":"#N/A"},{"$error":"#N/A"},{"$f":"IF(RIGHT(Inventory!Q22,7)=\"Chiller\",Inventory!V22,\"\")","v":""},{"$f":"IF(RIGHT(Inventory!Q22,7)=\"Chiller\",Inventory!X22,\"\")","v":""},{"$f":"IF(M16=\"Early Retirement\",Inventory!K22,\"\")","v":""},{"$f":"Inventory!AG22","v":0},{"$f":"IF(AND(M16=\"Early Retirement\",LEFT(Inventory!AD22,3)=\"EER\"),12/Inventory!CL22,\"\")","v":""},{"$f":"IF(LEFT(Inventory!AD22,3)=\"EER\",12/Inventory!CI22,\"\")","v":""},{"$f":"IF(LEFT(Inventory!AD22,3)=\"EER\",12/Inventory!CL22,\"\")","v":""},{"$f":"IF(M16=\"Early Retirement\",Inventory!CB22,\"\")","v":""},{"$f":"Inventory!CI22","v":{"$error":"#N/A"}},{"$f":"Inventory!CL22","v":""},{"$f":"IF(AND(M16=\"Early Retirement\",OR(AND(LEFT(Inventory!AD22,3)=\"EER\",Inventory!BO22<=5.42),Inventory!Q22=\"Air Cooled Chiller\")),12/Inventory!CC22,\"\")","v":""},{"$f":"IF(OR(AND(LEFT(Inventory!AD22,3)=\"EER\",Inventory!BO22<=5.42),Inventory!Q22=\"Air Cooled Chiller\"),12/Inventory!CJ22,\"\")","v":""},{"$f":"IF(OR(AND(LEFT(Inventory!AD22,3)=\"EER\",Inventory!BO22<=5.42),Inventory!Q22=\"Air Cooled Chiller\"),12/Inventory!CM22,\"\")","v":""},{"$f":"IF(AND(M16=\"Early Retirement\",RIGHT(Inventory!AD22,4)=\"IEER\"),12/Inventory!CC22,\"\")","v":""},{"$f":"IF(RIGHT(Inventory!AD22,4)=\"IEER\",12/Inventory!CJ22,\"\")","v":""},{"$f":"IF(RIGHT(Inventory!AD22,4)=\"IEER\",12/Inventory!CM22,\"\")","v":""},{"$f":"IF(M16=\"Early Retirement\",Inventory!CC22,\"\")","v":""},{"$f":"Inventory!CJ22","v":{"$error":"#N/A"}},{"$f":"Inventory!CM22","v":""},{"$f":"IF(AND(M16=\"Early Retirement\",Inventory!BB22=1),12/3.412/Inventory!CD22,\"\")","v":""},{"$f":"IF(Inventory!BB22=1,12/3.412/Inventory!CK22,\"\")","v":""},{"$f":"IF(Inventory!BB22=1,12/3.412/Inventory!CN22,\"\")","v":""},{"$f":"IF(AND(M16=\"Early Retirement\",Inventory!BB22=1,LEFT(Inventory!AF22,4)=\"HSPF\"),12/Inventory!CD22,\"\")","v":""},{"$f":"IF(AND(Inventory!BB22=1,LEFT(Inventory!AF22,4)=\"HSPF\"),12/Inventory!CK22,\"\")","v":""},{"$f":"IF(AND(Inventory!BB22=1,LEFT(Inventory!AF22,4)=\"HSPF\"),12/Inventory!CN22,\"\")","v":""},{"$f":"IF(AND(M16=\"Early Retirement\",RIGHT(Inventory!G22,7)<>\"Chiller\"),Inventory!H22*IF(Inventory!I22=\"Btuh\",1,12000),\"\")","v":""},{"$f":"IF(M16=\"Early Retirement\",Inventory!H22/IF(Inventory!I22=\"Btuh\",12000,1),\"\")","v":""},{"$f":"IF(RIGHT(Inventory!Q22,7)=\"Chiller\",\"\",Inventory!BQ22)","v":0},{"$f":"Inventory!BO22","v":0},{"$f":"IF(AND(M16=\"Early Retirement\",Inventory!BB22=1),Inventory!BR22*12000,\"\")","v":""},{"$f":"IF(Inventory!BB22=1,Inventory!BR22*12000,\"\")","v":""},{"$f":"Inventory!DJ22","v":{"$error":"#N/A"}},{"$f":"IF(ISNUMBER(Inventory!AO22),Inventory!AO22,0)","v":0},{"$f":"IF(ISNUMBER(Inventory!AP22),Inventory!AP22,0)","v":0},{"$f":"0","v":0},{"$f":"IF(ISNUMBER(Inventory!AQ22),Inventory!AQ22,0)","v":0},{"$f":"Inventory!AR22","v":0}]
["Launching the Import Wizard in Salesforce",null,null,null,null,null,null,null,0,0,{"$f":"INDEX('Equipment Lookups'!$L$54:$AQ$67,MATCH(Inventory!Q23,'Equipment Lookups'!$J$54:$J$67,0),MATCH('Utility Admin'!$F$2&DSMTEnviro,'Equipment Lookups'!$L$52:$AQ$52,0))","v":{"$error":"#N/A"}},{"$f":"INDEX('Equipment Lookups'!$L$54:$AQ$67,MATCH(Inventory!Q23,'Equipment Lookups'!$J$54:$J$67,0),MATCH('Utility Admin'!$F$2&DSMTEnviro,'Equipment Lookups'!$L$52:$AQ$52,0)+1)","v":{"$error":"#N/A"}},{"$f":"Inventory!B23","v":0},{"$f":"Inventory!C23","v":0},{"$f":"_xlfn.NUMBERVALUE(RIGHT('Project Info'!$D$9,1))","v":{"$error":"#VALUE!"}},{"$f":"Inventory!BX23","v":"-"},{"$f":"IF(ISNUMBER(Inventory!BY23),Inventory!BY23,0)","v":0},{"$f":"Inventory!BZ23","v":0},{"$f":"Inventory!BW23","v":"-"},{"$f":"0","v":0},{"$f":"IF(Inventory!D23=\"\",\"\",Inventory!D23)","v":""},{"$f":"IF(Inventory!E23=\"\",\"\",Inventory!E23)","v":""},{"$f":"IF(M17=\"Early Retirement\",Inventory!G23,\"\")","v":""},{"$f":"IF(Inventory!BL23>0,Inventory!BL23,\"\")","v":""},{"$f":"IF(M17=\"Early Retirement\",Inventory!DH23,\"\")","v":""},{"$f":"Inventory!M23","v":0},{"$f":"Inventory!N23","v":0},{"$f":"Inventory!P23","v":0},{"$f":"IF(AND(Inventory!BV23=\"DX\",Inventory!V23<>\"\"),Inventory!V23,\"\")","v":{"$error":"#N/A"}},{"$f":"IF(Inventory!BV23=\"PTRoom\",Inventory!V23,\"\")","v":{"$error":"#N/A"}},{"$error":"#N/A"},{"$error":"#N/A"},{"$error":"#N/A"},{"$f":"IF(RIGHT(Inventory!Q23,7)=\"Chiller\",Inventory!V23,\"\")","v":""},{"$f":"IF(RIGHT(Inventory!Q23,7)=\"Chiller\",Inventory!X23,\"\")","v":""},{"$f":"IF(M17=\"Early Retirement\",Inventory!K23,\"\")","v":""},{"$f":"Inventory!AG23","v":0},{"$f":"IF(AND(M17=\"Early Retirement\",LEFT(Inventory!AD23,3)=\"EER\"),12/Inventory!CL23,\"\")","v":""},{"$f":"IF(LEFT(Inventory!AD23,3)=\"EER\",12/Inventory!CI23,\"\")","v":""},{"$f":"IF(LEFT(Inventory!AD23,3)=\"EER\",12/Inventory!CL23,\"\")","v":""},{"$f":"IF(M17=\"Early Retirement\",Inventory!CB23,\"\")","v":""},{"$f":"Inventory!CI23","v":{"$error":"#N/A"}},{"$f":"Inventory!CL23","v":""},{"$f":"IF(AND(M17=\"Early Retirement\",OR(AND(LEFT(Inventory!AD23,3)=\"EER\",Inventory!BO23<=5.42),Inventory!Q23=\"Air Cooled Chiller\")),12/Inventory!CC23,\"\")","v":""},{"$f":"IF(OR(AND(LEFT(Inventory!AD23,3)=\"EER\",Inventory!BO23<=5.42),Inventory!Q23=\"Air Cooled Chiller\"),12/Inventory!CJ23,\"\")","v":""},{"$f":"IF(OR(AND(LEFT(Inventory!AD23,3)=\"EER\",Inventory!BO23<=5.42),Inventory!Q23=\"Air Cooled Chiller\"),12/Inventory!CM23,\"\")","v":""},{"$f":"IF(AND(M17=\"Early Retirement\",RIGHT(Inventory!AD23,4)=\"IEER\"),12/Inventory!CC23,\"\")","v":""},{"$f":"IF(RIGHT(Inventory!AD23,4)=\"IEER\",12/Inventory!CJ23,\"\")","v":""},{"$f":"IF(RIGHT(Inventory!AD23,4)=\"IEER\",12/Inventory!CM23,\"\")","v":""},{"$f":"IF(M17=\"Early Retirement\",Inventory!CC23,\"\")","v":""},{"$f":"Inventory!CJ23","v":{"$error":"#N/A"}},{"$f":"Inventory!CM23","v":""},{"$f":"IF(AND(M17=\"Early Retirement\",Inventory!BB23=1),12/3.412/Inventory!CD23,\"\")","v":""},{"$f":"IF(Inventory!BB23=1,12/3.412/Inventory!CK23,\"\")","v":""},{"$f":"IF(Inventory!BB23=1,12/3.412/Inventory!CN23,\"\")","v":""},{"$f":"IF(AND(M17=\"Early Retirement\",Inventory!BB23=1,LEFT(Inventory!AF23,4)=\"HSPF\"),12/Inventory!CD23,\"\")","v":""},{"$f":"IF(AND(Inventory!BB23=1,LEFT(Inventory!AF23,4)=\"HSPF\"),12/Inventory!CK23,\"\")","v":""},{"$f":"IF(AND(Inventory!BB23=1,LEFT(Inventory!AF23,4)=\"HSPF\"),12/Inventory!CN23,\"\")","v":""},{"$f":"IF(AND(M17=\"Early Retirement\",RIGHT(Inventory!G23,7)<>\"Chiller\"),Inventory!H23*IF(Inventory!I23=\"Btuh\",1,12000),\"\")","v":""},{"$f":"IF(M17=\"Early Retirement\",Inventory!H23/IF(Inventory!I23=\"Btuh\",12000,1),\"\")","v":""},{"$f":"IF(RIGHT(Inventory!Q23,7)=\"Chiller\",\"\",Inventory!BQ23)","v":0},{"$f":"Inventory!BO23","v":0},{"$f":"IF(AND(M17=\"Early Retirement\",Inventory!BB23=1),Inventory!BR23*12000,\"\")","v":""},{"$f":"IF(Inventory!BB23=1,Inventory!BR23*12000,\"\")","v":""},{"$f":"Inventory!DJ23","v":{"$error":"#N/A"}},{"$f":"IF(ISNUMBER(Inventory!AO23),Inventory!AO23,0)","v":0},{"$f":"IF(ISNUMBER(Inventory!AP23),Inventory!AP23,0)","v":0},{"$f":"0","v":0},{"$f":"IF(ISNUMBER(Inventory!AQ23),Inventory!AQ23,0)","v":0},{"$f":"Inventory!AR23","v":0}]
["1.","Login to Salesforce in the environment you will be testing. ",null,null,null,null,null,null,0,0,{"$f":"INDEX('Equipment Lookups'!$L$54:$AQ$67,MATCH(Inventory!Q24,'Equipment Lookups'!$J$54:$J$67,0),MATCH('Utility Admin'!$F$2&DSMTEnviro,'Equipment Lookups'!$L$52:$AQ$52,0))","v":{"$error":"#N/A"}},{"$f":"INDEX('Equipment Lookups'!$L$54:$AQ$67,MATCH(Inventory!Q24,'Equipment Lookups'!$J$54:$J$67,0),MATCH('Utility Admin'!$F$2&DSMTEnviro,'Equipment Lookups'!$L$52:$AQ$52,0)+1)","v":{"$error":"#N/A"}},{"$f":"Inventory!B24","v":0},{"$f":"Inventory!C24","v":0},{"$f":"_xlfn.NUMBERVALUE(RIGHT('Project Info'!$D$9,1))","v":{"$error":"#VALUE!"}},{"$f":"Inventory!BX24","v":"-"},{"$f":"IF(ISNUMBER(Inventory!BY24),Inventory!BY24,0)","v":0},{"$f":"Inventory!BZ24","v":0},{"$f":"Inventory!BW24","v":"-"},{"$f":"0","v":0},{"$f":"IF(Inventory!D24=\"\",\"\",Inventory!D24)","v":""},{"$f":"IF(Inventory!E24=\"\",\"\",Inventory!E24)","v":""},{"$f":"IF(M18=\"Early Retirement\",Inventory!G24,\"\")","v":""},{"$f":"IF(Inventory!BL24>0,Inventory!BL24,\"\")","v":""},{"$f":"IF(M18=\"Early Retirement\",Inventory!DH24,\"\")","v":""},{"$f":"Inventory!M24","v":0},{"$f":"Inventory!N24","v":0},{"$f":"Inventory!P24","v":0},{"$f":"IF(AND(Inventory!BV24=\"DX\",Inventory!V24<>\"\"),Inventory!V24,\"\")","v":{"$error":"#N/A"}},{"$f":"IF(Inventory!BV24=\"PTRoom\",Inventory!V24,\"\")","v":{"$error":"#N/A"}},{"$error":"#N/A"},{"$error":"#N/A"},{"$error":"#N/A"},{"$f":"IF(RIGHT(Inventory!Q24,7)=\"Chiller\",Inventory!V24,\"\")","v":""},{"$f":"IF(RIGHT(Inventory!Q24,7)=\"Chiller\",Inventory!X24,\"\")","v":""},{"$f":"IF(M18=\"Early Retirement\",Inventory!K24,\"\")","v":""},{"$f":"Inventory!AG24","v":0},{"$f":"IF(AND(M18=\"Early Retirement\",LEFT(Inventory!AD24,3)=\"EER\"),12/Inventory!CL24,\"\")","v":""},{"$f":"IF(LEFT(Inventory!AD24,3)=\"EER\",12/Inventory!CI24,\"\")","v":""},{"$f":"IF(LEFT(Inventory!AD24,3)=\"EER\",12/Inventory!CL24,\"\")","v":""},{"$f":"IF(M18=\"Early Retirement\",Inventory!CB24,\"\")","v":""},{"$f":"Inventory!CI24","v":{"$error":"#N/A"}},{"$f":"Inventory!CL24","v":""},{"$f":"IF(AND(M18=\"Early Retirement\",OR(AND(LEFT(Inventory!AD24,3)=\"EER\",Inventory!BO24<=5.42),Inventory!Q24=\"Air Cooled Chiller\")),12/Inventory!CC24,\"\")","v":""},{"$f":"IF(OR(AND(LEFT(Inventory!AD24,3)=\"EER\",Inventory!BO24<=5.42),Inventory!Q24=\"Air Cooled Chiller\"),12/Inventory!CJ24,\"\")","v":""},{"$f":"IF(OR(AND(LEFT(Inventory!AD24,3)=\"EER\",Inventory!BO24<=5.42),Inventory!Q24=\"Air Cooled Chiller\"),12/Inventory!CM24,\"\")","v":""},{"$f":"IF(AND(M18=\"Early Retirement\",RIGHT(Inventory!AD24,4)=\"IEER\"),12/Inventory!CC24,\"\")","v":""},{"$f":"IF(RIGHT(Inventory!AD24,4)=\"IEER\",12/Inventory!CJ24,\"\")","v":""},{"$f":"IF(RIGHT(Inventory!AD24,4)=\"IEER\",12/Inventory!CM24,\"\")","v":""},{"$f":"IF(M18=\"Early Retirement\",Inventory!CC24,\"\")","v":""},{"$f":"Inventory!CJ24","v":{"$error":"#N/A"}},{"$f":"Inventory!CM24","v":""},{"$f":"IF(AND(M18=\"Early Retirement\",Inventory!BB24=1),12/3.412/Inventory!CD24,\"\")","v":""},{"$f":"IF(Inventory!BB24=1,12/3.412/Inventory!CK24,\"\")","v":""},{"$f":"IF(Inventory!BB24=1,12/3.412/Inventory!CN24,\"\")","v":""},{"$f":"IF(AND(M18=\"Early Retirement\",Inventory!BB24=1,LEFT(Inventory!AF24,4)=\"HSPF\"),12/Inventory!CD24,\"\")","v":""},{"$f":"IF(AND(Inventory!BB24=1,LEFT(Inventory!AF24,4)=\"HSPF\"),12/Inventory!CK24,\"\")","v":""},{"$f":"IF(AND(Inventory!BB24=1,LEFT(Inventory!AF24,4)=\"HSPF\"),12/Inventory!CN24,\"\")","v":""},{"$f":"IF(AND(M18=\"Early Retirement\",RIGHT(Inventory!G24,7)<>\"Chiller\"),Inventory!H24*IF(Inventory!I24=\"Btuh\",1,12000),\"\")","v":""},{"$f":"IF(M18=\"Early Retirement\",Inventory!H24/IF(Inventory!I24=\"Btuh\",12000,1),\"\")","v":""},{"$f":"IF(RIGHT(Inventory!Q24,7)=\"Chiller\",\"\",Inventory!BQ24)","v":0},{"$f":"Inventory!BO24","v":0},{"$f":"IF(AND(M18=\"Early Retirement\",Inventory!BB24=1),Inventory!BR24*12000,\"\")","v":""},{"$f":"IF(Inventory!BB24=1,Inventory!BR24*12000,\"\")","v":""},{"$f":"Inventory!DJ24","v":{"$error":"#N/A"}},{"$f":"IF(ISNUMBER(Inventory!AO24),Inventory!AO24,0)","v":0},{"$f":"IF(ISNUMBER(Inventory!AP24),Inventory!AP24,0)","v":0},{"$f":"0","v":0},{"$f":"IF(ISNUMBER(Inventory!AQ24),Inventory!AQ24,0)","v":0},{"$f":"Inventory!AR24","v":0}]
["2.","Navigate to Upload MLIs by clicking on the \"+\" sign in the top right corner of the page.",null,null,null,null,null,null,0,0,{"$f":"INDEX('Equipment Lookups'!$L$54:$AQ$67,MATCH(Inventory!Q25,'Equipment Lookups'!$J$54:$J$67,0),MATCH('Utility Admin'!$F$2&DSMTEnviro,'Equipment Lookups'!$L$52:$AQ$52,0))","v":{"$error":"#N/A"}},{"$f":"INDEX('Equipment Lookups'!$L$54:$AQ$67,MATCH(Inventory!Q25,'Equipment Lookups'!$J$54:$J$67,0),MATCH('Utility Admin'!$F$2&DSMTEnviro,'Equipment Lookups'!$L$52:$AQ$52,0)+1)","v":{"$error":"#N/A"}},{"$f":"Inventory!B25","v":0},{"$f":"Inventory!C25","v":0},{"$f":"_xlfn.NUMBERVALUE(RIGHT('Project Info'!$D$9,1))","v":{"$error":"#VALUE!"}},{"$f":"Inventory!BX25","v":"-"},{"$f":"IF(ISNUMBER(Inventory!BY25),Inventory!BY25,0)","v":0},{"$f":"Inventory!BZ25","v":0},{"$f":"Inventory!BW25","v":"-"},{"$f":"0","v":0},{"$f":"IF(Inventory!D25=\"\",\"\",Inventory!D25)","v":""},{"$f":"IF(Inventory!E25=\"\",\"\",Inventory!E25)","v":""},{"$f":"IF(M19=\"Early Retirement\",Inventory!G25,\"\")","v":""},{"$f":"IF(Inventory!BL25>0,Inventory!BL25,\"\")","v":""},{"$f":"IF(M19=\"Early Retirement\",Inventory!DH25,\"\")","v":""},{"$f":"Inventory!M25","v":0},{"$f":"Inventory!N25","v":0},{"$f":"Inventory!P25","v":0},{"$f":"IF(AND(Inventory!BV25=\"DX\",Inventory!V25<>\"\"),Inventory!V25,\"\")","v":{"$error":"#N/A"}},{"$f":"IF(Inventory!BV25=\"PTRoom\",Inventory!V25,\"\")","v":{"$error":"#N/A"}},{"$error":"#N/A"},{"$error":"#N/A"},{"$error":"#N/A"},{"$f":"IF(RIGHT(Inventory!Q25,7)=\"Chiller\",Inventory!V25,\"\")","v":""},{"$f":"IF(RIGHT(Inventory!Q25,7)=\"Chiller\",Inventory!X25,\"\")","v":""},{"$f":"IF(M19=\"Early Retirement\",Inventory!K25,\"\")","v":""},{"$f":"Inventory!AG25","v":0},{"$f":"IF(AND(M19=\"Early Retirement\",LEFT(Inventory!AD25,3)=\"EER\"),12/Inventory!CL25,\"\")","v":""},{"$f":"IF(LEFT(Inventory!AD25,3)=\"EER\",12/Inventory!CI25,\"\")","v":""},{"$f":"IF(LEFT(Inventory!AD25,3)=\"EER\",12/Inventory!CL25,\"\")","v":""},{"$f":"IF(M19=\"Early Retirement\",Inventory!CB25,\"\")","v":""},{"$f":"Inventory!CI25","v":{"$error":"#N/A"}},{"$f":"Inventory!CL25","v":""},{"$f":"IF(AND(M19=\"Early Retirement\",OR(AND(LEFT(Inventory!AD25,3)=\"EER\",Inventory!BO25<=5.42),Inventory!Q25=\"Air Cooled Chiller\")),12/Inventory!CC25,\"\")","v":""},{"$f":"IF(OR(AND(LEFT(Inventory!AD25,3)=\"EER\",Inventory!BO25<=5.42),Inventory!Q25=\"Air Cooled Chiller\"),12/Inventory!CJ25,\"\")","v":""},{"$f":"IF(OR(AND(LEFT(Inventory!AD25,3)=\"EER\",Inventory!BO25<=5.42),Inventory!Q25=\"Air Cooled Chiller\"),12/Inventory!CM25,\"\")","v":""},{"$f":"IF(AND(M19=\"Early Retirement\",RIGHT(Inventory!AD25,4)=\"IEER\"),12/Inventory!CC25,\"\")","v":""},{"$f":"IF(RIGHT(Inventory!AD25,4)=\"IEER\",12/Inventory!CJ25,\"\")","v":""},{"$f":"IF(RIGHT(Inventory!AD25,4)=\"IEER\",12/Inventory!CM25,\"\")","v":""},{"$f":"IF(M19=\"Early Retirement\",Inventory!CC25,\"\")","v":""},{"$f":"Inventory!CJ25","v":{"$error":"#N/A"}},{"$f":"Inventory!CM25","v":""},{"$f":"IF(AND(M19=\"Early Retirement\",Inventory!BB25=1),12/3.412/Inventory!CD25,\"\")","v":""},{"$f":"IF(Inventory!BB25=1,12/3.412/Inventory!CK25,\"\")","v":""},{"$f":"IF(Inventory!BB25=1,12/3.412/Inventory!CN25,\"\")","v":""},{"$f":"IF(AND(M19=\"Early Retirement\",Inventory!BB25=1,LEFT(Inventory!AF25,4)=\"HSPF\"),12/Inventory!CD25,\"\")","v":""},{"$f":"IF(AND(Inventory!BB25=1,LEFT(Inventory!AF25,4)=\"HSPF\"),12/Inventory!CK25,\"\")","v":""},{"$f":"IF(AND(Inventory!BB25=1,LEFT(Inventory!AF25,4)=\"HSPF\"),12/Inventory!CN25,\"\")","v":""},{"$f":"IF(AND(M19=\"Early Retirement\",RIGHT(Inventory!G25,7)<>\"Chiller\"),Inventory!H25*IF(Inventory!I25=\"Btuh\",1,12000),\"\")","v":""},{"$f":"IF(M19=\"Early Retirement\",Inventory!H25/IF(Inventory!I25=\"Btuh\",12000,1),\"\")","v":""},{"$f":"IF(RIGHT(Inventory!Q25,7)=\"Chiller\",\"\",Inventory!BQ25)","v":0},{"$f":"Inventory!BO25","v":0},{"$f":"IF(AND(M19=\"Early Retirement\",Inventory!BB25=1),Inventory!BR25*12000,\"\")","v":""},{"$f":"IF(Inventory!BB25=1,Inventory!BR25*12000,\"\")","v":""},{"$f":"Inventory!DJ25","v":{"$error":"#N/A"}},{"$f":"IF(ISNUMBER(Inventory!AO25),Inventory!AO25,0)","v":0},{"$f":"IF(ISNUMBER(Inventory!AP25),Inventory!AP25,0)","v":0},{"$f":"0","v":0},{"$f":"IF(ISNUMBER(Inventory!AQ25),Inventory!AQ25,0)","v":0},{"$f":"Inventory!AR25","v":0}]
["3.","Click on the \"Choose File\" button and select the CSV file you created.",null,null,null,null,null,null,0,0,{"$f":"INDEX('Equipment Lookups'!$L$54:$AQ$67,MATCH(Inventory!Q26,'Equipment Lookups'!$J$54:$J$67,0),MATCH('Utility Admin'!$F$2&DSMTEnviro,'Equipment Lookups'!$L$52:$AQ$52,0))","v":{"$error":"#N/A"}},{"$f":"INDEX('Equipment Lookups'!$L$54:$AQ$67,MATCH(Inventory!Q26,'Equipment Lookups'!$J$54:$J$67,0),MATCH('Utility Admin'!$F$2&DSMTEnviro,'Equipment Lookups'!$L$52:$AQ$52,0)+1)","v":{"$error":"#N/A"}},{"$f":"Inventory!B26","v":0},{"$f":"Inventory!C26","v":0},{"$f":"_xlfn.NUMBERVALUE(RIGHT('Project Info'!$D$9,1))","v":{"$error":"#VALUE!"}},{"$f":"Inventory!BX26","v":"-"},{"$f":"IF(ISNUMBER(Inventory!BY26),Inventory!BY26,0)","v":0},{"$f":"Inventory!BZ26","v":0},{"$f":"Inventory!BW26","v":"-"},{"$f":"0","v":0},{"$f":"IF(Inventory!D26=\"\",\"\",Inventory!D26)","v":""},{"$f":"IF(Inventory!E26=\"\",\"\",Inventory!E26)","v":""},{"$f":"IF(M20=\"Early Retirement\",Inventory!G26,\"\")","v":""},{"$f":"IF(Inventory!BL26>0,Inventory!BL26,\"\")","v":""},{"$f":"IF(M20=\"Early Retirement\",Inventory!DH26,\"\")","v":""},{"$f":"Inventory!M26","v":0},{"$f":"Inventory!N26","v":0},{"$f":"Inventory!P26","v":0},{"$f":"IF(AND(Inventory!BV26=\"DX\",Inventory!V26<>\"\"),Inventory!V26,\"\")","v":{"$error":"#N/A"}},{"$f":"IF(Inventory!BV26=\"PTRoom\",Inventory!V26,\"\")","v":{"$error":"#N/A"}},{"$error":"#N/A"},{"$error":"#N/A"},{"$error":"#N/A"},{"$f":"IF(RIGHT(Inventory!Q26,7)=\"Chiller\",Inventory!V26,\"\")","v":""},{"$f":"IF(RIGHT(Inventory!Q26,7)=\"Chiller\",Inventory!X26,\"\")","v":""},{"$f":"IF(M20=\"Early Retirement\",Inventory!K26,\"\")","v":""},{"$f":"Inventory!AG26","v":0},{"$f":"IF(AND(M20=\"Early Retirement\",LEFT(Inventory!AD26,3)=\"EER\"),12/Inventory!CL26,\"\")","v":""},{"$f":"IF(LEFT(Inventory!AD26,3)=\"EER\",12/Inventory!CI26,\"\")","v":""},{"$f":"IF(LEFT(Inventory!AD26,3)=\"EER\",12/Inventory!CL26,\"\")","v":""},{"$f":"IF(M20=\"Early Retirement\",Inventory!CB26,\"\")","v":""},{"$f":"Inventory!CI26","v":{"$error":"#N/A"}},{"$f":"Inventory!CL26","v":""},{"$f":"IF(AND(M20=\"Early Retirement\",OR(AND(LEFT(Inventory!AD26,3)=\"EER\",Inventory!BO26<=5.42),Inventory!Q26=\"Air Cooled Chiller\")),12/Inventory!CC26,\"\")","v":""},{"$f":"IF(OR(AND(LEFT(Inventory!AD26,3)=\"EER\",Inventory!BO26<=5.42),Inventory!Q26=\"Air Cooled Chiller\"),12/Inventory!CJ26,\"\")","v":""},{"$f":"IF(OR(AND(LEFT(Inventory!AD26,3)=\"EER\",Inventory!BO26<=5.42),Inventory!Q26=\"Air Cooled Chiller\"),12/Inventory!CM26,\"\")","v":""},{"$f":"IF(AND(M20=\"Early Retirement\",RIGHT(Inventory!AD26,4)=\"IEER\"),12/Inventory!CC26,\"\")","v":""},{"$f":"IF(RIGHT(Inventory!AD26,4)=\"IEER\",12/Inventory!CJ26,\"\")","v":""},{"$f":"IF(RIGHT(Inventory!AD26,4)=\"IEER\",12/Inventory!CM26,\"\")","v":""},{"$f":"IF(M20=\"Early Retirement\",Inventory!CC26,\"\")","v":""},{"$f":"Inventory!CJ26","v":{"$error":"#N/A"}},{"$f":"Inventory!CM26","v":""},{"$f":"IF(AND(M20=\"Early Retirement\",Inventory!BB26=1),12/3.412/Inventory!CD26,\"\")","v":""},{"$f":"IF(Inventory!BB26=1,12/3.412/Inventory!CK26,\"\")","v":""},{"$f":"IF(Inventory!BB26=1,12/3.412/Inventory!CN26,\"\")","v":""},{"$f":"IF(AND(M20=\"Early Retirement\",Inventory!BB26=1,LEFT(Inventory!AF26,4)=\"HSPF\"),12/Inventory!CD26,\"\")","v":""},{"$f":"IF(AND(Inventory!BB26=1,LEFT(Inventory!AF26,4)=\"HSPF\"),12/Inventory!CK26,\"\")","v":""},{"$f":"IF(AND(Inventory!BB26=1,LEFT(Inventory!AF26,4)=\"HSPF\"),12/Inventory!CN26,\"\")","v":""},{"$f":"IF(AND(M20=\"Early Retirement\",RIGHT(Inventory!G26,7)<>\"Chiller\"),Inventory!H26*IF(Inventory!I26=\"Btuh\",1,12000),\"\")","v":""},{"$f":"IF(M20=\"Early Retirement\",Inventory!H26/IF(Inventory!I26=\"Btuh\",12000,1),\"\")","v":""},{"$f":"IF(RIGHT(Inventory!Q26,7)=\"Chiller\",\"\",Inventory!BQ26)","v":0},{"$f":"Inventory!BO26","v":0},{"$f":"IF(AND(M20=\"Early Retirement\",Inventory!BB26=1),Inventory!BR26*12000,\"\")","v":""},{"$f":"IF(Inventory!BB26=1,Inventory!BR26*12000,\"\")","v":""},{"$f":"Inventory!DJ26","v":{"$error":"#N/A"}},{"$f":"IF(ISNUMBER(Inventory!AO26),Inventory!AO26,0)","v":0},{"$f":"IF(ISNUMBER(Inventory!AP26),Inventory!AP26,0)","v":0},{"$f":"0","v":0},{"$f":"IF(ISNUMBER(Inventory!AQ26),Inventory!AQ26,0)","v":0},{"$f":"Inventory!AR26","v":0}]
["4.","Select the \"Upload File\" button.",null,null,null,null,null,null,0,0,{"$f":"INDEX('Equipment Lookups'!$L$54:$AQ$67,MATCH(Inventory!Q27,'Equipment Lookups'!$J$54:$J$67,0),MATCH('Utility Admin'!$F$2&DSMTEnviro,'Equipment Lookups'!$L$52:$AQ$52,0))","v":{"$error":"#N/A"}},{"$f":"INDEX('Equipment Lookups'!$L$54:$AQ$67,MATCH(Inventory!Q27,'Equipment Lookups'!$J$54:$J$67,0),MATCH('Utility Admin'!$F$2&DSMTEnviro,'Equipment Lookups'!$L$52:$AQ$52,0)+1)","v":{"$error":"#N/A"}},{"$f":"Inventory!B27","v":0},{"$f":"Inventory!C27","v":0},{"$f":"_xlfn.NUMBERVALUE(RIGHT('Project Info'!$D$9,1))","v":{"$error":"#VALUE!"}},{"$f":"Inventory!BX27","v":"-"},{"$f":"IF(ISNUMBER(Inventory!BY27),Inventory!BY27,0)","v":0},{"$f":"Inventory!BZ27","v":0},{"$f":"Inventory!BW27","v":"-"},{"$f":"0","v":0},{"$f":"IF(Inventory!D27=\"\",\"\",Inventory!D27)","v":""},{"$f":"IF(Inventory!E27=\"\",\"\",Inventory!E27)","v":""},{"$f":"IF(M21=\"Early Retirement\",Inventory!G27,\"\")","v":""},{"$f":"IF(Inventory!BL27>0,Inventory!BL27,\"\")","v":""},{"$f":"IF(M21=\"Early Retirement\",Inventory!DH27,\"\")","v":""},{"$f":"Inventory!M27","v":0},{"$f":"Inventory!N27","v":0},{"$f":"Inventory!P27","v":0},{"$f":"IF(AND(Inventory!BV27=\"DX\",Inventory!V27<>\"\"),Inventory!V27,\"\")","v":{"$error":"#N/A"}},{"$f":"IF(Inventory!BV27=\"PTRoom\",Inventory!V27,\"\")","v":{"$error":"#N/A"}},{"$error":"#N/A"},{"$error":"#N/A"},{"$error":"#N/A"},{"$f":"IF(RIGHT(Inventory!Q27,7)=\"Chiller\",Inventory!V27,\"\")","v":""},{"$f":"IF(RIGHT(Inventory!Q27,7)=\"Chiller\",Inventory!X27,\"\")","v":""},{"$f":"IF(M21=\"Early Retirement\",Inventory!K27,\"\")","v":""},{"$f":"Inventory!AG27","v":0},{"$f":"IF(AND(M21=\"Early Retirement\",LEFT(Inventory!AD27,3)=\"EER\"),12/Inventory!CL27,\"\")","v":""},{"$f":"IF(LEFT(Inventory!AD27,3)=\"EER\",12/Inventory!CI27,\"\")","v":""},{"$f":"IF(LEFT(Inventory!AD27,3)=\"EER\",12/Inventory!CL27,\"\")","v":""},{"$f":"IF(M21=\"Early Retirement\",Inventory!CB27,\"\")","v":""},{"$f":"Inventory!CI27","v":{"$error":"#N/A"}},{"$f":"Inventory!CL27","v":""},{"$f":"IF(AND(M21=\"Early Retirement\",OR(AND(LEFT(Inventory!AD27,3)=\"EER\",Inventory!BO27<=5.42),Inventory!Q27=\"Air Cooled Chiller\")),12/Inventory!CC27,\"\")","v":""},{"$f":"IF(OR(AND(LEFT(Inventory!AD27,3)=\"EER\",Inventory!BO27<=5.42),Inventory!Q27=\"Air Cooled Chiller\"),12/Inventory!CJ27,\"\")","v":""},{"$f":"IF(OR(AND(LEFT(Inventory!AD27,3)=\"EER\",Inventory!BO27<=5.42),Inventory!Q27=\"Air Cooled Chiller\"),12/Inventory!CM27,\"\")","v":""},{"$f":"IF(AND(M21=\"Early Retirement\",RIGHT(Inventory!AD27,4)=\"IEER\"),12/Inventory!CC27,\"\")","v":""},{"$f":"IF(RIGHT(Inventory!AD27,4)=\"IEER\",12/Inventory!CJ27,\"\")","v":""},{"$f":"IF(RIGHT(Inventory!AD27,4)=\"IEER\",12/Inventory!CM27,\"\")","v":""},{"$f":"IF(M21=\"Early Retirement\",Inventory!CC27,\"\")","v":""},{"$f":"Inventory!CJ27","v":{"$error":"#N/A"}},{"$f":"Inventory!CM27","v":""},{"$f":"IF(AND(M21=\"Early Retirement\",Inventory!BB27=1),12/3.412/Inventory!CD27,\"\")","v":""},{"$f":"IF(Inventory!BB27=1,12/3.412/Inventory!CK27,\"\")","v":""},{"$f":"IF(Inventory!BB27=1,12/3.412/Inventory!CN27,\"\")","v":""},{"$f":"IF(AND(M21=\"Early Retirement\",Inventory!BB27=1,LEFT(Inventory!AF27,4)=\"HSPF\"),12/Inventory!CD27,\"\")","v":""},{"$f":"IF(AND(Inventory!BB27=1,LEFT(Inventory!AF27,4)=\"HSPF\"),12/Inventory!CK27,\"\")","v":""},{"$f":"IF(AND(Inventory!BB27=1,LEFT(Inventory!AF27,4)=\"HSPF\"),12/Inventory!CN27,\"\")","v":""},{"$f":"IF(AND(M21=\"Early Retirement\",RIGHT(Inventory!G27,7)<>\"Chiller\"),Inventory!H27*IF(Inventory!I27=\"Btuh\",1,12000),\"\")","v":""},{"$f":"IF(M21=\"Early Retirement\",Inventory!H27/IF(Inventory!I27=\"Btuh\",12000,1),\"\")","v":""},{"$f":"IF(RIGHT(Inventory!Q27,7)=\"Chiller\",\"\",Inventory!BQ27)","v":0},{"$f":"Inventory!BO27","v":0},{"$f":"IF(AND(M21=\"Early Retirement\",Inventory!BB27=1),Inventory!BR27*12000,\"\")","v":""},{"$f":"IF(Inventory!BB27=1,Inventory!BR27*12000,\"\")","v":""},{"$f":"Inventory!DJ27","v":{"$error":"#N/A"}},{"$f":"IF(ISNUMBER(Inventory!AO27),Inventory!AO27,0)","v":0},{"$f":"IF(ISNUMBER(Inventory!AP27),Inventory!AP27,0)","v":0},{"$f":"0","v":0},{"$f":"IF(ISNUMBER(Inventory!AQ27),Inventory!AQ27,0)","v":0},{"$f":"Inventory!AR27","v":0}]
["5.","An email will be sent to your account once all MLIs are imported. Depending on how large the CSV file is, this may take anywhere between 1-3 hours.",null,null,null,null,null,null,0,0,{"$f":"INDEX('Equipment Lookups'!$L$54:$AQ$67,MATCH(Inventory!Q28,'Equipment Lookups'!$J$54:$J$67,0),MATCH('Utility Admin'!$F$2&DSMTEnviro,'Equipment Lookups'!$L$52:$AQ$52,0))","v":{"$error":"#N/A"}},{"$f":"INDEX('Equipment Lookups'!$L$54:$AQ$67,MATCH(Inventory!Q28,'Equipment Lookups'!$J$54:$J$67,0),MATCH('Utility Admin'!$F$2&DSMTEnviro,'Equipment Lookups'!$L$52:$AQ$52,0)+1)","v":{"$error":"#N/A"}},{"$f":"Inventory!B28","v":0},{"$f":"Inventory!C28","v":0},{"$f":"_xlfn.NUMBERVALUE(RIGHT('Project Info'!$D$9,1))","v":{"$error":"#VALUE!"}},{"$f":"Inventory!BX28","v":"-"},{"$f":"IF(ISNUMBER(Inventory!BY28),Inventory!BY28,0)","v":0},{"$f":"Inventory!BZ28","v":0},{"$f":"Inventory!BW28","v":"-"},{"$f":"0","v":0},{"$f":"IF(Inventory!D28=\"\",\"\",Inventory!D28)","v":""},{"$f":"IF(Inventory!E28=\"\",\"\",Inventory!E28)","v":""},{"$f":"IF(M22=\"Early Retirement\",Inventory!G28,\"\")","v":""},{"$f":"IF(Inventory!BL28>0,Inventory!BL28,\"\")","v":""},{"$f":"IF(M22=\"Early Retirement\",Inventory!DH28,\"\")","v":""},{"$f":"Inventory!M28","v":0},{"$f":"Inventory!N28","v":0},{"$f":"Inventory!P28","v":0},{"$f":"IF(AND(Inventory!BV28=\"DX\",Inventory!V28<>\"\"),Inventory!V28,\"\")","v":{"$error":"#N/A"}},{"$f":"IF(Inventory!BV28=\"PTRoom\",Inventory!V28,\"\")","v":{"$error":"#N/A"}},{"$error":"#N/A"},{"$error":"#N/A"},{"$error":"#N/A"},{"$f":"IF(RIGHT(Inventory!Q28,7)=\"Chiller\",Inventory!V28,\"\")","v":""},{"$f":"IF(RIGHT(Inventory!Q28,7)=\"Chiller\",Inventory!X28,\"\")","v":""},{"$f":"IF(M22=\"Early Retirement\",Inventory!K28,\"\")","v":""},{"$f":"Inventory!AG28","v":0},{"$f":"IF(AND(M22=\"Early Retirement\",LEFT(Inventory!AD28,3)=\"EER\"),12/Inventory!CL28,\"\")","v":""},{"$f":"IF(LEFT(Inventory!AD28,3)=\"EER\",12/Inventory!CI28,\"\")","v":""},{"$f":"IF(LEFT(Inventory!AD28,3)=\"EER\",12/Inventory!CL28,\"\")","v":""},{"$f":"IF(M22=\"Early Retirement\",Inventory!CB28,\"\")","v":""},{"$f":"Inventory!CI28","v":{"$error":"#N/A"}},{"$f":"Inventory!CL28","v":""},{"$f":"IF(AND(M22=\"Early Retirement\",OR(AND(LEFT(Inventory!AD28,3)=\"EER\",Inventory!BO28<=5.42),Inventory!Q28=\"Air Cooled Chiller\")),12/Inventory!CC28,\"\")","v":""},{"$f":"IF(OR(AND(LEFT(Inventory!AD28,3)=\"EER\",Inventory!BO28<=5.42),Inventory!Q28=\"Air Cooled Chiller\"),12/Inventory!CJ28,\"\")","v":""},{"$f":"IF(OR(AND(LEFT(Inventory!AD28,3)=\"EER\",Inventory!BO28<=5.42),Inventory!Q28=\"Air Cooled Chiller\"),12/Inventory!CM28,\"\")","v":""},{"$f":"IF(AND(M22=\"Early Retirement\",RIGHT(Inventory!AD28,4)=\"IEER\"),12/Inventory!CC28,\"\")","v":""},{"$f":"IF(RIGHT(Inventory!AD28,4)=\"IEER\",12/Inventory!CJ28,\"\")","v":""},{"$f":"IF(RIGHT(Inventory!AD28,4)=\"IEER\",12/Inventory!CM28,\"\")","v":""},{"$f":"IF(M22=\"Early Retirement\",Inventory!CC28,\"\")","v":""},{"$f":"Inventory!CJ28","v":{"$error":"#N/A"}},{"$f":"Inventory!CM28","v":""},{"$f":"IF(AND(M22=\"Early Retirement\",Inventory!BB28=1),12/3.412/Inventory!CD28,\"\")","v":""},{"$f":"IF(Inventory!BB28=1,12/3.412/Inventory!CK28,\"\")","v":""},{"$f":"IF(Inventory!BB28=1,12/3.412/Inventory!CN28,\"\")","v":""},{"$f":"IF(AND(M22=\"Early Retirement\",Inventory!BB28=1,LEFT(Inventory!AF28,4)=\"HSPF\"),12/Inventory!CD28,\"\")","v":""},{"$f":"IF(AND(Inventory!BB28=1,LEFT(Inventory!AF28,4)=\"HSPF\"),12/Inventory!CK28,\"\")","v":""},{"$f":"IF(AND(Inventory!BB28=1,LEFT(Inventory!AF28,4)=\"HSPF\"),12/Inventory!CN28,\"\")","v":""},{"$f":"IF(AND(M22=\"Early Retirement\",RIGHT(Inventory!G28,7)<>\"Chiller\"),Inventory!H28*IF(Inventory!I28=\"Btuh\",1,12000),\"\")","v":""},{"$f":"IF(M22=\"Early Retirement\",Inventory!H28/IF(Inventory!I28=\"Btuh\",12000,1),\"\")","v":""},{"$f":"IF(RIGHT(Inventory!Q28,7)=\"Chiller\",\"\",Inventory!BQ28)","v":0},{"$f":"Inventory!BO28","v":0},{"$f":"IF(AND(M22=\"Early Retirement\",Inventory!BB28=1),Inventory!BR28*12000,\"\")","v":""},{"$f":"IF(Inventory!BB28=1,Inventory!BR28*12000,\"\")","v":""},{"$f":"Inventory!DJ28","v":{"$error":"#N/A"}},{"$f":"IF(ISNUMBER(Inventory!AO28),Inventory!AO28,0)","v":0},{"$f":"IF(ISNUMBER(Inventory!AP28),Inventory!AP28,0)","v":0},{"$f":"0","v":0},{"$f":"IF(ISNUMBER(Inventory!AQ28),Inventory!AQ28,0)","v":0},{"$f":"Inventory!AR28","v":0}]
[null,null,null,null,null,null,null,null,0,0,{"$f":"INDEX('Equipment Lookups'!$L$54:$AQ$67,MATCH(Inventory!Q29,'Equipment Lookups'!$J$54:$J$67,0),MATCH('Utility Admin'!$F$2&DSMTEnviro,'Equipment Lookups'!$L$52:$AQ$52,0))","v":{"$error":"#N/A"}},{"$f":"INDEX('Equipment Lookups'!$L$54:$AQ$67,MATCH(Inventory!Q29,'Equipment Lookups'!$J$54:$J$67,0),MATCH('Utility Admin'!$F$2&DSMTEnviro,'Equipment Lookups'!$L$52:$AQ$52,0)+1)","v":{"$error":"#N/A"}},{"$f":"Inventory!B29","v":0},{"$f":"Inventory!C29","v":0},{"$f":"_xlfn.NUMBERVALUE(RIGHT('Project Info'!$D$9,1))","v":{"$error":"#VALUE!"}},{"$f":"Inventory!BX29","v":"-"},{"$f":"IF(ISNUMBER(Inventory!BY29),Inventory!BY29,0)","v":0},{"$f":"Inventory!BZ29","v":0},{"$f":"Inventory!BW29","v":"-"},{"$f":"0","v":0},{"$f":"IF(Inventory!D29=\"\",\"\",Inventory!D29)","v":""},{"$f":"IF(Inventory!E29=\"\",\"\",Inventory!E29)","v":""},{"$f":"IF(M23=\"Early Retirement\",Inventory!G29,\"\")","v":""},{"$f":"IF(Inventory!BL29>0,Inventory!BL29,\"\")","v":""},{"$f":"IF(M23=\"Early Retirement\",Inventory!DH29,\"\")","v":""},{"$f":"Inventory!M29","v":0},{"$f":"Inventory!N29","v":0},{"$f":"Inventory!P29","v":0},{"$f":"IF(AND(Inventory!BV29=\"DX\",Inventory!V29<>\"\"),Inventory!V29,\"\")","v":{"$error":"#N/A"}},{"$f":"IF(Inventory!BV29=\"PTRoom\",Inventory!V29,\"\")","v":{"$error":"#N/A"}},{"$error":"#N/A"},{"$error":"#N/A"},{"$error":"#N/A"},{"$f":"IF(RIGHT(Inventory!Q29,7)=\"Chiller\",Inventory!V29,\"\")","v":""},{"$f":"IF(RIGHT(Inventory!Q29,7)=\"Chiller\",Inventory!X29,\"\")","v":""},{"$f":"IF(M23=\"Early Retirement\",Inventory!K29,\"\")","v":""},{"$f":"Inventory!AG29","v":0},{"$f":"IF(AND(M23=\"Early Retirement\",LEFT(Inventory!AD29,3)=\"EER\"),12/Inventory!CL29,\"\")","v":""},{"$f":"IF(LEFT(Inventory!AD29,3)=\"EER\",12/Inventory!CI29,\"\")","v":""},{"$f":"IF(LEFT(Inventory!AD29,3)=\"EER\",12/Inventory!CL29,\"\")","v":""},{"$f":"IF(M23=\"Early Retirement\",Inventory!CB29,\"\")","v":""},{"$f":"Inventory!CI29","v":{"$error":"#N/A"}},{"$f":"Inventory!CL29","v":""},{"$f":"IF(AND(M23=\"Early Retirement\",OR(AND(LEFT(Inventory!AD29,3)=\"EER\",Inventory!BO29<=5.42),Inventory!Q29=\"Air Cooled Chiller\")),12/Inventory!CC29,\"\")","v":""},{"$f":"IF(OR(AND(LEFT(Inventory!AD29,3)=\"EER\",Inventory!BO29<=5.42),Inventory!Q29=\"Air Cooled Chiller\"),12/Inventory!CJ29,\"\")","v":""},{"$f":"IF(OR(AND(LEFT(Inventory!AD29,3)=\"EER\",Inventory!BO29<=5.42),Inventory!Q29=\"Air Cooled Chiller\"),12/Inventory!CM29,\"\")","v":""},{"$f":"IF(AND(M23=\"Early Retirement\",RIGHT(Inventory!AD29,4)=\"IEER\"),12/Inventory!CC29,\"\")","v":""},{"$f":"IF(RIGHT(Inventory!AD29,4)=\"IEER\",12/Inventory!CJ29,\"\")","v":""},{"$f":"IF(RIGHT(Inventory!AD29,4)=\"IEER\",12/Inventory!CM29,\"\")","v":""},{"$f":"IF(M23=\"Early Retirement\",Inventory!CC29,\"\")","v":""},{"$f":"Inventory!CJ29","v":{"$error":"#N/A"}},{"$f":"Inventory!CM29","v":""},{"$f":"IF(AND(M23=\"Early Retirement\",Inventory!BB29=1),12/3.412/Inventory!CD29,\"\")","v":""},{"$f":"IF(Inventory!BB29=1,12/3.412/Inventory!CK29,\"\")","v":""},{"$f":"IF(Inventory!BB29=1,12/3.412/Inventory!CN29,\"\")","v":""},{"$f":"IF(AND(M23=\"Early Retirement\",Inventory!BB29=1,LEFT(Inventory!AF29,4)=\"HSPF\"),12/Inventory!CD29,\"\")","v":""},{"$f":"IF(AND(Inventory!BB29=1,LEFT(Inventory!AF29,4)=\"HSPF\"),12/Inventory!CK29,\"\")","v":""},{"$f":"IF(AND(Inventory!BB29=1,LEFT(Inventory!AF29,4)=\"HSPF\"),12/Inventory!CN29,\"\")","v":""},{"$f":"IF(AND(M23=\"Early Retirement\",RIGHT(Inventory!G29,7)<>\"Chiller\"),Inventory!H29*IF(Inventory!I29=\"Btuh\",1,12000),\"\")","v":""},{"$f":"IF(M23=\"Early Retirement\",Inventory!H29/IF(Inventory!I29=\"Btuh\",12000,1),\"\")","v":""},{"$f":"IF(RIGHT(Inventory!Q29,7)=\"Chiller\",\"\",Inventory!BQ29)","v":0},{"$f":"Inventory!BO29","v":0},{"$f":"IF(AND(M23=\"Early Retirement\",Inventory!BB29=1),Inventory!BR29*12000,\"\")","v":""},{"$f":"IF(Inventory!BB29=1,Inventory!BR29*12000,\"\")","v":""},{"$f":"Inventory!DJ29","v":{"$error":"#N/A"}},{"$f":"IF(ISNUMBER(Inventory!AO29),Inventory!AO29,0)","v":0},{"$f":"IF(ISNUMBER(Inventory!AP29),Inventory!AP29,0)","v":0},{"$f":"0","v":0},{"$f":"IF(ISNUMBER(Inventory!AQ29),Inventory!AQ29,0)","v":0},{"$f":"Inventory!AR29","v":0}]
["Note: You can import multiple CSV files at once. One email will be sent out for each file.",null,null,null,null,null,null,null,0,0,{"$f":"INDEX('Equipment Lookups'!$L$54:$AQ$67,MATCH(Inventory!Q30,'Equipment Lookups'!$J$54:$J$67,0),MATCH('Utility Admin'!$F$2&DSMTEnviro,'Equipment Lookups'!$L$52:$AQ$52,0))","v":{"$error":"#N/A"}},{"$f":"INDEX('Equipment Lookups'!$L$54:$AQ$67,MATCH(Inventory!Q30,'Equipment Lookups'!$J$54:$J$67,0),MATCH('Utility Admin'!$F$2&DSMTEnviro,'Equipment Lookups'!$L$52:$AQ$52,0)+1)","v":{"$error":"#N/A"}},{"$f":"Inventory!B30","v":0},{"$f":"Inventory!C30","v":0},{"$f":"_xlfn.NUMBERVALUE(RIGHT('Project Info'!$D$9,1))","v":{"$error":"#VALUE!"}},{"$f":"Inventory!BX30","v":"-"},{"$f":"IF(ISNUMBER(Inventory!BY30),Inventory!BY30,0)","v":0},{"$f":"Inventory!BZ30","v":0},{"$f":"Inventory!BW30","v":"-"},{"$f":"0","v":0},{"$f":"IF(Inventory!D30=\"\",\"\",Inventory!D30)","v":""},{"$f":"IF(Inventory!E30=\"\",\"\",Inventory!E30)","v":""},{"$f":"IF(M24=\"Early Retirement\",Inventory!G30,\"\")","v":""},{"$f":"IF(Inventory!BL30>0,Inventory!BL30,\"\")","v":""},{"$f":"IF(M24=\"Early Retirement\",Inventory!DH30,\"\")","v":""},{"$f":"Inventory!M30","v":0},{"$f":"Inventory!N30","v":0},{"$f":"Inventory!P30","v":0},{"$f":"IF(AND(Inventory!BV30=\"DX\",Inventory!V30<>\"\"),Inventory!V30,\"\")","v":{"$error":"#N/A"}},{"$f":"IF(Inventory!BV30=\"PTRoom\",Inventory!V30,\"\")","v":{"$error":"#N/A"}},{"$error":"#N/A"},{"$error":"#N/A"},{"$error":"#N/A"},{"$f":"IF(RIGHT(Inventory!Q30,7)=\"Chiller\",Inventory!V30,\"\")","v":""},{"$f":"IF(RIGHT(Inventory!Q30,7)=\"Chiller\",Inventory!X30,\"\")","v":""},{"$f":"IF(M24=\"Early Retirement\",Inventory!K30,\"\")","v":""},{"$f":"Inventory!AG30","v":0},{"$f":"IF(AND(M24=\"Early Retirement\",LEFT(Inventory!AD30,3)=\"EER\"),12/Inventory!CL30,\"\")","v":""},{"$f":"IF(LEFT(Inventory!AD30,3)=\"EER\",12/Inventory!CI30,\"\")","v":""},{"$f":"IF(LEFT(Inventory!AD30,3)=\"EER\",12/Inventory!CL30,\"\")","v":""},{"$f":"IF(M24=\"Early Retirement\",Inventory!CB30,\"\")","v":""},{"$f":"Inventory!CI30","v":{"$error":"#N/A"}},{"$f":"Inventory!CL30","v":""},{"$f":"IF(AND(M24=\"Early Retirement\",OR(AND(LEFT(Inventory!AD30,3)=\"EER\",Inventory!BO30<=5.42),Inventory!Q30=\"Air Cooled Chiller\")),12/Inventory!CC30,\"\")","v":""},{"$f":"IF(OR(AND(LEFT(Inventory!AD30,3)=\"EER\",Inventory!BO30<=5.42),Inventory!Q30=\"Air Cooled Chiller\"),12/Inventory!CJ30,\"\")","v":""},{"$f":"IF(OR(AND(LEFT(Inventory!AD30,3)=\"EER\",Inventory!BO30<=5.42),Inventory!Q30=\"Air Cooled Chiller\"),12/Inventory!CM30,\"\")","v":""},{"$f":"IF(AND(M24=\"Early Retirement\",RIGHT(Inventory!AD30,4)=\"IEER\"),12/Inventory!CC30,\"\")","v":""},{"$f":"IF(RIGHT(Inventory!AD30,4)=\"IEER\",12/Inventory!CJ30,\"\")","v":""},{"$f":"IF(RIGHT(Inventory!AD30,4)=\"IEER\",12/Inventory!CM30,\"\")","v":""},{"$f":"IF(M24=\"Early Retirement\",Inventory!CC30,\"\")","v":""},{"$f":"Inventory!CJ30","v":{"$error":"#N/A"}},{"$f":"Inventory!CM30","v":""},{"$f":"IF(AND(M24=\"Early Retirement\",Inventory!BB30=1),12/3.412/Inventory!CD30,\"\")","v":""},{"$f":"IF(Inventory!BB30=1,12/3.412/Inventory!CK30,\"\")","v":""},{"$f":"IF(Inventory!BB30=1,12/3.412/Inventory!CN30,\"\")","v":""},{"$f":"IF(AND(M24=\"Early Retirement\",Inventory!BB30=1,LEFT(Inventory!AF30,4)=\"HSPF\"),12/Inventory!CD30,\"\")","v":""},{"$f":"IF(AND(Inventory!BB30=1,LEFT(Inventory!AF30,4)=\"HSPF\"),12/Inventory!CK30,\"\")","v":""},{"$f":"IF(AND(Inventory!BB30=1,LEFT(Inventory!AF30,4)=\"HSPF\"),12/Inventory!CN30,\"\")","v":""},{"$f":"IF(AND(M24=\"Early Retirement\",RIGHT(Inventory!G30,7)<>\"Chiller\"),Inventory!H30*IF(Inventory!I30=\"Btuh\",1,12000),\"\")","v":""},{"$f":"IF(M24=\"Early Retirement\",Inventory!H30/IF(Inventory!I30=\"Btuh\",12000,1),\"\")","v":""},{"$f":"IF(RIGHT(Inventory!Q30,7)=\"Chiller\",\"\",Inventory!BQ30)","v":0},{"$f":"Inventory!BO30","v":0},{"$f":"IF(AND(M24=\"Early Retirement\",Inventory!BB30=1),Inventory!BR30*12000,\"\")","v":""},{"$f":"IF(Inventory!BB30=1,Inventory!BR30*12000,\"\")","v":""},{"$f":"Inventory!DJ30","v":{"$error":"#N/A"}},{"$f":"IF(ISNUMBER(Inventory!AO30),Inventory!AO30,0)","v":0},{"$f":"IF(ISNUMBER(Inventory!AP30),Inventory!AP30,0)","v":0},{"$f":"0","v":0},{"$f":"IF(ISNUMBER(Inventory!AQ30),Inventory!AQ30,0)","v":0},{"$f":"Inventory!AR30","v":0}]
[null,null,null,null,null,null,null,null,0,0,{"$f":"INDEX('Equipment Lookups'!$L$54:$AQ$67,MATCH(Inventory!Q31,'Equipment Lookups'!$J$54:$J$67,0),MATCH('Utility Admin'!$F$2&DSMTEnviro,'Equipment Lookups'!$L$52:$AQ$52,0))","v":{"$error":"#N/A"}},{"$f":"INDEX('Equipment Lookups'!$L$54:$AQ$67,MATCH(Inventory!Q31,'Equipment Lookups'!$J$54:$J$67,0),MATCH('Utility Admin'!$F$2&DSMTEnviro,'Equipment Lookups'!$L$52:$AQ$52,0)+1)","v":{"$error":"#N/A"}},{"$f":"Inventory!B31","v":0},{"$f":"Inventory!C31","v":0},{"$f":"_xlfn.NUMBERVALUE(RIGHT('Project Info'!$D$9,1))","v":{"$error":"#VALUE!"}},{"$f":"Inventory!BX31","v":"-"},{"$f":"IF(ISNUMBER(Inventory!BY31),Inventory!BY31,0)","v":0},{"$f":"Inventory!BZ31","v":0},{"$f":"Inventory!BW31","v":"-"},{"$f":"0","v":0},{"$f":"IF(Inventory!D31=\"\",\"\",Inventory!D31)","v":""},{"$f":"IF(Inventory!E31=\"\",\"\",Inventory!E31)","v":""},{"$f":"IF(M25=\"Early Retirement\",Inventory!G31,\"\")","v":""},{"$f":"IF(Inventory!BL31>0,Inventory!BL31,\"\")","v":""},{"$f":"IF(M25=\"Early Retirement\",Inventory!DH31,\"\")","v":""},{"$f":"Inventory!M31","v":0},{"$f":"Inventory!N31","v":0},{"$f":"Inventory!P31","v":0},{"$f":"IF(AND(Inventory!BV31=\"DX\",Inventory!V31<>\"\"),Inventory!V31,\"\")","v":{"$error":"#N/A"}},{"$f":"IF(Inventory!BV31=\"PTRoom\",Inventory!V31,\"\")","v":{"$error":"#N/A"}},{"$error":"#N/A"},{"$error":"#N/A"},{"$error":"#N/A"},{"$f":"IF(RIGHT(Inventory!Q31,7)=\"Chiller\",Inventory!V31,\"\")","v":""},{"$f":"IF(RIGHT(Inventory!Q31,7)=\"Chiller\",Inventory!X31,\"\")","v":""},{"$f":"IF(M25=\"Early Retirement\",Inventory!K31,\"\")","v":""},{"$f":"Inventory!AG31","v":0},{"$f":"IF(AND(M25=\"Early Retirement\",LEFT(Inventory!AD31,3)=\"EER\"),12/Inventory!CL31,\"\")","v":""},{"$f":"IF(LEFT(Inventory!AD31,3)=\"EER\",12/Inventory!CI31,\"\")","v":""},{"$f":"IF(LEFT(Inventory!AD31,3)=\"EER\",12/Inventory!CL31,\"\")","v":""},{"$f":"IF(M25=\"Early Retirement\",Inventory!CB31,\"\")","v":""},{"$f":"Inventory!CI31","v":{"$error":"#N/A"}},{"$f":"Inventory!CL31","v":""},{"$f":"IF(AND(M25=\"Early Retirement\",OR(AND(LEFT(Inventory!AD31,3)=\"EER\",Inventory!BO31<=5.42),Inventory!Q31=\"Air Cooled Chiller\")),12/Inventory!CC31,\"\")","v":""},{"$f":"IF(OR(AND(LEFT(Inventory!AD31,3)=\"EER\",Inventory!BO31<=5.42),Inventory!Q31=\"Air Cooled Chiller\"),12/Inventory!CJ31,\"\")","v":""},{"$f":"IF(OR(AND(LEFT(Inventory!AD31,3)=\"EER\",Inventory!BO31<=5.42),Inventory!Q31=\"Air Cooled Chiller\"),12/Inventory!CM31,\"\")","v":""},{"$f":"IF(AND(M25=\"Early Retirement\",RIGHT(Inventory!AD31,4)=\"IEER\"),12/Inventory!CC31,\"\")","v":""},{"$f":"IF(RIGHT(Inventory!AD31,4)=\"IEER\",12/Inventory!CJ31,\"\")","v":""},{"$f":"IF(RIGHT(Inventory!AD31,4)=\"IEER\",12/Inventory!CM31,\"\")","v":""},{"$f":"IF(M25=\"Early Retirement\",Inventory!CC31,\"\")","v":""},{"$f":"Inventory!CJ31","v":{"$error":"#N/A"}},{"$f":"Inventory!CM31","v":""},{"$f":"IF(AND(M25=\"Early Retirement\",Inventory!BB31=1),12/3.412/Inventory!CD31,\"\")","v":""},{"$f":"IF(Inventory!BB31=1,12/3.412/Inventory!CK31,\"\")","v":""},{"$f":"IF(Inventory!BB31=1,12/3.412/Inventory!CN31,\"\")","v":""},{"$f":"IF(AND(M25=\"Early Retirement\",Inventory!BB31=1,LEFT(Inventory!AF31,4)=\"HSPF\"),12/Inventory!CD31,\"\")","v":""},{"$f":"IF(AND(Inventory!BB31=1,LEFT(Inventory!AF31,4)=\"HSPF\"),12/Inventory!CK31,\"\")","v":""},{"$f":"IF(AND(Inventory!BB31=1,LEFT(Inventory!AF31,4)=\"HSPF\"),12/Inventory!CN31,\"\")","v":""},{"$f":"IF(AND(M25=\"Early Retirement\",RIGHT(Inventory!G31,7)<>\"Chiller\"),Inventory!H31*IF(Inventory!I31=\"Btuh\",1,12000),\"\")","v":""},{"$f":"IF(M25=\"Early Retirement\",Inventory!H31/IF(Inventory!I31=\"Btuh\",12000,1),\"\")","v":""},{"$f":"IF(RIGHT(Inventory!Q31,7)=\"Chiller\",\"\",Inventory!BQ31)","v":0},{"$f":"Inventory!BO31","v":0},{"$f":"IF(AND(M25=\"Early Retirement\",Inventory!BB31=1),Inventory!BR31*12000,\"\")","v":""},{"$f":"IF(Inventory!BB31=1,Inventory!BR31*12000,\"\")","v":""},{"$f":"Inventory!DJ31","v":{"$error":"#N/A"}},{"$f":"IF(ISNUMBER(Inventory!AO31),Inventory!AO31,0)","v":0},{"$f":"IF(ISNUMBER(Inventory!AP31),Inventory!AP31,0)","v":0},{"$f":"0","v":0},{"$f":"IF(ISNUMBER(Inventory!AQ31),Inventory!AQ31,0)","v":0},{"$f":"Inventory!AR31","v":0}]
["Advanced Controls",null,null,null,null,null,null,null,0,0,{"$f":"INDEX('Equipment Lookups'!$L$54:$AQ$67,MATCH(Inventory!Q32,'Equipment Lookups'!$J$54:$J$67,0),MATCH('Utility Admin'!$F$2&DSMTEnviro,'Equipment Lookups'!$L$52:$AQ$52,0))","v":{"$error":"#N/A"}},{"$f":"INDEX('Equipment Lookups'!$L$54:$AQ$67,MATCH(Inventory!Q32,'Equipment Lookups'!$J$54:$J$67,0),MATCH('Utility Admin'!$F$2&DSMTEnviro,'Equipment Lookups'!$L$52:$AQ$52,0)+1)","v":{"$error":"#N/A"}},{"$f":"Inventory!B32","v":0},{"$f":"Inventory!C32","v":0},{"$f":"_xlfn.NUMBERVALUE(RIGHT('Project Info'!$D$9,1))","v":{"$error":"#VALUE!"}},{"$f":"Inventory!BX32","v":"-"},{"$f":"IF(ISNUMBER(Inventory!BY32),Inventory!BY32,0)","v":0},{"$f":"Inventory!BZ32","v":0},{"$f":"Inventory!BW32","v":"-"},{"$f":"0","v":0},{"$f":"IF(Inventory!D32=\"\",\"\",Inventory!D32)","v":""},{"$f":"IF(Inventory!E32=\"\",\"\",Inventory!E32)","v":""},{"$f":"IF(M26=\"Early Retirement\",Inventory!G32,\"\")","v":""},{"$f":"IF(Inventory!BL32>0,Inventory!BL32,\"\")","v":""},{"$f":"IF(M26=\"Early Retirement\",Inventory!DH32,\"\")","v":""},{"$f":"Inventory!M32","v":0},{"$f":"Inventory!N32","v":0},{"$f":"Inventory!P32","v":0},{"$f":"IF(AND(Inventory!BV32=\"DX\",Inventory!V32<>\"\"),Inventory!V32,\"\")","v":{"$error":"#N/A"}},{"$f":"IF(Inventory!BV32=\"PTRoom\",Inventory!V32,\"\")","v":{"$error":"#N/A"}},{"$error":"#N/A"},{"$error":"#N/A"},{"$error":"#N/A"},{"$f":"IF(RIGHT(Inventory!Q32,7)=\"Chiller\",Inventory!V32,\"\")","v":""},{"$f":"IF(RIGHT(Inventory!Q32,7)=\"Chiller\",Inventory!X32,\"\")","v":""},{"$f":"IF(M26=\"Early Retirement\",Inventory!K32,\"\")","v":""},{"$f":"Inventory!AG32","v":0},{"$f":"IF(AND(M26=\"Early Retirement\",LEFT(Inventory!AD32,3)=\"EER\"),12/Inventory!CL32,\"\")","v":""},{"$f":"IF(LEFT(Inventory!AD32,3)=\"EER\",12/Inventory!CI32,\"\")","v":""},{"$f":"IF(LEFT(Inventory!AD32,3)=\"EER\",12/Inventory!CL32,\"\")","v":""},{"$f":"IF(M26=\"Early Retirement\",Inventory!CB32,\"\")","v":""},{"$f":"Inventory!CI32","v":{"$error":"#N/A"}},{"$f":"Inventory!CL32","v":""},{"$f":"IF(AND(M26=\"Early Retirement\",OR(AND(LEFT(Inventory!AD32,3)=\"EER\",Inventory!BO32<=5.42),Inventory!Q32=\"Air Cooled Chiller\")),12/Inventory!CC32,\"\")","v":""},{"$f":"IF(OR(AND(LEFT(Inventory!AD32,3)=\"EER\",Inventory!BO32<=5.42),Inventory!Q32=\"Air Cooled Chiller\"),12/Inventory!CJ32,\"\")","v":""},{"$f":"IF(OR(AND(LEFT(Inventory!AD32,3)=\"EER\",Inventory!BO32<=5.42),Inventory!Q32=\"Air Cooled Chiller\"),12/Inventory!CM32,\"\")","v":""},{"$f":"IF(AND(M26=\"Early Retirement\",RIGHT(Inventory!AD32,4)=\"IEER\"),12/Inventory!CC32,\"\")","v":""},{"$f":"IF(RIGHT(Inventory!AD32,4)=\"IEER\",12/Inventory!CJ32,\"\")","v":""},{"$f":"IF(RIGHT(Inventory!AD32,4)=\"IEER\",12/Inventory!CM32,\"\")","v":""},{"$f":"IF(M26=\"Early Retirement\",Inventory!CC32,\"\")","v":""},{"$f":"Inventory!CJ32","v":{"$error":"#N/A"}},{"$f":"Inventory!CM32","v":""},{"$f":"IF(AND(M26=\"Early Retirement\",Inventory!BB32=1),12/3.412/Inventory!CD32,\"\")","v":""},{"$f":"IF(Inventory!BB32=1,12/3.412/Inventory!CK32,\"\")","v":""},{"$f":"IF(Inventory!BB32=1,12/3.412/Inventory!CN32,\"\")","v":""},{"$f":"IF(AND(M26=\"Early Retirement\",Inventory!BB32=1,LEFT(Inventory!AF32,4)=\"HSPF\"),12/Inventory!CD32,\"\")","v":""},{"$f":"IF(AND(Inventory!BB32=1,LEFT(Inventory!AF32,4)=\"HSPF\"),12/Inventory!CK32,\"\")","v":""},{"$f":"IF(AND(Inventory!BB32=1,LEFT(Inventory!AF32,4)=\"HSPF\"),12/Inventory!CN32,\"\")","v":""},{"$f":"IF(AND(M26=\"Early Retirement\",RIGHT(Inventory!G32,7)<>\"Chiller\"),Inventory!H32*IF(Inventory!I32=\"Btuh\",1,12000),\"\")","v":""},{"$f":"IF(M26=\"Early Retirement\",Inventory!H32/IF(Inventory!I32=\"Btuh\",12000,1),\"\")","v":""},{"$f":"IF(RIGHT(Inventory!Q32,7)=\"Chiller\",\"\",Inventory!BQ32)","v":0},{"$f":"Inventory!BO32","v":0},{"$f":"IF(AND(M26=\"Early Retirement\",Inventory!BB32=1),Inventory!BR32*12000,\"\")","v":""},{"$f":"IF(Inventory!BB32=1,Inventory!BR32*12000,\"\")","v":""},{"$f":"Inventory!DJ32","v":{"$error":"#N/A"}},{"$f":"IF(ISNUMBER(Inventory!AO32),Inventory!AO32,0)","v":0},{"$f":"IF(ISNUMBER(Inventory!AP32),Inventory!AP32,0)","v":0},{"$f":"0","v":0},{"$f":"IF(ISNUMBER(Inventory!AQ32),Inventory!AQ32,0)","v":0},{"$f":"Inventory!AR32","v":0}]
[null,"DSMT Environment:","PROD"]

{"sheet":"Measure_Line_Item__c","index":8,"n_rows":2,"n_cols":62,"rows_kept":2,"cut":false,"hidden":true,"merged":[]}
["Enrollment_Application__c","Application_Premise__c","Eligible_Measure__c","RecordTypeId","Project_Type__c","Building_Type__c","Climate_Zone__c","EFLH_Cooling__c","EFLH_Heating__c","Non_Coincident_Peak_Demand_Factor__c","Coincident_Factor_PJM_SC__c","Coincident_Factor_PJM_WC__c","Existing_Manufacturer__c","Existing_Model__c","Existing_System_Type__c","Manufactured_Year__c","Existing_Equipment_Age_years__c","Manufacturer__c","Model__c","AHRI_Number__c","System_Type__c","Equipment_Type__c","Reverse_Cycle__c","Louvered_Sides__c","Casement_Window__c","Compressor_Control_Type__c","Chiller_Operating_Condition__c","Existing_Quantity__c","Quantity__c","Baseline_EER__c","Efficient_Energy_Efficiency_Ratio__c","Existing_Energy_Efficiency_Ratio__c","Baseline_Design_Efficiency_kW_ton__c","Efficient_Design_Efficiency_kW_ton__c","Existing_Design_Efficiency_kW_ton__c","Baseline_SEER__c","Efficient_Seasonal_Energy_Ratio__c","Existing_Seasonal_Energy_Ratio__c","Baseline_IEER__c","Efficient_IEER__c","Existing_IEER__c","Baseline_IPLV__c","Efficient_IPLV__c","Existing_IPLV__c","Baseline_COP__c","Efficient_COP__c","Existing_COP__c","Baseline_HSPF__c","Efficient_Heat_Seasonal_Prfrmnce_Factor__c","Existing_Heat_Seasonal_Prfrmnce_Factor__c","Existing_Cooling_Capacity_BTUH__c","Existing_Cooling_Capacity_tons__c","Cooling_BTUH__c","Cooling_Capacity_tons__c","Existing_Heating_Capacity_Btu_hr__c","Heating_BTUH__c","Measure_Life_years__c","Non_Coincident_Peak_Demand_Savings_kW__c","Summer_Coincident_Peak_Demand_Savings_kW__c","WC_Peak_Demand_Savings_kW__c","Annual_Electric_Energy_Savings_kwh__c","Total_Incentive_New__c"]
["a2379000000AMD6","a0879000001Sjfq","a1r79000000A6XIAA0","012790000004Q0JAAU","Early Retirement","Education (College/University)",3,2101,251,1.1200000000000001,1.08,0,"","","Unitary Heat Pump",2007,15,"test make","test model",123456,"","","","","","","",2,2,11,12.5,12.5,1.0909090909090908,0.96,1.2121212121212122,"","","",12,15,10.1,1,0.8,1.1881188118811881,3.3,3.5,3.2,"","","",120000,10,120000,10,130000,130000,15,3.5840000000000001,3.456,0,10566,1782.7000000000003]

{"sheet":"Unitary","index":9,"n_rows":37,"n_cols":166,"rows_kept":37,"cut":false,"hidden":true,"merged":[]}
[null,null,null,"UnitaryAirConditioner",null,null,null,"UnitaryAirConditioner",null,null,null,"UnitaryAirConditioner",null,null,null,"UnitaryAirConditioner",null,null,null,"UnitaryAirConditioner",null,null,null,"UnitaryAirConditioner",null,null,null,"UnitaryAirConditioner",null,null,null,"UnitaryAirConditioner",null,null,null,"UnitaryAirConditioner",null,null,null,"UnitaryAirConditioner",null,null,null,"UnitaryAirConditioner",null,null,null,"UnitaryAirConditioner",null,null,null,"UnitaryAirConditioner",null,null,null,"UnitaryAirConditioner",null,null,null,"UnitaryAirConditioner",null,null,null,"UnitaryAirConditioner",null,null,null,null,null,"UnitaryHeatPump",null,null,null,null,null,{"$f":"$BR$1","v":"UnitaryHeatPump"},null,null,null,null,null,"UnitaryHeatPump",null,null,null,null,null,{"$f":"$BR$1","v":"UnitaryHeatPump"},null,null,null,null,null,{"$f":"$BR$1","v":"UnitaryHeatPump"},null,null,null,null,null,{"$f":"$BR$1","v":"UnitaryHeatPump"},null,null,null,null,null,{"$f":"$BR$1","v":"UnitaryHeatPump"},null,null,null,null,null,{"$f":"$BR$1","v":"UnitaryHeatPump"},null,null,null,null,null,{"$f":"$BR$1","v":"UnitaryHeatPump"},null,null,null,null,null,{"$f":"$BR$1","v":"UnitaryHeatPump"},null,null,null,null,null,{"$f":"$BR$1","v":"UnitaryHeatPump"},null,null,null,null,null,{"$f":"$BR$1","v":"UnitaryHeatPump"},null,null,null,null,null,{"$f":"$BR$1","v":"UnitaryHeatPump"},null,null,null,null,null,{"$f":"$BR$1","v":"UnitaryHeatPump"},null,null,null,null,null,{"$f":"$BR$1","v":"UnitaryHeatPump"},null,null,null,null,null,{"$f":"$BR$1","v":"UnitaryHeatPump"}]
[null,null,null,"Split",null,null,null,"Packaged",null,null,null,"Split",null,null,null,"Packaged",null,null,null,null,null,null,null,"ElecResorNone",null,null,null,"Other",null,null,null,null,null,null,null,"ElecResorNone",null,null,null,"Other",null,null,null,null,null,null,null,"ElecResorNone",null,null,null,"Other",null,null,null,null,null,null,null,"ElecResorNone",null,null,null,"Other",null,null,null,null,null,"Split",null,null,null,null,null,"Packaged",null,null,null,null,null,"Split",null,null,null,null,null,"Packaged",null,null,null,null,null,null,null,null,null,null,null,"ElecResorNone",null,null,null,null,null,"Other",null,null,null,null,null,null,null,null,null,null,null,"ElecResorNone",null,null,null,null,null,"Other",null,null,null,null,null,null,null,null,null,null,null,"ElecResorNone",null,null,null,null,null,"Other",null,null,null,null,null,null,null,null,null,null,null,"ElecResorNone",null,null,null,null,null,"Other"]
[null,null,null,"Lessthan45kbtuh",null,null,null,"Lessthan45kbtuh",null,null,null,"45to65kbtuh",null,null,null,"45to65kbtuh",null,null,null,"65to135kbtuh",null,null,null,"65to135kbtuh",null,null,null,"65to135kbtuh",null,null,null,"135to240kbtuh",null,null,null,"135to240kbtuh",null,null,null,"135to240kbtuh",null,null,null,"240to760kbtuh",null,null,null,"240to760kbtuh",null,null,null,"240to760kbtuh",null,null,null,"Greaterthan760kbtuh",null,null,null,"Greaterthan760kbtuh",null,null,null,"Greaterthan760kbtuh",null,null,null,null,null,"Lessthan45kbtuh",null,null,null,null,null,"Lessthan45kbtuh",null,null,null,null,null,"45to65kbtuh",null,null,null,null,null,"45to65kbtuh",null,null,null,null,null,"65to135kbtuh",null,null,null,null,null,"65to135kbtuh",null,null,null,null,null,"65to135kbtuh",null,null,null,null,null,"135to240kbtuh",null,null,null,null,null,"135to240kbtuh",null,null,null,null,null,"135to240kbtuh",null,null,null,null,null,"240to760kbtuh",null,null,null,null,null,"240to760kbtuh",null,null,null,null,null,"240to760kbtuh",null,null,null,null,null,"Greaterthan760kbtuh",null,null,null,null,null,"Greaterthan760kbtuh",null,null,null,null,null,"Greaterthan760kbtuh"]
[null,null,null,{"$f":"D1&D2&D3","v":"UnitaryAirConditionerSplitLessthan45kbtuh"},null,null,null,{"$f":"H1&H2&H3","v":"UnitaryAirConditionerPackagedLessthan45kbtuh"},null,null,null,{"$f":"L1&L2&L3","v":"UnitaryAirConditionerSplit45to65kbtuh"},null,null,null,{"$f":"P1&P2&P3","v":"UnitaryAirConditionerPackaged45to65kbtuh"},null,null,null,{"$f":"T1&T2&T3","v":"UnitaryAirConditioner65to135kbtuh"},null,null,null,{"$f":"X1&X2&X3","v":"UnitaryAirConditionerElecResorNone65to135kbtuh"},null,null,null,{"$f":"AB1&AB2&AB3","v":"UnitaryAirConditionerOther65to135kbtuh"},null,null,null,{"$f":"AF1&AF2&AF3","v":"UnitaryAirConditioner135to240kbtuh"},null,null,null,{"$f":"AJ1&AJ2&AJ3","v":"UnitaryAirConditionerElecResorNone135to240kbtuh"},null,null,null,{"$f":"AN1&AN2&AN3","v":"UnitaryAirConditionerOther135to240kbtuh"},null,null,null,{"$f":"AR1&AR2&AR3","v":"UnitaryAirConditioner240to760kbtuh"},null,null,null,{"$f":"AV1&AV2&AV3","v":"UnitaryAirConditionerElecResorNone240to760kbtuh"},null,null,null,{"$f":"AZ1&AZ2&AZ3","v":"UnitaryAirConditionerOther240to760kbtuh"},null,null,null,{"$f":"BD1&BD2&BD3","v":"UnitaryAirConditionerGreaterthan760kbtuh"},null,null,null,{"$f":"BH1&BH2&BH3","v":"UnitaryAirConditionerElecResorNoneGreaterthan760kbtuh"},null,null,null,{"$f":"BL1&BL2&BL3","v":"UnitaryAirConditionerOtherGreaterthan760kbtuh"},null,null,null,null,null,{"$f":"BR1&BR2&BR3","v":"UnitaryHeatPumpSplitLessthan45kbtuh"},null,null,null,null,null,{"$f":"BX1&BX2&BX3","v":"UnitaryHeatPumpPackagedLessthan45kbtuh"},null,null,null,null,null,{"$f":"CD1&CD2&CD3","v":"UnitaryHeatPumpSplit45to65kbtuh"},null,null,null,null,null,{"$f":"CJ1&CJ2&CJ3","v":"UnitaryHeatPumpPackaged45to65kbtuh"},null,null,null,null,null,{"$f":"CP1&CP2&CP3","v":"UnitaryHeatPump65to135kbtuh"},null,null,null,null,null,{"$f":"CV1&CV2&CV3","v":"UnitaryHeatPumpElecResorNone65to135kbtuh"},null,null,null,null,null,{"$f":"DB1&DB2&DB3","v":"UnitaryHeatPumpOther65to135kbtuh"},null,null,null,null,null,{"$f":"DH1&DH2&DH3","v":"UnitaryHeatPump135to240kbtuh"},null,null,null,null,null,{"$f":"DN1&DN2&DN3","v":"UnitaryHeatPumpElecResorNone135to240kbtuh"},null,null,null,null,null,{"$f":"DT1&DT2&DT3","v":"UnitaryHeatPumpOther135to240kbtuh"},null,null,null,null,null,{"$f":"DZ1&DZ2&DZ3","v":"UnitaryHeatPump240to760kbtuh"},null,null,null,null,null,{"$f":"EF1&EF2&EF3","v":"UnitaryHeatPumpElecResorNone240to760kbtuh"},null,null,null,null,null,{"$f":"EL1&EL2&EL3","v":"UnitaryHeatPumpOther240to760kbtuh"},null,null,null,null,null,{"$f":"ER1&ER2&ER3","v":"UnitaryHeatPumpGreaterthan760kbtuh"},null,null,null,null,null,{"$f":"EX1&EX2&EX3","v":"UnitaryHeatPumpElecResorNoneGreaterthan760kbtuh"},null,null,null,null,null,{"$f":"FD1&FD2&FD3","v":"UnitaryHeatPumpOtherGreaterthan760kbtuh"}]
["BaselineRow",null,"Manuf. Year","EER2","SEER2","Full Load","Part Load","EER2","SEER2","Full Load","Part Load","EER2","SEER2","Full Load","Part Load","EER2","SEER2","Full Load","Part Load","EER","IEER","Full Load","Part Load","EER","IEER","Full Load","Part Load","EER","IEERadj","Full Load","Part Load","EER","IEERadj","Full Load","Part Load","EER","IEERadj","Full Load","Part Load","EER","IEERadj","Full Load","Part Load","EER","IEERadj","Full Load","Part Load","EER","IEERadj","Full Load","Part Load","EER","IEERadj","Full Load","Part Load","EER","IEERadj","Full Load","Part Load","EER","IEERadj","Full Load","Part Load","EER","IEERadj","Full Load","Part Load","Applicable Standard",null,"EER2","SEER2","HSPF2","Full Load","Part Load","Heating","EER2","SEER2","HSPF2","Full Load","Part Load","Heating","EER2","SEER2","HSPF2","Full Load","Part Load","Heating","EER2","SEER2","HSPF2","Full Load","Part Load","Heating","EER","IEER","COP","Full Load","Part Load","Heating","EER","IEER","COP","Full Load","Part Load","Heating","EER","IEERadj","COP","Full Load","Part Load","Heating","EER","IEERadj","COP","Full Load","Part Load","Heating","EER","IEERadj","COP","Full Load","Part Load","Heating","EER","IEERadj","COP","Full Load","Part Load","Heating","EER","IEERadj","COP","Full Load","Part Load","Heating","EER","IEERadj","COP","Full Load","Part Load","Heating","EER","IEERadj","COP","Full Load","Part Load","Heating","EER","IEERadj","COP","Full Load","Part Load","Heating","EER","IEERadj","COP","Full Load","Part Load","Heating","EER","IEERadj","COP","Full Load","Part Load","Heating","Applicable Standard"]
[1995,null,null,7.8,9.5,{"$f":"12/D6","v":1.5384615384615385},{"$f":"12/E6","v":1.263157894736842},7.5,9.1999999999999993,{"$f":"12/H6","v":1.6},{"$f":"12/I6","v":1.3043478260869565},7.8,9.5,{"$f":"12/L6","v":1.5384615384615385},{"$f":"12/M6","v":1.263157894736842},7.5,9.1999999999999993,{"$f":"12/P6","v":1.6},{"$f":"12/Q6","v":1.3043478260869565},10.1,10.3,{"$f":"12/T6","v":1.1881188118811881},{"$f":"12/U6","v":1.1650485436893203},null,null,null,null,null,null,null,null,9.5,9.6999999999999993,{"$f":"12/AF6","v":1.263157894736842},{"$f":"12/AG6","v":1.2371134020618557},null,null,null,null,null,null,null,null,9.3000000000000007,9.4,{"$f":"12/AR6","v":1.2903225806451613},{"$f":"12/AS6","v":1.2765957446808509},null,null,null,null,null,null,null,null,9,9.1,{"$f":"12/BD6","v":1.3333333333333333},{"$f":"12/BE6","v":1.3186813186813187},null,null,null,null,null,null,null,null,"ASHRAE 90.1--1989 (as of Jan. 1, 1992) ",null,7.8,9.5,5.7,{"$f":"12/BR6","v":1.5384615384615385},{"$f":"12/BS6","v":1.263157894736842},{"$f":"12/BT6","v":2.1052631578947367},7.5,9.1999999999999993,5.6,{"$f":"12/BX6","v":1.6},{"$f":"12/BY6","v":1.3043478260869565},{"$f":"12/BZ6","v":2.1428571428571428},7.8,9.5,5.7,{"$f":"12/CD6","v":1.5384615384615385},{"$f":"12/CE6","v":1.263157894736842},{"$f":"12/CF6","v":2.1052631578947367},7.5,9.1999999999999993,5.6,{"$f":"12/CJ6","v":1.6},{"$f":"12/CK6","v":1.3043478260869565},{"$f":"12/CL6","v":2.1428571428571428},10.1,10.3,3.2,{"$f":"12/CP6","v":1.1881188118811881},{"$f":"12/CQ6","v":1.1650485436893203},{"$f":"12/3.412/CR6","v":1.0990621336459554},null,null,null,null,null,null,null,null,null,null,null,null,9.3000000000000007,9.5,3.1,{"$f":"12/DH6","v":1.2903225806451613},{"$f":"12/DI6","v":1.263157894736842},{"$f":"12/3.412/DJ6","v":1.1345157508603412},null,null,null,null,null,null,null,null,null,null,null,null,9,9.1,3.1,{"$f":"12/DZ6","v":1.3333333333333333},{"$f":"12/EA6","v":1.3186813186813187},{"$f":"12/3.412/EB6","v":1.1345157508603412},null,null,null,null,null,null,null,null,null,null,null,null,9,9.1,3.1,{"$f":"12/ER6","v":1.3333333333333333},{"$f":"12/ES6","v":1.3186813186813187},{"$f":"12/3.412/ET6","v":1.1345157508603412},null,null,null,null,null,null,null,null,null,null,null,null,"ASHRAE 90.1--1989 (as of Jan. 1, 1992) "]
[1996,null,null,7.8,9.5,1.5384615384615385,1.263157894736842,7.5,9.1999999999999993,1.6,1.3043478260869565,7.8,9.5,1.5384615384615385,1.263157894736842,7.5,9.1999999999999993,1.6,1.3043478260869565,10.1,10.3,1.1881188118811881,1.1650485436893203,null,null,null,null,null,null,null,null,9.5,9.6999999999999993,1.263157894736842,1.2371134020618557,null,null,null,null,null,null,null,null,9.3000000000000007,9.4,1.2903225806451613,1.2765957446808509,null,null,null,null,null,null,null,null,9,9.1,1.3333333333333333,1.3186813186813187,null,null,null,null,null,null,null,null,"ASHRAE 90.1--1989 (as of Jan. 1, 1992) ",null,7.8,9.5,5.7,1.5384615384615385,1.263157894736842,2.1052631578947367,7.5,9.1999999999999993,5.6,1.6,1.3043478260869565,2.1428571428571428,7.8,9.5,5.7,1.5384615384615385,1.263157894736842,2.1052631578947367,7.5,9.1999999999999993,5.6,1.6,1.3043478260869565,2.1428571428571428,10.1,10.3,3.2,1.1881188118811881,1.1650485436893203,1.0990621336459554,null,null,null,null,null,null,null,null,null,null,null,null,9.3000000000000007,9.5,3.1,1.2903225806451613,1.263157894736842,1.1345157508603412,null,null,null,null,null,null,null,null,null,null,null,null,9,9.1,3.1,1.3333333333333333,1.3186813186813187,1.1345157508603412,null,null,null,null,null,null,null,null,null,null,null,null,9,9.1,3.1,1.3333333333333333,1.3186813186813187,1.1345157508603412,null,null,null,null,null,null,null,null,null,null,null,null,"ASHRAE 90.1--1989 (as of Jan. 1, 1992) "]
[1997,null,null,7.8,9.5,1.5384615384615385,1.263157894736842,7.5,9.1999999999999993,1.6,1.3043478260869565,7.8,9.5,1.5384615384615385,1.263157894736842,7.5,9.1999999999999993,1.6,1.3043478260869565,10.1,10.3,1.1881188118811881,1.1650485436893203,null,null,null,null,null,null,null,null,9.5,9.6999999999999993,1.263157894736842,1.2371134020618557,null,null,null,null,null,null,null,null,9.3000000000000007,9.4,1.2903225806451613,1.2765957446808509,null,null,null,null,null,null,null,null,9,9.1,1.3333333333333333,1.3186813186813187,null,null,null,null,null,null,null,null,"ASHRAE 90.1--1989 (as of Jan. 1, 1992) ",null,7.8,9.5,5.7,1.5384615384615385,1.263157894736842,2.1052631578947367,7.5,9.1999999999999993,5.6,1.6,1.3043478260869565,2.1428571428571428,7.8,9.5,5.7,1.5384615384615385,1.263157894736842,2.1052631578947367,7.5,9.1999999999999993,5.6,1.6,1.3043478260869565,2.1428571428571428,10.1,10.3,3.2,1.1881188118811881,1.1650485436893203,1.0990621336459554,null,null,null,null,null,null,null,null,null,null,null,null,9.3000000000000007,9.5,3.1,1.2903225806451613,1.263157894736842,1.1345157508603412,null,null,null,null,null,null,null,null,null,null,null,null,9,9.1,3.1,1.3333333333333333,1.3186813186813187,1.1345157508603412,null,null,null,null,null,null,null,null,null,null,null,null,9,9.1,3.1,1.3333333333333333,1.3186813186813187,1.1345157508603412,null,null,null,null,null,null,null,null,null,null,null,null,"ASHRAE 90.1--1989 (as of Jan. 1, 1992) "]
[1998,null,null,7.8,9.5,1.5384615384615385,1.263157894736842,7.5,9.1999999999999993,1.6,1.3043478260869565,7.8,9.5,1.5384615384615385,1.263157894736842,7.5,9.1999999999999993,1.6,1.3043478260869565,10.1,10.3,1.1881188118811881,1.1650485436893203,null,null,null,null,null,null,null,null,9.5,9.6999999999999993,1.263157894736842,1.2371134020618557,null,null,null,null,null,null,null,null,9.3000000000000007,9.4,1.2903225806451613,1.2765957446808509,null,null,null,null,null,null,null,null,9,9.1,1.3333333333333333,1.3186813186813187,null,null,null,null,null,null,null,null,"ASHRAE 90.1--1989 (as of Jan. 1, 1992) ",null,7.8,9.5,5.7,1.5384615384615385,1.263157894736842,2.1052631578947367,7.5,9.1999999999999993,5.6,1.6,1.3043478260869565,2.1428571428571428,7.8,9.5,5.7,1.5384615384615385,1.263157894736842,2.1052631578947367,7.5,9.1999999999999993,5.6,1.6,1.3043478260869565,2.1428571428571428,10.1,10.3,3.2,1.1881188118811881,1.1650485436893203,1.0990621336459554,null,null,null,null,null,null,null,null,null,null,null,null,9.3000000000000007,9.5,3.1,1.2903225806451613,1.263157894736842,1.1345157508603412,null,null,null,null,null,null,null,null,null,null,null,null,9,9.1,3.1,1.3333333333333333,1.3186813186813187,1.1345157508603412,null,null,null,null,null,null,null,null,null,null,null,null,9,9.1,3.1,1.3333333333333333,1.3186813186813187,1.1345157508603412,null,null,null,null,null,null,null,null,null,null,null,null,"ASHRAE 90.1--1989 (as of Jan. 1, 1992) "]
[1999,null,null,7.8,9.5,1.5384615384615385,1.263157894736842,7.5,9.1999999999999993,1.6,1.3043478260869565,7.8,9.5,1.5384615384615385,1.263157894736842,7.5,9.1999999999999993,1.6,1.3043478260869565,10.1,10.3,1.1881188118811881,1.1650485436893203,null,null,null,null,null,null,null,null,9.5,9.6999999999999993,1.263157894736842,1.2371134020618557,null,null,null,null,null,null,null,null,9.3000000000000007,9.4,1.2903225806451613,1.2765957446808509,null,null,null,null,null,null,null,null,9,9.1,1.3333333333333333,1.3186813186813187,null,null,null,null,null,null,null,null,"ASHRAE 90.1--1999",null,7.8,9.5,5.7,1.5384615384615385,1.263157894736842,2.1052631578947367,7.5,9.1999999999999993,5.6,1.6,1.3043478260869565,2.1428571428571428,7.8,9.5,5.7,1.5384615384615385,1.263157894736842,2.1052631578947367,7.5,9.1999999999999993,5.6,1.6,1.3043478260869565,2.1428571428571428,10.1,10.3,3.2,1.1881188118811881,1.1650485436893203,1.0990621336459554,null,null,null,null,null,null,null,null,null,null,null,null,9.3000000000000007,9.5,3.1,1.2903225806451613,1.263157894736842,1.1345157508603412,null,null,null,null,null,null,null,null,null,null,null,null,9,9.1,3.1,1.3333333333333333,1.3186813186813187,1.1345157508603412,null,null,null,null,null,null,null,null,null,null,null,null,9,9.1,3.1,1.3333333333333333,1.3186813186813187,1.1345157508603412,null,null,null,null,null,null,null,null,null,null,null,null,"ASHRAE 90.1--1999"]
[2000,null,null,7.8,9.5,1.5384615384615385,1.263157894736842,7.5,9.1999999999999993,1.6,1.3043478260869565,7.8,9.5,1.5384615384615385,1.263157894736842,7.5,9.1999999999999993,1.6,1.3043478260869565,10.1,10.3,1.1881188118811881,1.1650485436893203,null,null,null,null,null,null,null,null,9.5,9.6999999999999993,1.263157894736842,1.2371134020618557,null,null,null,null,null,null,null,null,9.3000000000000007,9.4,1.2903225806451613,1.2765957446808509,null,null,null,null,null,null,null,null,9,9.1,1.3333333333333333,1.3186813186813187,null,null,null,null,null,null,null,null,"ASHRAE 90.1--1999",null,7.8,9.5,5.7,1.5384615384615385,1.263157894736842,2.1052631578947367,7.5,9.1999999999999993,5.6,1.6,1.3043478260869565,2.1428571428571428,7.8,9.5,5.7,1.5384615384615385,1.263157894736842,2.1052631578947367,7.5,9.1999999999999993,5.6,1.6,1.3043478260869565,2.1428571428571428,10.1,10.3,3.2,1.1881188118811881,1.1650485436893203,1.0990621336459554,null,null,null,null,null,null,null,null,null,null,null,null,9.3000000000000007,9.5,3.1,1.2903225806451613,1.263157894736842,1.1345157508603412,null,null,null,null,null,null,null,null,null,null,null,null,9,9.1,3.1,1.3333333333333333,1.3186813186813187,1.1345157508603412,null,null,null,null,null,null,null,null,null,null,null,null,9,9.1,3.1,1.3333333333333333,1.3186813186813187,1.1345157508603412,null,null,null,null,null,null,null,null,null,null,null,null,"ASHRAE 90.1--1999"]
[2001,null,null,7.8,9.5,1.5384615384615385,1.263157894736842,7.5,9.1999999999999993,1.6,1.3043478260869565,7.8,9.5,1.5384615384615385,1.263157894736842,7.5,9.1999999999999993,1.6,1.3043478260869565,10.1,10.3,1.1881188118811881,1.1650485436893203,null,null,null,null,null,null,null,null,9.5,9.6999999999999993,1.263157894736842,1.2371134020618557,null,null,null,null,null,null,null,null,9.3000000000000007,9.4,1.2903225806451613,1.2765957446808509,null,null,null,null,null,null,null,null,9,9.1,1.3333333333333333,1.3186813186813187,null,null,null,null,null,null,null,null,"ASHRAE 90.1--1999",null,7.8,9.5,5.7,1.5384615384615385,1.263157894736842,2.1052631578947367,7.5,9.1999999999999993,5.6,1.6,1.3043478260869565,2.1428571428571428,7.8,9.5,5.7,1.5384615384615385,1.263157894736842,2.1052631578947367,7.5,9.1999999999999993,5.6,1.6,1.3043478260869565,2.1428571428571428,10.1,10.3,3.2,1.1881188118811881,1.1650485436893203,1.0990621336459554,null,null,null,null,null,null,null,null,null,null,null,null,9.3000000000000007,9.5,3.1,1.2903225806451613,1.263157894736842,1.1345157508603412,null,null,null,null,null,null,null,null,null,null,null,null,9,9.1,3.1,1.3333333333333333,1.3186813186813187,1.1345157508603412,null,null,null,null,null,null,null,null,null,null,null,null,9,9.1,3.1,1.3333333333333333,1.3186813186813187,1.1345157508603412,null,null,null,null,null,null,null,null,null,null,null,null,"ASHRAE 90.1--1999"]
[2002,null,null,7.8,9.5,1.5384615384615385,1.263157894736842,7.5,9.1999999999999993,1.6,1.3043478260869565,7.8,9.5,1.5384615384615385,1.263157894736842,7.5,9.1999999999999993,1.6,1.3043478260869565,10.1,10.3,1.1881188118811881,1.1650485436893203,null,null,null,null,null,null,null,null,9.5,9.6999999999999993,1.263157894736842,1.2371134020618557,null,null,null,null,null,null,null,null,9.3000000000000007,9.4,1.2903225806451613,1.2765957446808509,null,null,null,null,null,null,null,null,9,9.1,1.3333333333333333,1.3186813186813187,null,null,null,null,null,null,null,null,"ASHRAE 90.1--1999 (as of 10/29/2001)",null,7.8,9.5,5.7,1.5384615384615385,1.263157894736842,2.1052631578947367,7.5,9.1999999999999993,5.6,1.6,1.3043478260869565,2.1428571428571428,7.8,9.5,5.7,1.5384615384615385,1.263157894736842,2.1052631578947367,7.5,9.1999999999999993,5.6,1.6,1.3043478260869565,2.1428571428571428,10.1,10.3,3.2,1.1881188118811881,1.1650485436893203,1.0990621336459554,null,null,null,null,null,null,null,null,null,null,null,null,9.3000000000000007,9.5,3.1,1.2903225806451613,1.263157894736842,1.1345157508603412,null,null,null,null,null,null,null,null,null,null,null,null,9,9.1,3.1,1.3333333333333333,1.3186813186813187,1.1345157508603412,null,null,null,null,null,null,null,null,null,null,null,null,9,9.1,3.1,1.3333333333333333,1.3186813186813187,1.1345157508603412,null,null,null,null,null,null,null,null,null,null,null,null,"ASHRAE 90.1--1999 (as of 10/29/2001)"]
[2003,null,null,7.8,9.5,1.5384615384615385,1.263157894736842,7.5,9.1999999999999993,1.6,1.3043478260869565,7.8,9.5,1.5384615384615385,1.263157894736842,7.5,9.1999999999999993,1.6,1.3043478260869565,10.1,10.3,1.1881188118811881,1.1650485436893203,null,null,null,null,null,null,null,null,9.5,9.6999999999999993,1.263157894736842,1.2371134020618557,null,null,null,null,null,null,null,null,9.3000000000000007,9.4,1.2903225806451613,1.2765957446808509,null,null,null,null,null,null,null,null,9,9.1,1.3333333333333333,1.3186813186813187,null,null,null,null,null,null,null,null,"ASHRAE 90.1--1999 (as of 10/29/2001)",null,7.8,9.5,5.7,1.5384615384615385,1.263157894736842,2.1052631578947367,7.5,9.1999999999999993,5.6,1.6,1.3043478260869565,2.1428571428571428,7.8,9.5,5.7,1.5384615384615385,1.263157894736842,2.1052631578947367,7.5,9.1999999999999993,5.6,1.6,1.3043478260869565,2.1428571428571428,10.1,10.3,3.2,1.1881188118811881,1.1650485436893203,1.0990621336459554,null,null,null,null,null,null,null,null,null,null,null,null,9.3000000000000007,9.5,3.1,1.2903225806451613,1.263157894736842,1.1345157508603412,null,null,null,null,null,null,null,null,null,null,null,null,9,9.1,3.1,1.3333333333333333,1.3186813186813187,1.1345157508603412,null,null,null,null,null,null,null,null,null,null,null,null,9,9.1,3.1,1.3333333333333333,1.3186813186813187,1.1345157508603412,null,null,null,null,null,null,null,null,null,null,null,null,"ASHRAE 90.1--1999 (as of 10/29/2001)"]
[2004,null,null,7.8,9.5,1.5384615384615385,1.263157894736842,7.5,9.1999999999999993,1.6,1.3043478260869565,7.8,9.5,1.5384615384615385,1.263157894736842,7.5,9.1999999999999993,1.6,1.3043478260869565,10.1,10.3,1.1881188118811881,1.1650485436893203,null,null,null,null,null,null,null,null,9.5,9.6999999999999993,1.263157894736842,1.2371134020618557,null,null,null,null,null,null,null,null,9.3000000000000007,9.4,1.2903225806451613,1.2765957446808509,null,null,null,null,null,null,null,null,9,9.1,1.3333333333333333,1.3186813186813187,null,null,null,null,null,null,null,null,"ASHRAE 90.1--2004",null,7.8,9.5,5.7,1.5384615384615385,1.263157894736842,2.1052631578947367,7.5,9.1999999999999993,5.6,1.6,1.3043478260869565,2.1428571428571428,7.8,9.5,5.7,1.5384615384615385,1.263157894736842,2.1052631578947367,7.5,9.1999999999999993,5.6,1.6,1.3043478260869565,2.1428571428571428,10.1,10.3,3.2,1.1881188118811881,1.1650485436893203,1.0990621336459554,null,null,null,null,null,null,null,null,null,null,null,null,9.3000000000000007,9.5,3.1,1.2903225806451613,1.263157894736842,1.1345157508603412,null,null,null,null,null,null,null,null,null,null,null,null,9,9.1,3.1,1.3333333333333333,1.3186813186813187,1.1345157508603412,null,null,null,null,null,null,null,null,null,null,null,null,9,9.1,3.1,1.3333333333333333,1.3186813186813187,1.1345157508603412,null,null,null,null,null,null,null,null,null,null,null,null,"ASHRAE 90.1--2004"]
[2005,null,null,7.8,9.5,1.5384615384615385,1.263157894736842,7.5,9.1999999999999993,1.6,1.3043478260869565,7.8,9.5,1.5384615384615385,1.263157894736842,7.5,9.1999999999999993,1.6,1.3043478260869565,10.1,10.3,1.1881188118811881,1.1650485436893203,null,null,null,null,null,null,null,null,9.5,9.6999999999999993,1.263157894736842,1.2371134020618557,null,null,null,null,null,null,null,null,9.3000000000000007,9.4,1.2903225806451613,1.2765957446808509,null,null,null,null,null,null,null,null,9,9.1,1.3333333333333333,1.3186813186813187,null,null,null,null,null,null,null,null,"ASHRAE 90.1--2004",null,7.8,9.5,5.7,1.5384615384615385,1.263157894736842,2.1052631578947367,7.5,9.1999999999999993,5.6,1.6,1.3043478260869565,2.1428571428571428,10.1,12.4,6.5,1.1881188118811881,0.96774193548387089,1.8461538461538463,7.5,9.1999999999999993,5.6,1.6,1.3043478260869565,2.1428571428571428,10.1,10.3,3.2,1.1881188118811881,1.1650485436893203,1.0990621336459554,null,null,null,null,null,null,null,null,null,null,null,null,9.3000000000000007,9.5,3.1,1.2903225806451613,1.263157894736842,1.1345157508603412,null,null,null,null,null,null,null,null,null,null,null,null,9,9.1,3.1,1.3333333333333333,1.3186813186813187,1.1345157508603412,null,null,null,null,null,null,null,null,null,null,null,null,9,9.1,3.1,1.3333333333333333,1.3186813186813187,1.1345157508603412,null,null,null,null,null,null,null,null,null,null,null,null,"ASHRAE 90.1--2004"]
[2006,null,null,10.1,12.4,1.1881188118811881,0.96774193548387089,10.1,12.4,1.1881188118811881,0.96774193548387089,10.1,12.4,1.1881188118811881,0.96774193548387089,10.1,12.4,1.1881188118811881,0.96774193548387089,10.1,10.3,1.1881188118811881,1.1650485436893203,null,null,null,null,null,null,null,null,9.5,9.6999999999999993,1.263157894736842,1.2371134020618557,null,null,null,null,null,null,null,null,9.3000000000000007,9.4,1.2903225806451613,1.2765957446808509,null,null,null,null,null,null,null,null,9,9.1,1.3333333333333333,1.3186813186813187,null,null,null,null,null,null,null,null,"Federal Standard/ASHRAE 90.1-2004 (as of 1/23/2006)b",null,10.1,12.4,6.5,1.1881188118811881,0.96774193548387089,1.8461538461538463,10.1,12.4,6.5,1.1881188118811881,0.96774193548387089,1.8461538461538463,10.1,12.4,6.5,1.1881188118811881,0.96774193548387089,1.8461538461538463,10.1,12.4,6.5,1.1881188118811881,0.96774193548387089,1.8461538461538463,10.1,10.3,3.2,1.1881188118811881,1.1650485436893203,1.0990621336459554,null,null,null,null,null,null,null,null,null,null,null,null,9.3000000000000007,9.5,3.1,1.2903225806451613,1.263157894736842,1.1345157508603412,null,null,null,null,null,null,null,null,null,null,null,null,9,9.1,3.1,1.3333333333333333,1.3186813186813187,1.1345157508603412,null,null,null,null,null,null,null,null,null,null,null,null,9,9.1,3.1,1.3333333333333333,1.3186813186813187,1.1345157508603412,null,null,null,null,null,null,null,null,null,null,null,null,"Federal Standard/ASHRAE 90.1--2004 (as of 1/23/2006)b"]
[2007,null,null,10.1,12.4,1.1881188118811881,0.96774193548387089,10.1,12.4,1.1881188118811881,0.96774193548387089,10.1,12.4,1.1881188118811881,0.96774193548387089,10.1,12.4,1.1881188118811881,0.96774193548387089,10.1,10.3,1.1881188118811881,1.1650485436893203,null,null,null,null,null,null,null,null,9.5,9.6999999999999993,1.263157894736842,1.2371134020618557,null,null,null,null,null,null,null,null,9.3000000000000007,9.4,1.2903225806451613,1.2765957446808509,null,null,null,null,null,null,null,null,9,9.1,1.3333333333333333,1.3186813186813187,null,null,null,null,null,null,null,null,"Federal Standard/ASHRAE 90.1-2004 (as of 1/23/2006)b",null,10.1,12.4,6.5,1.1881188118811881,0.96774193548387089,1.8461538461538463,10.1,12.4,6.5,1.1881188118811881,0.96774193548387089,1.8461538461538463,10.1,12.4,6.5,1.1881188118811881,0.96774193548387089,1.8461538461538463,10.1,12.4,6.5,1.1881188118811881,0.96774193548387089,1.8461538461538463,10.1,10.3,3.2,1.1881188118811881,1.1650485436893203,1.0990621336459554,null,null,null,null,null,null,null,null,null,null,null,null,9.3000000000000007,9.5,3.1,1.2903225806451613,1.263157894736842,1.1345157508603412,null,null,null,null,null,null,null,null,null,null,null,null,9,9.1,3.1,1.3333333333333333,1.3186813186813187,1.1345157508603412,null,null,null,null,null,null,null,null,null,null,null,null,9,9.1,3.1,1.3333333333333333,1.3186813186813187,1.1345157508603412,null,null,null,null,null,null,null,null,null,null,null,null,"Federal Standard/ASHRAE 90.1-2007 (as of 1/23/2006)b"]
[2008,null,null,10.1,12.4,1.1881188118811881,0.96774193548387089,10.1,12.4,1.1881188118811881,0.96774193548387089,10.1,12.4,1.1881188118811881,0.96774193548387089,10.1,12.4,1.1881188118811881,0.96774193548387089,10.1,10.3,1.1881188118811881,1.1650485436893203,null,null,null,null,null,null,null,null,9.5,9.6999999999999993,1.263157894736842,1.2371134020618557,null,null,null,null,null,null,null,null,9.3000000000000007,9.4,1.2903225806451613,1.2765957446808509,null,null,null,null,null,null,null,null,9,9.1,1.3333333333333333,1.3186813186813187,null,null,null,null,null,null,null,null,"Federal Standard/ASHRAE 90.1-2004 (as of 1/23/2006)b",null,10.1,12.4,6.5,1.1881188118811881,0.96774193548387089,1.8461538461538463,10.1,12.4,6.5,1.1881188118811881,0.96774193548387089,1.8461538461538463,10.1,12.4,6.5,1.1881188118811881,0.96774193548387089,1.8461538461538463,10.1,12.4,6.5,1.1881188118811881,0.96774193548387089,1.8461538461538463,10.1,10.3,3.2,1.1881188118811881,1.1650485436893203,1.0990621336459554,null,null,null,null,null,null,null,null,null,null,null,null,9.3000000000000007,9.5,3.1,1.2903225806451613,1.263157894736842,1.1345157508603412,null,null,null,null,null,null,null,null,null,null,null,null,9,9.1,3.1,1.3333333333333333,1.3186813186813187,1.1345157508603412,null,null,null,null,null,null,null,null,null,null,null,null,9,9.1,3.1,1.3333333333333333,1.3186813186813187,1.1345157508603412,null,null,null,null,null,null,null,null,null,null,null,null,"Federal Standard/ASHRAE 90.1-2007 (as of 1/23/2006)b"]
[2009,null,null,10.1,12.4,1.1881188118811881,0.96774193548387089,10.1,12.4,1.1881188118811881,0.96774193548387089,10.1,12.4,1.1881188118811881,0.96774193548387089,10.1,12.4,1.1881188118811881,0.96774193548387089,10.1,10.3,1.1881188118811881,1.1650485436893203,null,null,null,null,null,null,null,null,9.5,9.6999999999999993,1.263157894736842,1.2371134020618557,null,null,null,null,null,null,null,null,9.3000000000000007,9.4,1.2903225806451613,1.2765957446808509,null,null,null,null,null,null,null,null,9,9.1,1.3333333333333333,1.3186813186813187,null,null,null,null,null,null,null,null,"Federal Standard/ASHRAE 90.1-2004 (as of 1/23/2006)b",null,10.1,12.4,6.5,1.1881188118811881,0.96774193548387089,1.8461538461538463,10.1,12.4,6.5,1.1881188118811881,0.96774193548387089,1.8461538461538463,10.1,12.4,6.5,1.1881188118811881,0.96774193548387089,1.8461538461538463,10.1,12.4,6.5,1.1881188118811881,0.96774193548387089,1.8461538461538463,10.1,10.3,3.2,1.1881188118811881,1.1650485436893203,1.0990621336459554,null,null,null,null,null,null,null,null,null,null,null,null,9.3000000000000007,9.5,3.1,1.2903225806451613,1.263157894736842,1.1345157508603412,null,null,null,null,null,null,null,null,null,null,null,null,9,9.1,3.1,1.3333333333333333,1.3186813186813187,1.1345157508603412,null,null,null,null,null,null,null,null,null,null,null,null,9,9.1,3.1,1.3333333333333333,1.3186813186813187,1.1345157508603412,null,null,null,null,null,null,null,null,null,null,null,null,"Federal Standard/ASHRAE 90.1-2007 (as of 1/23/2006)b"]
[2010,null,null,10.1,12.4,1.1881188118811881,0.96774193548387089,10.1,12.4,1.1881188118811881,0.96774193548387089,10.1,12.4,1.1881188118811881,0.96774193548387089,10.1,12.4,1.1881188118811881,0.96774193548387089,11,11.2,1.0909090909090908,1.0714285714285714,null,null,null,null,null,null,null,null,10.8,11,1.1111111111111109,1.0909090909090908,null,null,null,null,null,null,null,null,9.8000000000000007,9.9,1.2244897959183672,1.2121212121212122,null,null,null,null,null,null,null,null,9.5,9.6,1.263157894736842,1.25,null,null,null,null,null,null,null,null,"Federal Standard/ASHRAE 90.1-2007 (as of 1/1/2010)b",null,10.1,12.4,6.5,1.1881188118811881,0.96774193548387089,1.8461538461538463,10.1,12.4,6.5,1.1881188118811881,0.96774193548387089,1.8461538461538463,10.1,12.4,6.5,1.1881188118811881,0.96774193548387089,1.8461538461538463,10.1,12.4,6.5,1.1881188118811881,0.96774193548387089,1.8461538461538463,11,11.2,3.3,1.0909090909090908,1.0714285714285714,1.0657572205051691,null,null,null,null,null,null,null,null,null,null,null,null,10.6,10.7,3.2,1.1320754716981132,1.1214953271028039,1.0990621336459554,null,null,null,null,null,null,null,null,null,null,null,null,9.5,9.6,3.2,1.263157894736842,1.25,1.0990621336459554,null,null,null,null,null,null,null,null,null,null,null,null,9.5,9.6,3.2,1.263157894736842,1.25,1.0990621336459554,null,null,null,null,null,null,null,null,null,null,null,null,"Federal Standard/ASHRAE 90.1-2007 (as of 1/1/2010)b"]
[2011,null,null,10.1,12.4,1.1881188118811881,0.96774193548387089,10.1,12.4,1.1881188118811881,0.96774193548387089,10.1,12.4,1.1881188118811881,0.96774193548387089,10.1,12.4,1.1881188118811881,0.96774193548387089,11,11.2,1.0909090909090908,1.0714285714285714,null,null,null,null,null,null,null,null,10.8,11,1.1111111111111109,1.0909090909090908,null,null,null,null,null,null,null,null,9.8000000000000007,9.9,1.2244897959183672,1.2121212121212122,null,null,null,null,null,null,null,null,9.5,9.6,1.263157894736842,1.25,null,null,null,null,null,null,null,null,"Federal Standard/ASHRAE 90.1-2007 (as of 1/1/2010)b",null,10.1,12.4,6.5,1.1881188118811881,0.96774193548387089,1.8461538461538463,10.1,12.4,6.5,1.1881188118811881,0.96774193548387089,1.8461538461538463,10.1,12.4,6.5,1.1881188118811881,0.96774193548387089,1.8461538461538463,10.1,12.4,6.5,1.1881188118811881,0.96774193548387089,1.8461538461538463,11,11.2,3.3,1.0909090909090908,1.0714285714285714,1.0657572205051691,null,null,null,null,null,null,null,null,null,null,null,null,10.6,10.7,3.2,1.1320754716981132,1.1214953271028039,1.0990621336459554,null,null,null,null,null,null,null,null,null,null,null,null,9.5,9.6,3.2,1.263157894736842,1.25,1.0990621336459554,null,null,null,null,null,null,null,null,null,null,null,null,9.5,9.6,3.2,1.263157894736842,1.25,1.0990621336459554,null,null,null,null,null,null,null,null,null,null,null,null,"Federal Standard/ASHRAE 90.1-2007 (as of 1/1/2010)b"]
[2012,null,null,10.1,12.4,1.1881188118811881,0.96774193548387089,10.1,12.4,1.1881188118811881,0.96774193548387089,10.1,12.4,1.1881188118811881,0.96774193548387089,10.1,12.4,1.1881188118811881,0.96774193548387089,11,11.2,1.0909090909090908,1.0714285714285714,null,null,null,null,null,null,null,null,10.8,11,1.1111111111111109,1.0909090909090908,null,null,null,null,null,null,null,null,9.8000000000000007,9.9,1.2244897959183672,1.2121212121212122,null,null,null,null,null,null,null,null,9.5,9.6,1.263157894736842,1.25,null,null,null,null,null,null,null,null,"Federal Standard/ASHRAE 90.1-2007 (as of 1/1/2010)b",null,10.1,12.4,6.5,1.1881188118811881,0.96774193548387089,1.8461538461538463,10.1,12.4,6.5,1.1881188118811881,0.96774193548387089,1.8461538461538463,10.1,12.4,6.5,1.1881188118811881,0.96774193548387089,1.8461538461538463,10.1,12.4,6.5,1.1881188118811881,0.96774193548387089,1.8461538461538463,11,11.2,3.3,1.0909090909090908,1.0714285714285714,1.0657572205051691,null,null,null,null,null,null,null,null,null,null,null,null,10.6,10.7,3.2,1.1320754716981132,1.1214953271028039,1.0990621336459554,null,null,null,null,null,null,null,null,null,null,null,null,9.5,9.6,3.2,1.263157894736842,1.25,1.0990621336459554,null,null,null,null,null,null,null,null,null,null,null,null,9.5,9.6,3.2,1.263157894736842,1.25,1.0990621336459554,null,null,null,null,null,null,null,null,null,null,null,null,"Federal Standard/ASHRAE 90.1-2007 (as of 1/1/2010)b"]
[2013,null,null,10.1,12.4,1.1881188118811881,0.96774193548387089,10.1,12.4,1.1881188118811881,0.96774193548387089,10.1,12.4,1.1881188118811881,0.96774193548387089,10.1,12.4,1.1881188118811881,0.96774193548387089,11,11.2,1.0909090909090908,1.0714285714285714,null,null,null,null,null,null,null,null,10.8,11,1.1111111111111109,1.0909090909090908,null,null,null,null,null,null,null,null,9.8000000000000007,9.9,1.2244897959183672,1.2121212121212122,null,null,null,null,null,null,null,null,9.5,9.6,1.263157894736842,1.25,null,null,null,null,null,null,null,null,null,null,10.1,12.4,6.5,1.1881188118811881,0.96774193548387089,1.8461538461538463,10.1,12.4,6.5,1.1881188118811881,0.96774193548387089,1.8461538461538463,10.1,12.4,6.5,1.1881188118811881,0.96774193548387089,1.8461538461538463,10.1,12.4,6.5,1.1881188118811881,0.96774193548387089,1.8461538461538463,11,11.2,3.3,1.0909090909090908,1.0714285714285714,1.0657572205051691,null,null,null,null,null,null,null,null,null,null,null,null,10.6,10.7,3.2,1.1320754716981132,1.1214953271028039,1.0990621336459554,null,null,null,null,null,null,null,null,null,null,null,null,9.5,9.6,3.2,1.263157894736842,1.25,1.0990621336459554,null,null,null,null,null,null,null,null,null,null,null,null,9.5,9.6,3.2,1.263157894736842,1.25,1.0990621336459554]
[2014,null,null,10.1,12.4,1.1881188118811881,0.96774193548387089,10.1,12.4,1.1881188118811881,0.96774193548387089,10.1,12.4,1.1881188118811881,0.96774193548387089,10.1,12.4,1.1881188118811881,0.96774193548387089,11,11.2,1.0909090909090908,1.0714285714285714,null,null,null,null,null,null,null,null,10.8,11,1.1111111111111109,1.0909090909090908,null,null,null,null,null,null,null,null,9.8000000000000007,9.9,1.2244897959183672,1.2121212121212122,null,null,null,null,null,null,null,null,9.5,9.6,1.263157894736842,1.25,null,null,null,null,null,null,null,null,null,null,10.1,12.4,6.5,1.1881188118811881,0.96774193548387089,1.8461538461538463,10.1,12.4,6.5,1.1881188118811881,0.96774193548387089,1.8461538461538463,10.1,12.4,6.5,1.1881188118811881,0.96774193548387089,1.8461538461538463,10.1,12.4,6.5,1.1881188118811881,0.96774193548387089,1.8461538461538463,11,11.2,3.3,1.0909090909090908,1.0714285714285714,1.0657572205051691,null,null,null,null,null,null,null,null,null,null,null,null,10.6,10.7,3.2,1.1320754716981132,1.1214953271028039,1.0990621336459554,null,null,null,null,null,null,null,null,null,null,null,null,9.5,9.6,3.2,1.263157894736842,1.25,1.0990621336459554,null,null,null,null,null,null,null,null,null,null,null,null,9.5,9.6,3.2,1.263157894736842,1.25,1.0990621336459554]
[2015,null,null,10.1,12.4,1.1881188118811881,0.96774193548387089,10.1,12.4,1.1881188118811881,0.96774193548387089,10.1,12.4,1.1881188118811881,0.96774193548387089,10.1,12.4,1.1881188118811881,0.96774193548387089,11,11.2,1.0909090909090908,1.0714285714285714,null,null,null,null,null,null,null,null,10.8,11,1.1111111111111109,1.0909090909090908,null,null,null,null,null,null,null,null,9.8000000000000007,9.9,1.2244897959183672,1.2121212121212122,null,null,null,null,null,null,null,null,9.5,9.6,1.263157894736842,1.25,null,null,null,null,null,null,null,null,null,null,10.1,12.4,6.5,1.1881188118811881,0.96774193548387089,1.8461538461538463,10.1,12.4,6.5,1.1881188118811881,0.96774193548387089,1.8461538461538463,10.1,12.4,6.5,1.1881188118811881,0.96774193548387089,1.8461538461538463,10.1,12.4,6.5,1.1881188118811881,0.96774193548387089,1.8461538461538463,11,11.2,3.3,1.0909090909090908,1.0714285714285714,1.0657572205051691,null,null,null,null,null,null,null,null,null,null,null,null,10.6,10.7,3.2,1.1320754716981132,1.1214953271028039,1.0990621336459554,null,null,null,null,null,null,null,null,null,null,null,null,9.5,9.6,3.2,1.263157894736842,1.25,1.0990621336459554,null,null,null,null,null,null,null,null,null,null,null,null,9.5,9.6,3.2,1.263157894736842,1.25,1.0990621336459554]
[2016,null,null,10.1,12.4,1.1881188118811881,0.96774193548387089,10.1,12.4,1.1881188118811881,0.96774193548387089,10.1,12.4,1.1881188118811881,0.96774193548387089,10.1,12.4,1.1881188118811881,0.96774193548387089,11,12.6,1.0909090909090908,0.95238095238095244,null,null,null,null,null,null,null,null,10.8,12.2,1.1111111111111109,0.98360655737704927,null,null,null,null,null,null,null,null,9.8000000000000007,11.4,1.2244897959183672,1.0526315789473684,null,null,null,null,null,null,null,null,9.5,11,1.263157894736842,1.0909090909090908,null,null,null,null,null,null,null,null,null,null,10.1,12.4,6.5,1.1881188118811881,0.96774193548387089,1.8461538461538463,10.1,12.4,6.5,1.1881188118811881,0.96774193548387089,1.8461538461538463,10.1,12.4,6.5,1.1881188118811881,0.96774193548387089,1.8461538461538463,10.1,12.4,6.5,1.1881188118811881,0.96774193548387089,1.8461538461538463,11,11.2,3.3,1.0909090909090908,1.0714285714285714,1.0657572205051691,null,null,null,null,null,null,null,null,null,null,null,null,10.6,10.7,3.2,1.1320754716981132,1.1214953271028039,1.0990621336459554,null,null,null,null,null,null,null,null,null,null,null,null,9.5,9.6,3.2,1.263157894736842,1.25,1.0990621336459554,null,null,null,null,null,null,null,null,null,null,null,null,9.5,9.6,3.2,1.263157894736842,1.25,1.0990621336459554]
[2017,null,null,10.1,12.4,1.1881188118811881,0.96774193548387089,10.1,12.4,1.1881188118811881,0.96774193548387089,10.1,12.4,1.1881188118811881,0.96774193548387089,10.1,12.4,1.1881188118811881,0.96774193548387089,11,12.6,1.0909090909090908,0.95238095238095244,null,null,null,null,null,null,null,null,10.8,12.2,1.1111111111111109,0.98360655737704927,null,null,null,null,null,null,null,null,9.8000000000000007,11.4,1.2244897959183672,1.0526315789473684,null,null,null,null,null,null,null,null,9.5,11,1.263157894736842,1.0909090909090908,null,null,null,null,null,null,null,null,null,null,10.1,12.4,6.5,1.1881188118811881,0.96774193548387089,1.8461538461538463,10.1,12.4,6.5,1.1881188118811881,0.96774193548387089,1.8461538461538463,10.9,13.4,6.7,1.1009174311926606,0.89552238805970152,1.791044776119403,10.1,12.4,6.5,1.1881188118811881,0.96774193548387089,1.8461538461538463,11,11.2,3.3,1.0909090909090908,1.0714285714285714,1.0657572205051691,null,null,null,null,null,null,null,null,null,null,null,null,10.6,10.7,3.2,1.1320754716981132,1.1214953271028039,1.0990621336459554,null,null,null,null,null,null,null,null,null,null,null,null,9.5,9.6,3.2,1.263157894736842,1.25,1.0990621336459554,null,null,null,null,null,null,null,null,null,null,null,null,9.5,9.6,3.2,1.263157894736842,1.25,1.0990621336459554]
[2018,null,null,10.1,12.4,1.1881188118811881,0.96774193548387089,10.9,13.4,1.1009174311926606,0.89552238805970152,10.1,12.4,1.1881188118811881,0.96774193548387089,10.9,13.4,1.1009174311926606,0.89552238805970152,11,12.6,1.0909090909090908,0.95238095238095244,null,null,null,null,null,null,null,null,10.8,12.2,1.1111111111111109,0.98360655737704927,null,null,null,null,null,null,null,null,9.8000000000000007,11.4,1.2244897959183672,1.0526315789473684,null,null,null,null,null,null,null,null,9.5,11,1.263157894736842,1.0909090909090908,null,null,null,null,null,null,null,null,null,null,10.9,13.4,6.7,1.1009174311926606,0.89552238805970152,1.791044776119403,10.9,13.4,6.7,1.1009174311926606,0.89552238805970152,1.791044776119403,10.9,13.4,6.7,1.1009174311926606,0.89552238805970152,1.791044776119403,10.9,13.4,6.7,1.1009174311926606,0.89552238805970152,1.791044776119403,11,12,3.3,1.0909090909090908,1,1.0657572205051691,null,null,null,null,null,null,null,null,null,null,null,null,10.6,11.6,3.2,1.1320754716981132,1.0344827586206897,1.0990621336459554,null,null,null,null,null,null,null,null,null,null,null,null,9.5,10.6,3.2,1.263157894736842,1.1320754716981132,1.0990621336459554,null,null,null,null,null,null,null,null,null,null,null,null,9.5,10.6,3.2,1.263157894736842,1.1320754716981132,1.0990621336459554]
[2019,null,null,10.1,12.4,1.1881188118811881,0.96774193548387089,10.9,13.4,1.1009174311926606,0.89552238805970152,10.1,12.4,1.1881188118811881,0.96774193548387089,10.9,13.4,1.1009174311926606,0.89552238805970152,11,12.6,1.0909090909090908,0.95238095238095244,null,null,null,null,null,null,null,null,10.8,12.2,1.1111111111111109,0.98360655737704927,null,null,null,null,null,null,null,null,9.8000000000000007,11.4,1.2244897959183672,1.0526315789473684,null,null,null,null,null,null,null,null,9.5,11,1.263157894736842,1.0909090909090908,null,null,null,null,null,null,null,null,null,null,10.9,13.4,6.7,1.1009174311926606,0.89552238805970152,1.791044776119403,10.9,13.4,6.7,1.1009174311926606,0.89552238805970152,1.791044776119403,10.9,13.4,6.7,1.1009174311926606,0.89552238805970152,1.791044776119403,10.9,13.4,6.7,1.1009174311926606,0.89552238805970152,1.791044776119403,11,12,3.3,1.0909090909090908,1,1.0657572205051691,null,null,null,null,null,null,null,null,null,null,null,null,10.6,11.6,3.2,1.1320754716981132,1.0344827586206897,1.0990621336459554,null,null,null,null,null,null,null,null,null,null,null,null,9.5,10.6,3.2,1.263157894736842,1.1320754716981132,1.0990621336459554,null,null,null,null,null,null,null,null,null,null,null,null,9.5,10.6,3.2,1.263157894736842,1.1320754716981132,1.0990621336459554]
[2020,null,null,10.1,12.4,1.1881188118811881,0.96774193548387089,10.9,13.4,1.1009174311926606,0.89552238805970152,10.1,12.4,1.1881188118811881,0.96774193548387089,10.9,13.4,1.1009174311926606,0.89552238805970152,11,12.6,1.0909090909090908,0.95238095238095244,null,null,null,null,null,null,null,null,10.8,12.2,1.1111111111111109,0.98360655737704927,null,null,null,null,null,null,null,null,9.8000000000000007,11.4,1.2244897959183672,1.0526315789473684,null,null,null,null,null,null,null,null,9.5,11,1.263157894736842,1.0909090909090908,null,null,null,null,null,null,null,null,null,null,10.9,13.4,6.7,1.1009174311926606,0.89552238805970152,1.791044776119403,10.9,13.4,6.7,1.1009174311926606,0.89552238805970152,1.791044776119403,10.9,13.4,6.7,1.1009174311926606,0.89552238805970152,1.791044776119403,10.9,13.4,6.7,1.1009174311926606,0.89552238805970152,1.791044776119403,11,12,3.3,1.0909090909090908,1,1.0657572205051691,null,null,null,null,null,null,null,null,null,null,null,null,10.6,11.6,3.2,1.1320754716981132,1.0344827586206897,1.0990621336459554,null,null,null,null,null,null,null,null,null,null,null,null,9.5,10.6,3.2,1.263157894736842,1.1320754716981132,1.0990621336459554,null,null,null,null,null,null,null,null,null,null,null,null,9.5,10.6,3.2,1.263157894736842,1.1320754716981132,1.0990621336459554]
[2021,null,null,10.1,12.4,1.1881188118811881,0.96774193548387089,10.9,13.4,1.1009174311926606,0.89552238805970152,10.1,12.4,1.1881188118811881,0.96774193548387089,10.9,13.4,1.1009174311926606,0.89552238805970152,11,12.6,1.0909090909090908,0.95238095238095244,null,null,null,null,null,null,null,null,10.8,12.2,1.1111111111111109,0.98360655737704927,null,null,null,null,null,null,null,null,9.8000000000000007,11.4,1.2244897959183672,1.0526315789473684,null,null,null,null,null,null,null,null,9.5,11,1.263157894736842,1.0909090909090908,null,null,null,null,null,null,null,null,null,null,10.9,13.4,6.7,1.1009174311926606,0.89552238805970152,1.791044776119403,10.9,13.4,6.7,1.1009174311926606,0.89552238805970152,1.791044776119403,10.9,13.4,6.7,1.1009174311926606,0.89552238805970152,1.791044776119403,10.9,13.4,6.7,1.1009174311926606,0.89552238805970152,1.791044776119403,11,12,3.3,1.0909090909090908,1,1.0657572205051691,null,null,null,null,null,null,null,null,null,null,null,null,10.6,11.6,3.2,1.1320754716981132,1.0344827586206897,1.0990621336459554,null,null,null,null,null,null,null,null,null,null,null,null,9.5,10.6,3.2,1.263157894736842,1.1320754716981132,1.0990621336459554,null,null,null,null,null,null,null,null,null,null,null,null,9.5,10.6,3.2,1.263157894736842,1.1320754716981132,1.0990621336459554]
[2022,null,null,10.1,12.4,{"$f":"12/D33","v":1.1881188118811881},{"$f":"12/E33","v":0.96774193548387089},10.9,13.4,{"$f":"12/H33","v":1.1009174311926606},{"$f":"12/I33","v":0.89552238805970152},10.1,12.4,1.1881188118811881,0.96774193548387089,10.9,13.4,1.1009174311926606,0.89552238805970152,11,12.6,{"$f":"12/T33","v":1.0909090909090908},{"$f":"12/U33","v":0.95238095238095244},null,null,null,null,null,null,null,null,10.8,12.2,{"$f":"12/AF33","v":1.1111111111111109},{"$f":"12/AG33","v":0.98360655737704927},null,null,null,null,null,null,null,null,9.8000000000000007,11.4,{"$f":"12/AR33","v":1.2244897959183672},{"$f":"12/AS33","v":1.0526315789473684},null,null,null,null,null,null,null,null,9.5,11,{"$f":"12/BD33","v":1.263157894736842},{"$f":"12/BE33","v":1.0909090909090908},null,null,null,null,null,null,null,null,null,null,10.9,13.4,6.7,{"$f":"12/BR33","v":1.1009174311926606},{"$f":"12/BS33","v":0.89552238805970152},{"$f":"12/BT33","v":1.791044776119403},10.9,13.4,6.7,{"$f":"12/BX33","v":1.1009174311926606},{"$f":"12/BY33","v":0.89552238805970152},{"$f":"12/BZ33","v":1.791044776119403},10.9,13.4,6.7,1.1009174311926606,0.89552238805970152,1.791044776119403,10.9,13.4,6.7,1.1009174311926606,0.89552238805970152,1.791044776119403,11,12,3.3,{"$f":"12/CP33","v":1.0909090909090908},{"$f":"12/CQ33","v":1},{"$f":"12/3.412/CR33","v":1.0657572205051691},null,null,null,null,null,null,null,null,null,null,null,null,10.6,11.6,3.2,{"$f":"12/DH33","v":1.1320754716981132},{"$f":"12/DI33","v":1.0344827586206897},{"$f":"12/3.412/DJ33","v":1.0990621336459554},null,null,null,null,null,null,null,null,null,null,null,null,9.5,10.6,3.2,{"$f":"12/DZ33","v":1.263157894736842},{"$f":"12/EA33","v":1.1320754716981132},{"$f":"12/3.412/EB33","v":1.0990621336459554},null,null,null,null,null,null,null,null,null,null,null,null,9.5,10.6,3.2,{"$f":"12/ER33","v":1.263157894736842},{"$f":"12/ES33","v":1.1320754716981132},{"$f":"12/3.412/ET33","v":1.0990621336459554}]
[2023,null,null,10.1,12.4,{"$f":"12/D34","v":1.1881188118811881},{"$f":"12/E34","v":0.96774193548387089},10.9,13.4,{"$f":"12/H34","v":1.1009174311926606},{"$f":"12/I34","v":0.89552238805970152},10.1,12.4,{"$f":"12/L34","v":1.1881188118811881},{"$f":"12/M34","v":0.96774193548387089},10.9,13.4,{"$f":"12/P34","v":1.1009174311926606},{"$f":"12/Q34","v":0.89552238805970152},11,12.6,{"$f":"12/T34","v":1.0909090909090908},{"$f":"12/U34","v":0.95238095238095244},null,null,null,null,null,null,null,null,10.8,12.2,{"$f":"12/AF34","v":1.1111111111111109},{"$f":"12/AG34","v":0.98360655737704927},null,null,null,null,null,null,null,null,9.8000000000000007,11.4,{"$f":"12/AR34","v":1.2244897959183672},{"$f":"12/AS34","v":1.0526315789473684},null,null,null,null,null,null,null,null,9.5,11,{"$f":"12/BD34","v":1.263157894736842},{"$f":"12/BE34","v":1.0909090909090908},null,null,null,null,null,null,null,null,null,null,10.9,13.4,6.7,{"$f":"12/BR34","v":1.1009174311926606},{"$f":"12/BS34","v":0.89552238805970152},{"$f":"12/BT34","v":1.791044776119403},10.9,13.4,6.7,{"$f":"12/BX34","v":1.1009174311926606},{"$f":"12/BY34","v":0.89552238805970152},{"$f":"12/BZ34","v":1.791044776119403},10.9,13.4,6.7,{"$f":"12/CD34","v":1.1009174311926606},{"$f":"12/CE34","v":0.89552238805970152},{"$f":"12/CF34","v":1.791044776119403},10.9,13.4,6.7,{"$f":"12/CJ34","v":1.1009174311926606},{"$f":"12/CK34","v":0.89552238805970152},{"$f":"12/CL34","v":1.791044776119403},11,12,3.3,{"$f":"12/CP34","v":1.0909090909090908},{"$f":"12/CQ34","v":1},{"$f":"12/3.412/CR34","v":1.0657572205051691},null,null,null,null,null,null,null,null,null,null,null,null,10.6,11.6,3.2,{"$f":"12/DH34","v":1.1320754716981132},{"$f":"12/DI34","v":1.0344827586206897},{"$f":"12/3.412/DJ34","v":1.0990621336459554},null,null,null,null,null,null,null,null,null,null,null,null,9.5,10.6,3.2,{"$f":"12/DZ34","v":1.263157894736842},{"$f":"12/EA34","v":1.1320754716981132},{"$f":"12/3.412/EB34","v":1.0990621336459554},null,null,null,null,null,null,null,null,null,null,null,null,9.5,10.6,3.2,{"$f":"12/ER34","v":1.263157894736842},{"$f":"12/ES34","v":1.1320754716981132},{"$f":"12/3.412/ET34","v":1.0990621336459554}]
["ARTRM9.2",null,null,11.7,14.3,{"$f":"12/D35","v":1.0256410256410258},0.83916083916083917,10.6,13.4,{"$f":"12/H35","v":1.1320754716981132},{"$f":"12/I35","v":0.89552238805970152},11.2,13.8,1.0714285714285714,0.86956521739130432,10.6,13.4,1.1320754716981132,0.89552238805970152,11.2,12.8,1.0714285714285714,0.9375,11.2,14.8,{"$f":"12/X35","v":1.0714285714285714},{"$f":"12/Y35","v":0.81081081081081074},11,14.6,{"$f":"12/AB35","v":1.0909090909090908},{"$f":"12/AC35","v":0.82191780821917815},11,14.2,1.0909090909090908,0.84507042253521136,11,14.2,{"$f":"12/AJ35","v":1.0909090909090908},{"$f":"12/AK35","v":0.84507042253521136},10.8,14,{"$f":"12/AN35","v":1.1111111111111109},{"$f":"12/AO35","v":0.8571428571428571},10,13.2,1.2,0.90909090909090917,10,13.2,{"$f":"12/AV35","v":1.2},{"$f":"12/AW35","v":0.90909090909090917},9.8000000000000007,13,{"$f":"12/AZ35","v":1.2244897959183672},{"$f":"12/BA35","v":0.92307692307692313},9.6999999999999993,11.2,1.2371134020618557,1.0714285714285714,9.6999999999999993,11.2,{"$f":"12/BH35","v":1.2371134020618557},{"$f":"12/BI35","v":1.0714285714285714},9.5,11,{"$f":"12/BL35","v":1.263157894736842},{"$f":"12/BM35","v":1.0909090909090908},"DOE Standards",null,11.7,14.3,7.5,{"$f":"12/BR35","v":1.0256410256410258},{"$f":"12/BS35","v":0.83916083916083917},{"$f":"12/BT35","v":1.6},10.6,13.4,6.7,{"$f":"12/BX35","v":1.1320754716981132},{"$f":"12/BY35","v":0.89552238805970152},{"$f":"12/BZ35","v":1.791044776119403},11.7,14.3,7.5,1.0256410256410258,0.83916083916083917,1.6,10.6,13.4,6.7,1.1320754716981132,0.89552238805970152,1.791044776119403,11,14.1,3.4,{"$f":"12/CP35","v":1.0909090909090908},{"$f":"12/CQ35","v":0.85106382978723405},{"$f":"12/3.412/CR35","v":1.0344114199020757},11,14.1,3.4,{"$f":"12/CV35","v":1.0909090909090908},{"$f":"12/CW35","v":0.85106382978723405},{"$f":"12/3.412/CX35","v":1.0344114199020757},10.8,13.9,3.4,{"$f":"12/DB35","v":1.1111111111111109},{"$f":"12/DC35","v":0.86330935251798557},{"$f":"12/3.412/DD35","v":1.0344114199020757},10.6,13.5,3.3,1.1320754716981132,0.88888888888888884,1.0657572205051691,10.6,13.5,3.3,{"$f":"12/DN35","v":1.1320754716981132},{"$f":"12/DO35","v":0.88888888888888884},{"$f":"12/3.412/DP35","v":1.0657572205051691},10.4,13.3,3.3,{"$f":"12/DT35","v":1.1538461538461537},{"$f":"12/DU35","v":0.90225563909774431},{"$f":"12/3.412/DV35","v":1.0657572205051691},9.5,12.5,3.2,1.263157894736842,0.96,1.0990621336459554,9.5,12.5,3.2,{"$f":"12/EF35","v":1.263157894736842},{"$f":"12/EG35","v":0.96},{"$f":"12/3.412/EH35","v":1.0990621336459554},9.3000000000000007,12.3,3.2,{"$f":"12/EL35","v":1.2903225806451613},{"$f":"12/EM35","v":0.97560975609756095},{"$f":"12/3.412/EN35","v":1.0990621336459554},9.5,12.5,3.2,1.263157894736842,0.96,1.0990621336459554,9.5,12.5,3.2,{"$f":"12/EX35","v":1.263157894736842},{"$f":"12/EY35","v":0.96},{"$f":"12/3.412/EZ35","v":1.0990621336459554},9.3000000000000007,12.3,3.2,{"$f":"12/FD35","v":1.2903225806451613},{"$f":"12/FE35","v":0.97560975609756095},{"$f":"12/3.412/FF35","v":1.0990621336459554},"DOE Standards"]
["CPS",null,null,11.7,14.3,{"$f":"12/D36","v":1.0256410256410258},{"$f":"12/E36","v":0.83916083916083917},10.9,13.4,{"$f":"12/H36","v":1.1009174311926606},{"$f":"12/I36","v":0.89552238805970152},11.2,13.8,1.0714285714285714,0.86956521739130432,10.9,13.4,1.1009174311926606,0.89552238805970152,11,12.6,1.0909090909090908,0.95238095238095244,11,12.6,1.0909090909090908,0.95238095238095244,11,12.6,1.0909090909090908,0.95238095238095244,10.8,12.2,1.1111111111111109,0.98360655737704927,10.8,12.2,1.1111111111111109,0.98360655737704927,10.8,12.2,1.1111111111111109,0.98360655737704927,9.8000000000000007,11.4,1.2244897959183672,1.0526315789473684,9.8000000000000007,11.4,1.2244897959183672,1.0526315789473684,9.8000000000000007,11.4,1.2244897959183672,1.0526315789473684,9.5,11,1.263157894736842,1.0909090909090908,9.5,11,1.263157894736842,1.0909090909090908,9.5,11,1.263157894736842,1.0909090909090908,"DOE Standards",null,11.7,14.3,7.5,1.0256410256410258,0.83916083916083917,1.6,10.9,13.4,6.7,1.1009174311926606,0.89552238805970152,1.791044776119403,11.7,14.3,7.5,1.0256410256410258,0.83916083916083917,1.6,10.9,13.4,6.7,1.1009174311926606,0.89552238805970152,1.791044776119403,11,12,3.3,1.0909090909090908,1,1.0657572205051691,11,12,3.3,1.0909090909090908,1,1.0657572205051691,11,12,3.3,1.0909090909090908,1,1.0657572205051691,10.6,11.6,3.2,1.1320754716981132,1.0344827586206897,1.0990621336459554,10.6,11.6,3.2,1.1320754716981132,1.0344827586206897,1.0990621336459554,10.6,11.6,3.2,1.1320754716981132,1.0344827586206897,1.0990621336459554,9.5,10.6,3.2,1.263157894736842,1.1320754716981132,1.0990621336459554,9.5,10.6,3.2,1.263157894736842,1.1320754716981132,1.0990621336459554,9.5,10.6,3.2,1.263157894736842,1.1320754716981132,1.0990621336459554,9.5,10.6,3.2,1.263157894736842,1.1320754716981132,1.0990621336459554,9.5,10.6,3.2,1.263157894736842,1.1320754716981132,1.0990621336459554,9.5,10.6,3.2,1.263157894736842,1.1320754716981132,1.0990621336459554,"DOE Standards"]
["15.2SEER2",null,"15.2SEER2",9.8000000000000007,14.3,{"$f":"12/D37","v":1.2244897959183672},{"$f":"12/E37","v":0.83916083916083917},9.8000000000000007,13.4,{"$f":"12/H37","v":1.2244897959183672},{"$f":"12/I37","v":0.89552238805970152},9.8000000000000007,13.8,{"$f":"12/L37","v":1.2244897959183672},{"$f":"12/M37","v":0.86956521739130432},9.8000000000000007,13.4,{"$f":"12/P37","v":1.2244897959183672},{"$f":"12/Q37","v":0.89552238805970152},null,null,null,null,null,null,null,null,null,null,null,null,null,null,null,null,null,null,null,null,null,null,null,null,null,null,null,null,null,null,null,null,null,null,null,null,null,null,null,null,null,null,null,null,null,null,null,null,null,null,9.8000000000000007,14.3,7.5,{"$f":"12/BR37","v":1.2244897959183672},{"$f":"12/BS37","v":0.83916083916083917},{"$f":"12/BT37","v":1.6},9.8000000000000007,13.4,6.7,{"$f":"12/BX37","v":1.2244897959183672},{"$f":"12/BY37","v":0.89552238805970152},{"$f":"12/BZ37","v":1.791044776119403},9.8000000000000007,14.3,7.5,{"$f":"12/CD37","v":1.2244897959183672},{"$f":"12/CE37","v":0.83916083916083917},{"$f":"12/CF37","v":1.6},9.8000000000000007,13.4,6.7,{"$f":"12/CJ37","v":1.2244897959183672},{"$f":"12/CK37","v":0.89552238805970152},{"$f":"12/CL37","v":1.791044776119403}]

{"sheet":"VRF","index":10,"n_rows":37,"n_cols":61,"rows_kept":37,"cut":false,"hidden":true,"merged":[]}
[null,"VRFAirConditioner",null,null,null,"VRFAirConditioner",null,null,null,"VRFAirConditioner",null,null,null,"VRFAirConditioner",null,null,null,null,"VRFHeatPump",null,null,null,null,null,"VRFHeatPump",null,null,null,null,null,"VRFHeatPump",null,null,null,null,null,"VRFHeatPump",null,null,null,null,null,"VRFHeatPump",null,null,null,null,null,"VRFHeatPump",null,null,null,null,null,"VRFHeatPump"]
[null,null,null,null,null,null,null,null,null,null,null,null,null,null,null,null,null,null,null,"Both with and without heat recovery",null,null,null,null,"Without Heat Recovery",null,null,null,null,null,"With Heat Recovery",null,null,null,null,null,"Without Heat Recovery",null,null,null,null,null,"With Heat Recovery",null,null,null,null,null,"Without Heat Recovery",null,null,null,null,null,"With Heat Recovery"]
[]
[null,"Lessthan65kbtuh",null,null,null,"65to135kbtuh",null,null,null,"135to240kbtuh",null,null,null,"Greaterthan240kbtuh",null,null,null,null,"Lessthan65kbtuh",null,null,null,null,null,"65to135kbtuh",null,null,null,null,null,"65to135kbtuh",null,null,null,null,null,"135to240kbtuh",null,null,null,null,null,"135to240kbtuh",null,null,null,null,null,"Greaterthan240kbtuh",null,null,null,null,null,"Greaterthan240kbtuh"]
[null,{"$f":"B1&B2&B3&B4","v":"VRFAirConditionerLessthan65kbtuh"},null,null,null,{"$f":"F1&F2&F3&F4","v":"VRFAirConditioner65to135kbtuh"},null,null,null,{"$f":"J1&J2&J3&J4","v":"VRFAirConditioner135to240kbtuh"},null,null,null,{"$f":"N1&N2&N3&N4","v":"VRFAirConditionerGreaterthan240kbtuh"},null,null,null,null,{"$f":"S1&S2&S3&S4","v":"VRFHeatPumpLessthan65kbtuh"},null,null,null,null,null,{"$f":"Y1&Y2&Y3&Y4","v":"VRFHeatPumpWithout Heat Recovery65to135kbtuh"},null,null,null,null,null,{"$f":"AE1&AE2&AE3&AE4","v":"VRFHeatPumpWith Heat Recovery65to135kbtuh"},null,null,null,null,null,{"$f":"AK1&AK2&AK3&AK4","v":"VRFHeatPumpWithout Heat Recovery135to240kbtuh"},null,null,null,null,null,{"$f":"AQ1&AQ2&AQ3&AQ4","v":"VRFHeatPumpWith Heat Recovery135to240kbtuh"},null,null,null,null,null,{"$f":"AW1&AW2&AW3&AW4","v":"VRFHeatPumpWithout Heat RecoveryGreaterthan240kbtuh"},null,null,null,null,null,{"$f":"BC1&BC2&BC3&BC4","v":"VRFHeatPumpWith Heat RecoveryGreaterthan240kbtuh"}]
["Manuf. Year","EER","SEERadj","Full Load","Part Load","EER","IEERadj","Full Load","Part Load","EER","IEERadj","Full Load","Part Load","EER","IEERadj","Full Load","Part Load",null,"EER","SEERadj","HSPF","Full Load","Part Load","Heating","EER","IEERadj","COP","Full Load","Part Load","Heating","EER","IEERadj","COP","Full Load","Part Load","Heating","EER","IEERadj","COP","Full Load","Part Load","Heating","EER","IEERadj","COP","Full Load","Part Load","Heating","EER","IEERadj","COP","Full Load","Part Load","Heating","EER","IEERadj","COP","Full Load","Part Load","Heating","Applicable Standard"]
[{"$f":"BaselineRow","v":1995},null,null,{"$f":"D$37","v":1.0169491525423728},0.8571428571428571,null,null,{"$f":"H$37","v":1.0714285714285714},0.91603053435114501,null,null,{"$f":"L$37","v":1.0909090909090908},0.93023255813953487,null,null,{"$f":"P$37","v":1.2},1.0344827586206897,null,null,null,null,{"$f":"V$36","v":1.0169491525423728},{"$f":"W$36","v":0.8571428571428571},1.4634146341463417,null,null,null,{"$f":"AB$37","v":1.0909090909090908},{"$f":"AC$37","v":0.93023255813953487},1.0657572205051691,null,null,null,{"$f":"AH$37","v":1.1111111111111109},{"$f":"AI$37","v":0.94488188976377963},1.0657572205051691,null,null,null,{"$f":"AN$37","v":1.1320754716981132},{"$f":"AO$37","v":0.97560975609756095},1.0990621336459554,null,null,null,{"$f":"AT$37","v":1.1538461538461537},{"$f":"AU$37","v":0.99173553719008267},1.0990621336459554,null,null,null,{"$f":"AZ$37","v":1.263157894736842},{"$f":"BA$37","v":1.0909090909090908},1.0990621336459554,null,null,null,{"$f":"BF$37","v":1.2903225806451613},{"$f":"BG$37","v":1.1111111111111109},1.0990621336459554]
[1996,null,null,1.0169491525423728,0.8571428571428571,null,null,1.0714285714285714,0.91603053435114501,null,null,1.0909090909090908,0.93023255813953487,null,null,1.2,1.0344827586206897,null,null,null,null,{"$f":"V$36","v":1.0169491525423728},0.8571428571428571,1.4634146341463417,null,null,null,{"$f":"AB$37","v":1.0909090909090908},0.93023255813953487,1.0657572205051691,null,null,null,{"$f":"AH$37","v":1.1111111111111109},0.94488188976377963,1.0657572205051691,null,null,null,{"$f":"AN$37","v":1.1320754716981132},0.97560975609756095,1.0990621336459554,null,null,null,{"$f":"AT$37","v":1.1538461538461537},0.99173553719008267,1.0990621336459554,null,null,null,{"$f":"AZ$37","v":1.263157894736842},1.0909090909090908,1.0990621336459554,null,null,null,{"$f":"BF$37","v":1.2903225806451613},1.1111111111111109,1.0990621336459554]
[1997,null,null,1.0169491525423728,0.8571428571428571,null,null,1.0714285714285714,0.91603053435114501,null,null,1.0909090909090908,0.93023255813953487,null,null,1.2,1.0344827586206897,null,null,null,null,1.0169491525423728,0.8571428571428571,1.4634146341463417,null,null,null,1.0909090909090908,0.93023255813953487,1.0657572205051691,null,null,null,1.1111111111111109,0.94488188976377963,1.0657572205051691,null,null,null,1.1320754716981132,0.97560975609756095,1.0990621336459554,null,null,null,1.1538461538461537,0.99173553719008267,1.0990621336459554,null,null,null,1.263157894736842,1.0909090909090908,1.0990621336459554,null,null,null,1.2903225806451613,1.1111111111111109,1.0990621336459554]
[1998,null,null,1.0169491525423728,0.8571428571428571,null,null,1.0714285714285714,0.91603053435114501,null,null,1.0909090909090908,0.93023255813953487,null,null,1.2,1.0344827586206897,null,null,null,null,1.0169491525423728,0.8571428571428571,1.4634146341463417,null,null,null,1.0909090909090908,0.93023255813953487,1.0657572205051691,null,null,null,1.1111111111111109,0.94488188976377963,1.0657572205051691,null,null,null,1.1320754716981132,0.97560975609756095,1.0990621336459554,null,null,null,1.1538461538461537,0.99173553719008267,1.0990621336459554,null,null,null,1.263157894736842,1.0909090909090908,1.0990621336459554,null,null,null,1.2903225806451613,1.1111111111111109,1.0990621336459554]
[1999,null,null,1.0169491525423728,0.8571428571428571,null,null,1.0714285714285714,0.91603053435114501,null,null,1.0909090909090908,0.93023255813953487,null,null,1.2,1.0344827586206897,null,null,null,null,1.0169491525423728,0.8571428571428571,1.4634146341463417,null,null,null,1.0909090909090908,0.93023255813953487,1.0657572205051691,null,null,null,1.1111111111111109,0.94488188976377963,1.0657572205051691,null,null,null,1.1320754716981132,0.97560975609756095,1.0990621336459554,null,null,null,1.1538461538461537,0.99173553719008267,1.0990621336459554,null,null,null,1.263157894736842,1.0909090909090908,1.0990621336459554,null,null,null,1.2903225806451613,1.1111111111111109,1.0990621336459554]
[2000,null,null,1.0169491525423728,0.8571428571428571,null,null,1.0714285714285714,0.91603053435114501,null,null,1.0909090909090908,0.93023255813953487,null,null,1.2,1.0344827586206897,null,null,null,null,1.0169491525423728,0.8571428571428571,1.4634146341463417,null,null,null,1.0909090909090908,0.93023255813953487,1.0657572205051691,null,null,null,1.1111111111111109,0.94488188976377963,1.0657572205051691,null,null,null,1.1320754716981132,0.97560975609756095,1.0990621336459554,null,null,null,1.1538461538461537,0.99173553719008267,1.0990621336459554,null,null,null,1.263157894736842,1.0909090909090908,1.0990621336459554,null,null,null,1.2903225806451613,1.1111111111111109,1.0990621336459554]
[2001,null,null,1.0169491525423728,0.8571428571428571,null,null,1.0714285714285714,0.91603053435114501,null,null,1.0909090909090908,0.93023255813953487,null,null,1.2,1.0344827586206897,null,null,null,null,1.0169491525423728,0.8571428571428571,1.4634146341463417,null,null,null,1.0909090909090908,0.93023255813953487,1.0657572205051691,null,null,null,1.1111111111111109,0.94488188976377963,1.0657572205051691,null,null,null,1.1320754716981132,0.97560975609756095,1.0990621336459554,null,null,null,1.1538461538461537,0.99173553719008267,1.0990621336459554,null,null,null,1.263157894736842,1.0909090909090908,1.0990621336459554,null,null,null,1.2903225806451613,1.1111111111111109,1.0990621336459554]
[2002,null,null,1.0169491525423728,0.8571428571428571,null,null,1.0714285714285714,0.91603053435114501,null,null,1.0909090909090908,0.93023255813953487,null,null,1.2,1.0344827586206897,null,null,null,null,1.0169491525423728,0.8571428571428571,1.4634146341463417,null,null,null,1.0909090909090908,0.93023255813953487,1.0657572205051691,null,null,null,1.1111111111111109,0.94488188976377963,1.0657572205051691,null,null,null,1.1320754716981132,0.97560975609756095,1.0990621336459554,null,null,null,1.1538461538461537,0.99173553719008267,1.0990621336459554,null,null,null,1.263157894736842,1.0909090909090908,1.0990621336459554,null,null,null,1.2903225806451613,1.1111111111111109,1.0990621336459554]
[2003,null,null,1.0169491525423728,0.8571428571428571,null,null,1.0714285714285714,0.91603053435114501,null,null,1.0909090909090908,0.93023255813953487,null,null,1.2,1.0344827586206897,null,null,null,null,1.0169491525423728,0.8571428571428571,1.4634146341463417,null,null,null,1.0909090909090908,0.93023255813953487,1.0657572205051691,null,null,null,1.1111111111111109,0.94488188976377963,1.0657572205051691,null,null,null,1.1320754716981132,0.97560975609756095,1.0990621336459554,null,null,null,1.1538461538461537,0.99173553719008267,1.0990621336459554,null,null,null,1.263157894736842,1.0909090909090908,1.0990621336459554,null,null,null,1.2903225806451613,1.1111111111111109,1.0990621336459554]
[2004,null,null,1.0169491525423728,0.8571428571428571,null,null,1.0714285714285714,0.91603053435114501,null,null,1.0909090909090908,0.93023255813953487,null,null,1.2,1.0344827586206897,null,null,null,null,1.0169491525423728,0.8571428571428571,1.4634146341463417,null,null,null,1.0909090909090908,0.93023255813953487,1.0657572205051691,null,null,null,1.1111111111111109,0.94488188976377963,1.0657572205051691,null,null,null,1.1320754716981132,0.97560975609756095,1.0990621336459554,null,null,null,1.1538461538461537,0.99173553719008267,1.0990621336459554,null,null,null,1.263157894736842,1.0909090909090908,1.0990621336459554,null,null,null,1.2903225806451613,1.1111111111111109,1.0990621336459554]
[2005,null,null,1.0169491525423728,0.8571428571428571,null,null,1.0714285714285714,0.91603053435114501,null,null,1.0909090909090908,0.93023255813953487,null,null,1.2,1.0344827586206897,null,null,null,null,1.0169491525423728,0.8571428571428571,1.4634146341463417,null,null,null,1.0909090909090908,0.93023255813953487,1.0657572205051691,null,null,null,1.1111111111111109,0.94488188976377963,1.0657572205051691,null,null,null,1.1320754716981132,0.97560975609756095,1.0990621336459554,null,null,null,1.1538461538461537,0.99173553719008267,1.0990621336459554,null,null,null,1.263157894736842,1.0909090909090908,1.0990621336459554,null,null,null,1.2903225806451613,1.1111111111111109,1.0990621336459554]
[2006,null,null,1.0169491525423728,0.8571428571428571,null,null,1.0714285714285714,0.91603053435114501,null,null,1.0909090909090908,0.93023255813953487,null,null,1.2,1.0344827586206897,null,null,null,null,1.0169491525423728,0.8571428571428571,1.4634146341463417,null,null,null,1.0909090909090908,0.93023255813953487,1.0657572205051691,null,null,null,1.1111111111111109,0.94488188976377963,1.0657572205051691,null,null,null,1.1320754716981132,0.97560975609756095,1.0990621336459554,null,null,null,1.1538461538461537,0.99173553719008267,1.0990621336459554,null,null,null,1.263157894736842,1.0909090909090908,1.0990621336459554,null,null,null,1.2903225806451613,1.1111111111111109,1.0990621336459554]
[2007,null,null,1.0169491525423728,0.8571428571428571,null,null,1.0714285714285714,0.91603053435114501,null,null,1.0909090909090908,0.93023255813953487,null,null,1.2,1.0344827586206897,null,null,null,null,1.0169491525423728,0.8571428571428571,1.4634146341463417,null,null,null,1.0909090909090908,0.93023255813953487,1.0657572205051691,null,null,null,1.1111111111111109,0.94488188976377963,1.0657572205051691,null,null,null,1.1320754716981132,0.97560975609756095,1.0990621336459554,null,null,null,1.1538461538461537,0.99173553719008267,1.0990621336459554,null,null,null,1.263157894736842,1.0909090909090908,1.0990621336459554,null,null,null,1.2903225806451613,1.1111111111111109,1.0990621336459554]
[2008,null,null,1.0169491525423728,0.8571428571428571,null,null,1.0714285714285714,0.91603053435114501,null,null,1.0909090909090908,0.93023255813953487,null,null,1.2,1.0344827586206897,null,null,null,null,1.0169491525423728,0.8571428571428571,1.4634146341463417,null,null,null,1.0909090909090908,0.93023255813953487,1.0657572205051691,null,null,null,1.1111111111111109,0.94488188976377963,1.0657572205051691,null,null,null,1.1320754716981132,0.97560975609756095,1.0990621336459554,null,null,null,1.1538461538461537,0.99173553719008267,1.0990621336459554,null,null,null,1.263157894736842,1.0909090909090908,1.0990621336459554,null,null,null,1.2903225806451613,1.1111111111111109,1.0990621336459554]
[2009,null,null,1.0169491525423728,0.8571428571428571,null,null,1.0714285714285714,0.91603053435114501,null,null,1.0909090909090908,0.93023255813953487,null,null,1.2,1.0344827586206897,null,null,null,null,1.0169491525423728,0.8571428571428571,1.4634146341463417,null,null,null,1.0909090909090908,0.93023255813953487,1.0657572205051691,null,null,null,1.1111111111111109,0.94488188976377963,1.0657572205051691,null,null,null,1.1320754716981132,0.97560975609756095,1.0990621336459554,null,null,null,1.1538461538461537,0.99173553719008267,1.0990621336459554,null,null,null,1.263157894736842,1.0909090909090908,1.0990621336459554,null,null,null,1.2903225806451613,1.1111111111111109,1.0990621336459554]
[2010,null,null,1.0169491525423728,0.8571428571428571,null,null,1.0714285714285714,0.91603053435114501,null,null,1.0909090909090908,0.93023255813953487,null,null,1.2,1.0344827586206897,null,null,null,null,1.0169491525423728,0.8571428571428571,1.4634146341463417,null,null,null,1.0909090909090908,0.93023255813953487,1.0657572205051691,null,null,null,1.1111111111111109,0.94488188976377963,1.0657572205051691,null,null,null,1.1320754716981132,0.97560975609756095,1.0990621336459554,null,null,null,1.1538461538461537,0.99173553719008267,1.0990621336459554,null,null,null,1.263157894736842,1.0909090909090908,1.0990621336459554,null,null,null,1.2903225806451613,1.1111111111111109,1.0990621336459554]
[2011,null,null,1.0169491525423728,0.8571428571428571,null,null,1.0714285714285714,0.91603053435114501,null,null,1.0909090909090908,0.93023255813953487,null,null,1.2,1.0344827586206897,null,null,null,null,1.0169491525423728,0.8571428571428571,1.4634146341463417,null,null,null,1.0909090909090908,0.93023255813953487,1.0657572205051691,null,null,null,1.1111111111111109,0.94488188976377963,1.0657572205051691,null,null,null,1.1320754716981132,0.97560975609756095,1.0990621336459554,null,null,null,1.1538461538461537,0.99173553719008267,1.0990621336459554,null,null,null,1.263157894736842,1.0909090909090908,1.0990621336459554,null,null,null,1.2903225806451613,1.1111111111111109,1.0990621336459554]
[2012,null,null,1.0169491525423728,0.8571428571428571,null,null,1.0714285714285714,0.91603053435114501,null,null,1.0909090909090908,0.93023255813953487,null,null,1.2,1.0344827586206897,null,null,null,null,1.0169491525423728,0.8571428571428571,1.4634146341463417,null,null,null,1.0909090909090908,0.93023255813953487,1.0657572205051691,null,null,null,1.1111111111111109,0.94488188976377963,1.0657572205051691,null,null,null,1.1320754716981132,0.97560975609756095,1.0990621336459554,null,null,null,1.1538461538461537,0.99173553719008267,1.0990621336459554,null,null,null,1.263157894736842,1.0909090909090908,1.0990621336459554,null,null,null,1.2903225806451613,1.1111111111111109,1.0990621336459554]
[2013,null,null,1.0169491525423728,0.8571428571428571,null,null,1.0714285714285714,0.91603053435114501,null,null,1.0909090909090908,0.93023255813953487,null,null,1.2,1.0344827586206897,null,null,null,null,1.0169491525423728,0.8571428571428571,1.4634146341463417,null,null,null,1.0909090909090908,0.93023255813953487,1.0657572205051691,null,null,null,1.1111111111111109,0.94488188976377963,1.0657572205051691,null,null,null,1.1320754716981132,0.97560975609756095,1.0990621336459554,null,null,null,1.1538461538461537,0.99173553719008267,1.0990621336459554,null,null,null,1.263157894736842,1.0909090909090908,1.0990621336459554,null,null,null,1.2903225806451613,1.1111111111111109,1.0990621336459554]
[2014,null,null,1.0169491525423728,0.8571428571428571,null,null,1.0714285714285714,0.91603053435114501,null,null,1.0909090909090908,0.93023255813953487,null,null,1.2,1.0344827586206897,null,null,null,null,1.0169491525423728,0.8571428571428571,1.4634146341463417,null,null,null,1.0909090909090908,0.93023255813953487,1.0657572205051691,null,null,null,1.1111111111111109,0.94488188976377963,1.0657572205051691,null,null,null,1.1320754716981132,0.97560975609756095,1.0990621336459554,null,null,null,1.1538461538461537,0.99173553719008267,1.0990621336459554,null,null,null,1.263157894736842,1.0909090909090908,1.0990621336459554,null,null,null,1.2903225806451613,1.1111111111111109,1.0990621336459554]
[2015,null,null,1.0169491525423728,0.8571428571428571,null,null,1.0714285714285714,0.91603053435114501,null,null,1.0909090909090908,0.93023255813953487,null,null,1.2,1.0344827586206897,null,null,null,null,1.0169491525423728,0.8571428571428571,1.4634146341463417,null,null,null,1.0909090909090908,0.93023255813953487,1.0657572205051691,null,null,null,1.1111111111111109,0.94488188976377963,1.0657572205051691,null,null,null,1.1320754716981132,0.97560975609756095,1.0990621336459554,null,null,null,1.1538461538461537,0.99173553719008267,1.0990621336459554,null,null,null,1.263157894736842,1.0909090909090908,1.0990621336459554,null,null,null,1.2903225806451613,1.1111111111111109,1.0990621336459554]
[2016,null,null,1.0169491525423728,0.8571428571428571,null,null,1.0714285714285714,0.91603053435114501,null,null,1.0909090909090908,0.93023255813953487,null,null,1.2,1.0344827586206897,null,null,null,null,1.0169491525423728,0.8571428571428571,1.4634146341463417,null,null,null,1.0909090909090908,0.93023255813953487,1.0657572205051691,null,null,null,1.1111111111111109,0.94488188976377963,1.0657572205051691,null,null,null,1.1320754716981132,0.97560975609756095,1.0990621336459554,null,null,null,1.1538461538461537,0.99173553719008267,1.0990621336459554,null,null,null,1.263157894736842,1.0909090909090908,1.0990621336459554,null,null,null,1.2903225806451613,1.1111111111111109,1.0990621336459554]
[2017,null,null,1.0169491525423728,0.8571428571428571,null,null,1.0714285714285714,0.91603053435114501,null,null,1.0909090909090908,0.93023255813953487,null,null,1.2,1.0344827586206897,null,null,null,null,1.0169491525423728,0.8571428571428571,1.4634146341463417,null,null,null,1.0909090909090908,0.93023255813953487,1.0657572205051691,null,null,null,1.1111111111111109,0.94488188976377963,1.0657572205051691,null,null,null,1.1320754716981132,0.97560975609756095,1.0990621336459554,null,null,null,1.1538461538461537,0.99173553719008267,1.0990621336459554,null,null,null,1.263157894736842,1.0909090909090908,1.0990621336459554,null,null,null,1.2903225806451613,1.1111111111111109,1.0990621336459554]
[2018,null,null,1.0169491525423728,0.8571428571428571,null,null,1.0714285714285714,0.91603053435114501,null,null,1.0909090909090908,0.93023255813953487,null,null,1.2,1.0344827586206897,null,null,null,null,1.0169491525423728,0.8571428571428571,1.4634146341463417,null,null,null,1.0909090909090908,0.93023255813953487,1.0657572205051691,null,null,null,1.1111111111111109,0.94488188976377963,1.0657572205051691,null,null,null,1.1320754716981132,0.97560975609756095,1.0990621336459554,null,null,null,1.1538461538461537,0.99173553719008267,1.0990621336459554,null,null,null,1.263157894736842,1.0909090909090908,1.0990621336459554,null,null,null,1.2903225806451613,1.1111111111111109,1.0990621336459554]
[2019,null,null,1.0169491525423728,0.8571428571428571,null,null,1.0714285714285714,0.91603053435114501,null,null,1.0909090909090908,0.93023255813953487,null,null,1.2,1.0344827586206897,null,null,null,null,1.0169491525423728,0.8571428571428571,1.4634146341463417,null,null,null,1.0909090909090908,0.93023255813953487,1.0657572205051691,null,null,null,1.1111111111111109,0.94488188976377963,1.0657572205051691,null,null,null,1.1320754716981132,0.97560975609756095,1.0990621336459554,null,null,null,1.1538461538461537,0.99173553719008267,1.0990621336459554,null,null,null,1.263157894736842,1.0909090909090908,1.0990621336459554,null,null,null,1.2903225806451613,1.1111111111111109,1.0990621336459554]
[2020,null,null,1.0169491525423728,0.8571428571428571,null,null,1.0714285714285714,0.91603053435114501,null,null,1.0909090909090908,0.93023255813953487,null,null,1.2,1.0344827586206897,null,null,null,null,1.0169491525423728,0.8571428571428571,1.4634146341463417,null,null,null,1.0909090909090908,0.93023255813953487,1.0657572205051691,null,null,null,1.1111111111111109,0.94488188976377963,1.0657572205051691,null,null,null,1.1320754716981132,0.97560975609756095,1.0990621336459554,null,null,null,1.1538461538461537,0.99173553719008267,1.0990621336459554,null,null,null,1.263157894736842,1.0909090909090908,1.0990621336459554,null,null,null,1.2903225806451613,1.1111111111111109,1.0990621336459554]
[2021,null,null,{"$f":"D$37","v":1.0169491525423728},0.8571428571428571,null,null,{"$f":"H$37","v":1.0714285714285714},0.91603053435114501,null,null,{"$f":"L$37","v":1.0909090909090908},0.93023255813953487,null,null,{"$f":"P$37","v":1.2},1.0344827586206897,null,null,null,null,1.0169491525423728,0.8571428571428571,1.4634146341463417,null,null,null,1.0909090909090908,0.93023255813953487,1.0657572205051691,null,null,null,1.1111111111111109,0.94488188976377963,1.0657572205051691,null,null,null,1.1320754716981132,0.97560975609756095,1.0990621336459554,null,null,null,1.1538461538461537,0.99173553719008267,1.0990621336459554,null,null,null,1.263157894736842,1.0909090909090908,1.0990621336459554,null,null,null,1.2903225806451613,1.1111111111111109,1.0990621336459554]
[2022,null,null,1.0169491525423728,0.8571428571428571,null,null,1.0714285714285714,0.91603053435114501,null,null,1.0909090909090908,0.93023255813953487,null,null,1.2,1.0344827586206897,null,null,null,null,1.0169491525423728,0.8571428571428571,1.4634146341463417,null,null,null,1.0909090909090908,0.93023255813953487,1.0657572205051691,null,null,null,1.1111111111111109,0.94488188976377963,1.0657572205051691,null,null,null,1.1320754716981132,0.97560975609756095,1.0990621336459554,null,null,null,1.1538461538461537,0.99173553719008267,1.0990621336459554,null,null,null,1.263157894736842,1.0909090909090908,1.0990621336459554,null,null,null,1.2903225806451613,1.1111111111111109,1.0990621336459554]
[2023,null,null,1.0169491525423728,0.8571428571428571,null,null,1.0714285714285714,0.91603053435114501,null,null,1.0909090909090908,0.93023255813953487,null,null,1.2,1.0344827586206897,null,null,null,null,1.0169491525423728,0.8571428571428571,1.4634146341463417,null,null,null,1.0909090909090908,0.93023255813953487,1.0657572205051691,null,null,null,1.1111111111111109,0.94488188976377963,1.0657572205051691,null,null,null,1.1320754716981132,0.97560975609756095,1.0990621336459554,null,null,null,1.1538461538461537,0.99173553719008267,1.0990621336459554,null,null,null,1.263157894736842,1.0909090909090908,1.0990621336459554,null,null,null,1.2903225806451613,1.1111111111111109,1.0990621336459554]
["ARTRM9.2",11.8,14,{"$f":"12/B36","v":1.0169491525423728},{"$f":"12/C36","v":0.8571428571428571},11.2,13.1,{"$f":"12/F36","v":1.0714285714285714},{"$f":"12/G36","v":0.91603053435114501},11,12.9,{"$f":"12/J36","v":1.0909090909090908},{"$f":"12/K36","v":0.93023255813953487},10,11.6,{"$f":"12/N36","v":1.2},{"$f":"12/O36","v":1.0344827586206897},null,11.8,14,8.1999999999999993,{"$f":"12/S36","v":1.0169491525423728},{"$f":"12/T36","v":0.8571428571428571},{"$f":"12/U36","v":1.4634146341463417},11,12.9,3.3,{"$f":"12/Y36","v":1.0909090909090908},{"$f":"12/Z36","v":0.93023255813953487},{"$f":"12/3.412/AA36","v":1.0657572205051691},10.8,12.7,3.3,{"$f":"12/AE36","v":1.1111111111111109},{"$f":"12/AF36","v":0.94488188976377963},{"$f":"12/3.412/AG36","v":1.0657572205051691},10.6,12.3,3.2,{"$f":"12/AK36","v":1.1320754716981132},{"$f":"12/AL36","v":0.97560975609756095},{"$f":"12/3.412/AM36","v":1.0990621336459554},10.4,12.1,3.2,{"$f":"12/AQ36","v":1.1538461538461537},{"$f":"12/AR36","v":0.99173553719008267},{"$f":"12/3.412/AS36","v":1.0990621336459554},9.5,11,3.2,{"$f":"12/AW36","v":1.263157894736842},{"$f":"12/AX36","v":1.0909090909090908},{"$f":"12/3.412/AY36","v":1.0990621336459554},9.3000000000000007,10.8,3.2,{"$f":"12/BC36","v":1.2903225806451613},{"$f":"12/BD36","v":1.1111111111111109},{"$f":"12/3.412/BE36","v":1.0990621336459554}]
["CPS",11.8,14,{"$f":"12/B37","v":1.0169491525423728},{"$f":"12/C37","v":0.8571428571428571},11.2,13.1,{"$f":"12/F37","v":1.0714285714285714},{"$f":"12/G37","v":0.91603053435114501},11,12.9,{"$f":"12/J37","v":1.0909090909090908},{"$f":"12/K37","v":0.93023255813953487},10,11.6,{"$f":"12/N37","v":1.2},{"$f":"12/O37","v":1.0344827586206897},null,11.8,14,8.1999999999999993,{"$f":"12/S37","v":1.0169491525423728},{"$f":"12/T37","v":0.8571428571428571},1.4634146341463417,11,12.9,3.3,{"$f":"12/Y37","v":1.0909090909090908},{"$f":"12/Z37","v":0.93023255813953487},{"$f":"12/3.412/AA37","v":1.0657572205051691},10.8,12.7,3.3,{"$f":"12/AE37","v":1.1111111111111109},{"$f":"12/AF37","v":0.94488188976377963},{"$f":"12/3.412/AG37","v":1.0657572205051691},10.6,12.3,3.2,{"$f":"12/AK37","v":1.1320754716981132},{"$f":"12/AL37","v":0.97560975609756095},{"$f":"12/3.412/AM37","v":1.0990621336459554},10.4,12.1,3.2,{"$f":"12/AQ37","v":1.1538461538461537},{"$f":"12/AR37","v":0.99173553719008267},{"$f":"12/3.412/AS37","v":1.0990621336459554},9.5,11,3.2,{"$f":"12/AW37","v":1.263157894736842},{"$f":"12/AX37","v":1.0909090909090908},{"$f":"12/3.412/AY37","v":1.0990621336459554},9.3000000000000007,10.8,3.2,{"$f":"12/BC37","v":1.2903225806451613},{"$f":"12/BD37","v":1.1111111111111109},{"$f":"12/3.412/BE37","v":1.0990621336459554}]

{"sheet":"Chiller","index":11,"n_rows":37,"n_cols":74,"rows_kept":37,"cut":false,"hidden":true,"merged":[]}
[null,"AirCooledChiller",null,null,null,"AirCooledChiller",null,null,null,"AirCooledChiller",null,null,null,"AirCooledChiller",null,null,null,"AirCooledChiller",null,null,null,"AirCooledChiller",null,null,null,"AirCooledChiller",null,null,null,"AirCooledChiller",null,null,null,"WaterCooledChiller",null,"WaterCooledChiller",null,"WaterCooledChiller",null,"WaterCooledChiller",null,"WaterCooledChiller",null,"WaterCooledChiller",null,"WaterCooledChiller",null,"WaterCooledChiller",null,"WaterCooledChiller",null,"WaterCooledChiller",null,"WaterCooledChiller",null,"WaterCooledChiller",null,"WaterCooledChiller",null,"WaterCooledChiller",null,"WaterCooledChiller",null,"WaterCooledChiller",null,"WaterCooledChiller",null,"WaterCooledChiller",null,"WaterCooledChiller",null,"WaterCooledChiller"]
[null,"Centrifugal",null,null,null,"Centrifugal",null,null,null,"Centrifugal",null,null,null,"Centrifugal",null,null,null,"ScrewScrollReciprocating",null,null,null,"ScrewScrollReciprocating",null,null,null,"ScrewScrollReciprocating",null,null,null,"ScrewScrollReciprocating",null,null,null,"ScrewScrollReciprocating",null,"ScrewScrollReciprocating",null,"ScrewScrollReciprocating",null,"ScrewScrollReciprocating",null,"ScrewScrollReciprocating",null,"ScrewScrollReciprocating",null,"ScrewScrollReciprocating",null,"ScrewScrollReciprocating",null,"ScrewScrollReciprocating",null,"ScrewScrollReciprocating",null,"Centrifugal",null,"Centrifugal",null,"Centrifugal",null,"Centrifugal",null,"Centrifugal",null,"Centrifugal",null,"Centrifugal",null,"Centrifugal",null,"Centrifugal",null,"Centrifugal"]
[null,"A",null,null,null,"B",null,null,null,"A",null,null,null,"B",null,null,null,"A",null,null,null,"B",null,null,null,"A",null,null,null,"B",null,null,null,"A",null,"B",null,"A",null,"B",null,"A",null,"B",null,"A",null,"B",null,"A",null,"B",null,"A",null,"B",null,"A",null,"B",null,"A",null,"B",null,"A",null,"B",null,"A",null,"B"]
[null,"Lessthan150tons",null,null,null,"Lessthan150tons",null,null,null,"Greaterthan150tons",null,null,null,"Greaterthan150tons",null,null,null,"Lessthan150tons",null,null,null,"Lessthan150tons",null,null,null,"Greaterthan150tons",null,null,null,"Greaterthan150tons",null,null,null,"Lessthan75tons",null,"Lessthan75tons",null,"75to150tons",null,"75to150tons",null,"150to300tons",null,"150to300tons",null,"300to600tons",null,"300to600tons",null,"Greaterthan600tons",null,"Greaterthan600tons",null,"Lessthan150tons",null,"Lessthan150tons",null,"150to300tons",null,"150to300tons",null,"300to400tons",null,"300to400tons",null,"400to600tons",null,"400to600tons",null,"Greaterthan600tons",null,"Greaterthan600tons"]
[null,{"$f":"B1&B2&B3&B4","v":"AirCooledChillerCentrifugalALessthan150tons"},null,null,null,{"$f":"F1&F2&F3&F4","v":"AirCooledChillerCentrifugalBLessthan150tons"},null,null,null,{"$f":"J1&J2&J3&J4","v":"AirCooledChillerCentrifugalAGreaterthan150tons"},null,null,null,{"$f":"N1&N2&N3&N4","v":"AirCooledChillerCentrifugalBGreaterthan150tons"},null,null,null,{"$f":"R1&R2&R3&R4","v":"AirCooledChillerScrewScrollReciprocatingALessthan150tons"},null,null,null,{"$f":"V1&V2&V3&V4","v":"AirCooledChillerScrewScrollReciprocatingBLessthan150tons"},null,null,null,{"$f":"Z1&Z2&Z3&Z4","v":"AirCooledChillerScrewScrollReciprocatingAGreaterthan150tons"},null,null,null,{"$f":"AD1&AD2&AD3&AD4","v":"AirCooledChillerScrewScrollReciprocatingBGreaterthan150tons"},null,null,null,{"$f":"AH1&AH2&AH3&AH4","v":"WaterCooledChillerScrewScrollReciprocatingALessthan75tons"},null,{"$f":"AJ1&AJ2&AJ3&AJ4","v":"WaterCooledChillerScrewScrollReciprocatingBLessthan75tons"},null,{"$f":"AL1&AL2&AL3&AL4","v":"WaterCooledChillerScrewScrollReciprocatingA75to150tons"},null,{"$f":"AN1&AN2&AN3&AN4","v":"WaterCooledChillerScrewScrollReciprocatingB75to150tons"},null,{"$f":"AP1&AP2&AP3&AP4","v":"WaterCooledChillerScrewScrollReciprocatingA150to300tons"},null,{"$f":"AR1&AR2&AR3&AR4","v":"WaterCooledChillerScrewScrollReciprocatingB150to300tons"},null,{"$f":"AT1&AT2&AT3&AT4","v":"WaterCooledChillerScrewScrollReciprocatingA300to600tons"},null,{"$f":"AV1&AV2&AV3&AV4","v":"WaterCooledChillerScrewScrollReciprocatingB300to600tons"},null,{"$f":"AX1&AX2&AX3&AX4","v":"WaterCooledChillerScrewScrollReciprocatingAGreaterthan600tons"},null,{"$f":"AZ1&AZ2&AZ3&AZ4","v":"WaterCooledChillerScrewScrollReciprocatingBGreaterthan600tons"},null,{"$f":"BB1&BB2&BB3&BB4","v":"WaterCooledChillerCentrifugalALessthan150tons"},null,{"$f":"BD1&BD2&BD3&BD4","v":"WaterCooledChillerCentrifugalBLessthan150tons"},null,{"$f":"BF1&BF2&BF3&BF4","v":"WaterCooledChillerCentrifugalA150to300tons"},null,{"$f":"BH1&BH2&BH3&BH4","v":"WaterCooledChillerCentrifugalB150to300tons"},null,{"$f":"BJ1&BJ2&BJ3&BJ4","v":"WaterCooledChillerCentrifugalA300to400tons"},null,{"$f":"BL1&BL2&BL3&BL4","v":"WaterCooledChillerCentrifugalB300to400tons"},null,{"$f":"BN1&BN2&BN3&BN4","v":"WaterCooledChillerCentrifugalA400to600tons"},null,{"$f":"BP1&BP2&BP3&BP4","v":"WaterCooledChillerCentrifugalB400to600tons"},null,{"$f":"BR1&BR2&BR3&BR4","v":"WaterCooledChillerCentrifugalAGreaterthan600tons"},null,{"$f":"BT1&BT2&BT3&BT4","v":"WaterCooledChillerCentrifugalBGreaterthan600tons"}]
[null,"Full","IPLV","Full","Part","Full","IPLV","Full","Part","Full","IPLV","Full","Part","Full","IPLV","Full","Part","Full","IPLV","Full","Part","Full","IPLV","Full","Part","Full","IPLV","Full","Part","Full","IPLV","Full","Part","Full","Part","Full","Part","Full","Part","Full","Part","Full","Part","Full","Part","Full","Part","Full","Part","Full","Part","Full","Part","Full","Part","Full","Part","Full","Part","Full","Part","Full","Part","Full","Part","Full","Part","Full","Part","Full","Part","Full","Part"]
[{"$f":"BaselineRow","v":1995},9.2119999999999997,9.5540000000000003,{"$f":"12/B7","v":1.302648719062093},{"$f":"12/C7","v":1.2560184216035168},9.2119999999999997,9.5540000000000003,{"$f":"12/F7","v":1.302648719062093},{"$f":"12/G7","v":1.2560184216035168},8.5299999999999994,8.5299999999999994,{"$f":"12/J7","v":1.4067995310668231},{"$f":"12/K7","v":1.4067995310668231},8.5299999999999994,8.5299999999999994,{"$f":"12/N7","v":1.4067995310668231},{"$f":"12/O7","v":1.4067995310668231},9.2119999999999997,9.5540000000000003,{"$f":"12/R7","v":1.302648719062093},{"$f":"12/S7","v":1.2560184216035168},9.2119999999999997,9.5540000000000003,{"$f":"12/V7","v":1.302648719062093},{"$f":"12/W7","v":1.2560184216035168},8.5299999999999994,8.5299999999999994,{"$f":"12/Z7","v":1.4067995310668231},{"$f":"12/AA7","v":1.4067995310668231},8.5299999999999994,8.5299999999999994,{"$f":"12/AD7","v":1.4067995310668231},{"$f":"12/AE7","v":1.4067995310668231},0.92500000000000004,0.90200000000000002,0.92500000000000004,0.90200000000000002,0.92500000000000004,0.90200000000000002,0.92500000000000004,0.90200000000000002,0.83699999999999997,0.78100000000000003,0.83699999999999997,0.78100000000000003,0.748,0.73299999999999998,0.748,0.73299999999999998,0.748,0.73299999999999998,0.748,0.73299999999999998,0.92500000000000004,0.90200000000000002,0.92500000000000004,0.90200000000000002,0.83699999999999997,0.78100000000000003,0.83699999999999997,0.78100000000000003,0.748,0.73299999999999998,0.748,0.73299999999999998,0.748,0.73299999999999998,0.748,0.73299999999999998,0.748,0.73299999999999998,0.748,0.73299999999999998,"ASHRAE 90.1--1989 (as of Jan. 1, 1992) "]
[1996,9.2119999999999997,9.5540000000000003,1.302648719062093,1.2560184216035168,9.2119999999999997,9.5540000000000003,1.302648719062093,1.2560184216035168,8.5299999999999994,8.5299999999999994,1.4067995310668231,1.4067995310668231,8.5299999999999994,8.5299999999999994,1.4067995310668231,1.4067995310668231,9.2119999999999997,9.5540000000000003,1.302648719062093,1.2560184216035168,9.2119999999999997,9.5540000000000003,1.302648719062093,1.2560184216035168,8.5299999999999994,8.5299999999999994,1.4067995310668231,1.4067995310668231,8.5299999999999994,8.5299999999999994,1.4067995310668231,1.4067995310668231,0.92500000000000004,0.90200000000000002,0.92500000000000004,0.90200000000000002,0.92500000000000004,0.90200000000000002,0.92500000000000004,0.90200000000000002,0.83699999999999997,0.78100000000000003,0.83699999999999997,0.78100000000000003,0.748,0.73299999999999998,0.748,0.73299999999999998,0.748,0.73299999999999998,0.748,0.73299999999999998,0.92500000000000004,0.90200000000000002,0.92500000000000004,0.90200000000000002,0.83699999999999997,0.78100000000000003,0.83699999999999997,0.78100000000000003,0.748,0.73299999999999998,0.748,0.73299999999999998,0.748,0.73299999999999998,0.748,0.73299999999999998,0.748,0.73299999999999998,0.748,0.73299999999999998,"ASHRAE 90.1--1989 (as of Jan. 1, 1992) "]
[1997,9.2119999999999997,9.5540000000000003,1.302648719062093,1.2560184216035168,9.2119999999999997,9.5540000000000003,1.302648719062093,1.2560184216035168,8.5299999999999994,8.5299999999999994,1.4067995310668231,1.4067995310668231,8.5299999999999994,8.5299999999999994,1.4067995310668231,1.4067995310668231,9.2119999999999997,9.5540000000000003,1.302648719062093,1.2560184216035168,9.2119999999999997,9.5540000000000003,1.302648719062093,1.2560184216035168,8.5299999999999994,8.5299999999999994,1.4067995310668231,1.4067995310668231,8.5299999999999994,8.5299999999999994,1.4067995310668231,1.4067995310668231,0.92500000000000004,0.90200000000000002,0.92500000000000004,0.90200000000000002,0.92500000000000004,0.90200000000000002,0.92500000000000004,0.90200000000000002,0.83699999999999997,0.78100000000000003,0.83699999999999997,0.78100000000000003,0.748,0.73299999999999998,0.748,0.73299999999999998,0.748,0.73299999999999998,0.748,0.73299999999999998,0.92500000000000004,0.90200000000000002,0.92500000000000004,0.90200000000000002,0.83699999999999997,0.78100000000000003,0.83699999999999997,0.78100000000000003,0.748,0.73299999999999998,0.748,0.73299999999999998,0.748,0.73299999999999998,0.748,0.73299999999999998,0.748,0.73299999999999998,0.748,0.73299999999999998,"ASHRAE 90.1--1989 (as of Jan. 1, 1992) "]
[1998,9.2119999999999997,9.5540000000000003,1.302648719062093,1.2560184216035168,9.2119999999999997,9.5540000000000003,1.302648719062093,1.2560184216035168,8.5299999999999994,8.5299999999999994,1.4067995310668231,1.4067995310668231,8.5299999999999994,8.5299999999999994,1.4067995310668231,1.4067995310668231,9.2119999999999997,9.5540000000000003,1.302648719062093,1.2560184216035168,9.2119999999999997,9.5540000000000003,1.302648719062093,1.2560184216035168,8.5299999999999994,8.5299999999999994,1.4067995310668231,1.4067995310668231,8.5299999999999994,8.5299999999999994,1.4067995310668231,1.4067995310668231,0.92500000000000004,0.90200000000000002,0.92500000000000004,0.90200000000000002,0.92500000000000004,0.90200000000000002,0.92500000000000004,0.90200000000000002,0.83699999999999997,0.78100000000000003,0.83699999999999997,0.78100000000000003,0.748,0.73299999999999998,0.748,0.73299999999999998,0.748,0.73299999999999998,0.748,0.73299999999999998,0.92500000000000004,0.90200000000000002,0.92500000000000004,0.90200000000000002,0.83699999999999997,0.78100000000000003,0.83699999999999997,0.78100000000000003,0.748,0.73299999999999998,0.748,0.73299999999999998,0.748,0.73299999999999998,0.748,0.73299999999999998,0.748,0.73299999999999998,0.748,0.73299999999999998,"ASHRAE 90.1--1989 (as of Jan. 1, 1992) "]
[1999,9.2119999999999997,9.5540000000000003,1.302648719062093,1.2560184216035168,9.2119999999999997,9.5540000000000003,1.302648719062093,1.2560184216035168,8.5299999999999994,8.5299999999999994,1.4067995310668231,1.4067995310668231,8.5299999999999994,8.5299999999999994,1.4067995310668231,1.4067995310668231,9.2119999999999997,9.5540000000000003,1.302648719062093,1.2560184216035168,9.2119999999999997,9.5540000000000003,1.302648719062093,1.2560184216035168,8.5299999999999994,8.5299999999999994,1.4067995310668231,1.4067995310668231,8.5299999999999994,8.5299999999999994,1.4067995310668231,1.4067995310668231,0.92500000000000004,0.90200000000000002,0.92500000000000004,0.90200000000000002,0.92500000000000004,0.90200000000000002,0.92500000000000004,0.90200000000000002,0.83699999999999997,0.78100000000000003,0.83699999999999997,0.78100000000000003,0.748,0.73299999999999998,0.748,0.73299999999999998,0.748,0.73299999999999998,0.748,0.73299999999999998,0.92500000000000004,0.90200000000000002,0.92500000000000004,0.90200000000000002,0.83699999999999997,0.78100000000000003,0.83699999999999997,0.78100000000000003,0.748,0.73299999999999998,0.748,0.73299999999999998,0.748,0.73299999999999998,0.748,0.73299999999999998,0.748,0.73299999999999998,0.748,0.73299999999999998,"ASHRAE 90.1--1999"]
[2000,9.2119999999999997,9.5540000000000003,1.302648719062093,1.2560184216035168,9.2119999999999997,9.5540000000000003,1.302648719062093,1.2560184216035168,8.5299999999999994,8.5299999999999994,1.4067995310668231,1.4067995310668231,8.5299999999999994,8.5299999999999994,1.4067995310668231,1.4067995310668231,9.2119999999999997,9.5540000000000003,1.302648719062093,1.2560184216035168,9.2119999999999997,9.5540000000000003,1.302648719062093,1.2560184216035168,8.5299999999999994,8.5299999999999994,1.4067995310668231,1.4067995310668231,8.5299999999999994,8.5299999999999994,1.4067995310668231,1.4067995310668231,0.92500000000000004,0.90200000000000002,0.92500000000000004,0.90200000000000002,0.92500000000000004,0.90200000000000002,0.92500000000000004,0.90200000000000002,0.83699999999999997,0.78100000000000003,0.83699999999999997,0.78100000000000003,0.748,0.73299999999999998,0.748,0.73299999999999998,0.748,0.73299999999999998,0.748,0.73299999999999998,0.92500000000000004,0.90200000000000002,0.92500000000000004,0.90200000000000002,0.83699999999999997,0.78100000000000003,0.83699999999999997,0.78100000000000003,0.748,0.73299999999999998,0.748,0.73299999999999998,0.748,0.73299999999999998,0.748,0.73299999999999998,0.748,0.73299999999999998,0.748,0.73299999999999998,"ASHRAE 90.1--1999"]
[2001,9.2119999999999997,9.5540000000000003,1.302648719062093,1.2560184216035168,9.2119999999999997,9.5540000000000003,1.302648719062093,1.2560184216035168,8.5299999999999994,8.5299999999999994,1.4067995310668231,1.4067995310668231,8.5299999999999994,8.5299999999999994,1.4067995310668231,1.4067995310668231,9.2119999999999997,9.5540000000000003,1.302648719062093,1.2560184216035168,9.2119999999999997,9.5540000000000003,1.302648719062093,1.2560184216035168,8.5299999999999994,8.5299999999999994,1.4067995310668231,1.4067995310668231,8.5299999999999994,8.5299999999999994,1.4067995310668231,1.4067995310668231,0.92500000000000004,0.90200000000000002,0.92500000000000004,0.90200000000000002,0.92500000000000004,0.90200000000000002,0.92500000000000004,0.90200000000000002,0.83699999999999997,0.78100000000000003,0.83699999999999997,0.78100000000000003,0.748,0.73299999999999998,0.748,0.73299999999999998,0.748,0.73299999999999998,0.748,0.73299999999999998,0.92500000000000004,0.90200000000000002,0.92500000000000004,0.90200000000000002,0.83699999999999997,0.78100000000000003,0.83699999999999997,0.78100000000000003,0.748,0.73299999999999998,0.748,0.73299999999999998,0.748,0.73299999999999998,0.748,0.73299999999999998,0.748,0.73299999999999998,0.748,0.73299999999999998,"ASHRAE 90.1--1999 "]
[2002,9.5619999999999994,10.416,1.2549675800041833,1.1520737327188939,9.5619999999999994,10.416,1.2549675800041833,1.1520737327188939,9.5619999999999994,10.416,1.2549675800041833,1.1520737327188939,9.5619999999999994,10.416,1.2549675800041833,1.1520737327188939,9.5619999999999994,10.416,1.2549675800041833,1.1520737327188939,9.5619999999999994,10.416,1.2549675800041833,1.1520737327188939,9.5619999999999994,10.416,1.2549675800041833,1.1520737327188939,9.5619999999999994,10.416,1.2549675800041833,1.1520737327188939,0.79,0.67600000000000005,0.79,0.67600000000000005,0.79,0.67600000000000005,0.79,0.67600000000000005,0.71799999999999997,0.628,0.71799999999999997,0.628,0.63900000000000001,0.57199999999999995,0.63900000000000001,0.57199999999999995,0.63900000000000001,0.57199999999999995,0.63900000000000001,0.57199999999999995,0.70299999999999996,0.67,0.70299999999999996,0.67,0.63400000000000001,0.59599999999999997,0.63400000000000001,0.59599999999999997,0.57599999999999996,0.54900000000000004,0.57599999999999996,0.54900000000000004,0.57599999999999996,0.54900000000000004,0.57599999999999996,0.54900000000000004,0.57599999999999996,0.54900000000000004,0.57599999999999996,0.54900000000000004,"ASHRAE 90.1--1999 (as of 10/29/2001)"]
[2003,9.5619999999999994,10.416,1.2549675800041833,1.1520737327188939,9.5619999999999994,10.416,1.2549675800041833,1.1520737327188939,9.5619999999999994,10.416,1.2549675800041833,1.1520737327188939,9.5619999999999994,10.416,1.2549675800041833,1.1520737327188939,9.5619999999999994,10.416,1.2549675800041833,1.1520737327188939,9.5619999999999994,10.416,1.2549675800041833,1.1520737327188939,9.5619999999999994,10.416,1.2549675800041833,1.1520737327188939,9.5619999999999994,10.416,1.2549675800041833,1.1520737327188939,0.79,0.67600000000000005,0.79,0.67600000000000005,0.79,0.67600000000000005,0.79,0.67600000000000005,0.71799999999999997,0.628,0.71799999999999997,0.628,0.63900000000000001,0.57199999999999995,0.63900000000000001,0.57199999999999995,0.63900000000000001,0.57199999999999995,0.63900000000000001,0.57199999999999995,0.70299999999999996,0.67,0.70299999999999996,0.67,0.63400000000000001,0.59599999999999997,0.63400000000000001,0.59599999999999997,0.57599999999999996,0.54900000000000004,0.57599999999999996,0.54900000000000004,0.57599999999999996,0.54900000000000004,0.57599999999999996,0.54900000000000004,0.57599999999999996,0.54900000000000004,0.57599999999999996,0.54900000000000004,"ASHRAE 90.1--1999 (as of 10/29/2001)"]
[2004,9.5619999999999994,10.416,1.2549675800041833,1.1520737327188939,9.5619999999999994,10.416,1.2549675800041833,1.1520737327188939,9.5619999999999994,10.416,1.2549675800041833,1.1520737327188939,9.5619999999999994,10.416,1.2549675800041833,1.1520737327188939,9.5619999999999994,10.416,1.2549675800041833,1.1520737327188939,9.5619999999999994,10.416,1.2549675800041833,1.1520737327188939,9.5619999999999994,10.416,1.2549675800041833,1.1520737327188939,9.5619999999999994,10.416,1.2549675800041833,1.1520737327188939,0.79,0.67600000000000005,0.79,0.67600000000000005,0.79,0.67600000000000005,0.79,0.67600000000000005,0.71799999999999997,0.628,0.71799999999999997,0.628,0.63900000000000001,0.57199999999999995,0.63900000000000001,0.57199999999999995,0.63900000000000001,0.57199999999999995,0.63900000000000001,0.57199999999999995,0.70299999999999996,0.67,0.70299999999999996,0.67,0.63400000000000001,0.59599999999999997,0.63400000000000001,0.59599999999999997,0.57599999999999996,0.54900000000000004,0.57599999999999996,0.54900000000000004,0.57599999999999996,0.54900000000000004,0.57599999999999996,0.54900000000000004,0.57599999999999996,0.54900000000000004,0.57599999999999996,0.54900000000000004,"ASHRAE 90.1--2004"]
[2005,9.5619999999999994,10.416,1.2549675800041833,1.1520737327188939,9.5619999999999994,10.416,1.2549675800041833,1.1520737327188939,9.5619999999999994,10.416,1.2549675800041833,1.1520737327188939,9.5619999999999994,10.416,1.2549675800041833,1.1520737327188939,9.5619999999999994,10.416,1.2549675800041833,1.1520737327188939,9.5619999999999994,10.416,1.2549675800041833,1.1520737327188939,9.5619999999999994,10.416,1.2549675800041833,1.1520737327188939,9.5619999999999994,10.416,1.2549675800041833,1.1520737327188939,0.79,0.67600000000000005,0.79,0.67600000000000005,0.79,0.67600000000000005,0.79,0.67600000000000005,0.71799999999999997,0.628,0.71799999999999997,0.628,0.63900000000000001,0.57199999999999995,0.63900000000000001,0.57199999999999995,0.63900000000000001,0.57199999999999995,0.63900000000000001,0.57199999999999995,0.70299999999999996,0.67,0.70299999999999996,0.67,0.63400000000000001,0.59599999999999997,0.63400000000000001,0.59599999999999997,0.57599999999999996,0.54900000000000004,0.57599999999999996,0.54900000000000004,0.57599999999999996,0.54900000000000004,0.57599999999999996,0.54900000000000004,0.57599999999999996,0.54900000000000004,0.57599999999999996,0.54900000000000004,"ASHRAE 90.1--2004"]
[2006,9.5619999999999994,10.416,1.2549675800041833,1.1520737327188939,9.5619999999999994,10.416,1.2549675800041833,1.1520737327188939,9.5619999999999994,10.416,1.2549675800041833,1.1520737327188939,9.5619999999999994,10.416,1.2549675800041833,1.1520737327188939,9.5619999999999994,10.416,1.2549675800041833,1.1520737327188939,9.5619999999999994,10.416,1.2549675800041833,1.1520737327188939,9.5619999999999994,10.416,1.2549675800041833,1.1520737327188939,9.5619999999999994,10.416,1.2549675800041833,1.1520737327188939,0.79,0.67600000000000005,0.79,0.67600000000000005,0.79,0.67600000000000005,0.79,0.67600000000000005,0.71799999999999997,0.628,0.71799999999999997,0.628,0.63900000000000001,0.57199999999999995,0.63900000000000001,0.57199999999999995,0.63900000000000001,0.57199999999999995,0.63900000000000001,0.57199999999999995,0.70299999999999996,0.67,0.70299999999999996,0.67,0.63400000000000001,0.59599999999999997,0.63400000000000001,0.59599999999999997,0.57599999999999996,0.54900000000000004,0.57599999999999996,0.54900000000000004,0.57599999999999996,0.54900000000000004,0.57599999999999996,0.54900000000000004,0.57599999999999996,0.54900000000000004,0.57599999999999996,0.54900000000000004,"Federal Standard/ASHRAE 90.1--2004"]
[2007,9.5619999999999994,10.416,1.2549675800041833,1.1520737327188939,9.5619999999999994,10.416,1.2549675800041833,1.1520737327188939,9.5619999999999994,10.416,1.2549675800041833,1.1520737327188939,9.5619999999999994,10.416,1.2549675800041833,1.1520737327188939,9.5619999999999994,10.416,1.2549675800041833,1.1520737327188939,9.5619999999999994,10.416,1.2549675800041833,1.1520737327188939,9.5619999999999994,10.416,1.2549675800041833,1.1520737327188939,9.5619999999999994,10.416,1.2549675800041833,1.1520737327188939,0.79,0.67600000000000005,0.79,0.67600000000000005,0.79,0.67600000000000005,0.79,0.67600000000000005,0.71799999999999997,0.628,0.71799999999999997,0.628,0.63900000000000001,0.57199999999999995,0.63900000000000001,0.57199999999999995,0.63900000000000001,0.57199999999999995,0.63900000000000001,0.57199999999999995,0.70299999999999996,0.67,0.70299999999999996,0.67,0.63400000000000001,0.59599999999999997,0.63400000000000001,0.59599999999999997,0.57599999999999996,0.54900000000000004,0.57599999999999996,0.54900000000000004,0.57599999999999996,0.54900000000000004,0.57599999999999996,0.54900000000000004,0.57599999999999996,0.54900000000000004,0.57599999999999996,0.54900000000000004,"Federal Standard/ASHRAE 90.1-2007 "]
[2008,9.5619999999999994,10.416,1.2549675800041833,1.1520737327188939,9.5619999999999994,10.416,1.2549675800041833,1.1520737327188939,9.5619999999999994,10.416,1.2549675800041833,1.1520737327188939,9.5619999999999994,10.416,1.2549675800041833,1.1520737327188939,9.5619999999999994,10.416,1.2549675800041833,1.1520737327188939,9.5619999999999994,10.416,1.2549675800041833,1.1520737327188939,9.5619999999999994,10.416,1.2549675800041833,1.1520737327188939,9.5619999999999994,10.416,1.2549675800041833,1.1520737327188939,0.79,0.67600000000000005,0.79,0.67600000000000005,0.79,0.67600000000000005,0.79,0.67600000000000005,0.71799999999999997,0.628,0.71799999999999997,0.628,0.63900000000000001,0.57199999999999995,0.63900000000000001,0.57199999999999995,0.63900000000000001,0.57199999999999995,0.63900000000000001,0.57199999999999995,0.70299999999999996,0.67,0.70299999999999996,0.67,0.63400000000000001,0.59599999999999997,0.63400000000000001,0.59599999999999997,0.57599999999999996,0.54900000000000004,0.57599999999999996,0.54900000000000004,0.57599999999999996,0.54900000000000004,0.57599999999999996,0.54900000000000004,0.57599999999999996,0.54900000000000004,0.57599999999999996,0.54900000000000004,"Federal Standard/ASHRAE 90.1-2007 "]
[2009,9.5619999999999994,10.416,1.2549675800041833,1.1520737327188939,9.5619999999999994,10.416,1.2549675800041833,1.1520737327188939,9.5619999999999994,10.416,1.2549675800041833,1.1520737327188939,9.5619999999999994,10.416,1.2549675800041833,1.1520737327188939,9.5619999999999994,10.416,1.2549675800041833,1.1520737327188939,9.5619999999999994,10.416,1.2549675800041833,1.1520737327188939,9.5619999999999994,10.416,1.2549675800041833,1.1520737327188939,9.5619999999999994,10.416,1.2549675800041833,1.1520737327188939,0.79,0.67600000000000005,0.79,0.67600000000000005,0.79,0.67600000000000005,0.79,0.67600000000000005,0.71799999999999997,0.628,0.71799999999999997,0.628,0.63900000000000001,0.57199999999999995,0.63900000000000001,0.57199999999999995,0.63900000000000001,0.57199999999999995,0.63900000000000001,0.57199999999999995,0.70299999999999996,0.67,0.70299999999999996,0.67,0.63400000000000001,0.59599999999999997,0.63400000000000001,0.59599999999999997,0.57599999999999996,0.54900000000000004,0.57599999999999996,0.54900000000000004,0.57599999999999996,0.54900000000000004,0.57599999999999996,0.54900000000000004,0.57599999999999996,0.54900000000000004,0.57599999999999996,0.54900000000000004,"Federal Standard/ASHRAE 90.1-2007"]
[2010,9.5619999999999994,12.5,1.2549675800041833,0.96,9.5619999999999994,12.5,1.2549675800041833,0.96,9.5619999999999994,12.5,1.2549675800041833,0.96,9.5619999999999994,12.5,1.2549675800041833,0.96,9.5619999999999994,12.5,1.2549675800041833,0.96,9.5619999999999994,12.5,1.2549675800041833,0.96,9.5619999999999994,12.5,1.2549675800041833,0.96,9.5619999999999994,12.5,1.2549675800041833,0.96,0.78,0.63,0.8,0.6,0.77500000000000002,0.61499999999999999,0.79,0.58599999999999997,0.68,0.57999999999999996,0.71799999999999997,0.54,0.62,0.54,0.63900000000000001,0.49,0.62,0.54,0.63900000000000001,0.49,0.63400000000000001,0.59599999999999997,0.63900000000000001,0.45,0.63400000000000001,0.59599999999999997,0.63900000000000001,0.45,0.57599999999999996,0.54900000000000004,0.6,0.4,0.57599999999999996,0.54900000000000004,0.6,0.4,0.56999999999999995,0.53900000000000003,0.59,0.4,"Federal Standard/ASHRAE 90.1-2007 (as of 1/1/2010)"]
[2011,9.5619999999999994,12.5,1.2549675800041833,0.96,9.5619999999999994,12.5,1.2549675800041833,0.96,9.5619999999999994,12.5,1.2549675800041833,0.96,9.5619999999999994,12.5,1.2549675800041833,0.96,9.5619999999999994,12.5,1.2549675800041833,0.96,9.5619999999999994,12.5,1.2549675800041833,0.96,9.5619999999999994,12.5,1.2549675800041833,0.96,9.5619999999999994,12.5,1.2549675800041833,0.96,0.78,0.63,0.8,0.6,0.77500000000000002,0.61499999999999999,0.79,0.58599999999999997,0.68,0.57999999999999996,0.71799999999999997,0.54,0.62,0.54,0.63900000000000001,0.49,0.62,0.54,0.63900000000000001,0.49,0.63400000000000001,0.59599999999999997,0.63900000000000001,0.45,0.63400000000000001,0.59599999999999997,0.63900000000000001,0.45,0.57599999999999996,0.54900000000000004,0.6,0.4,0.57599999999999996,0.54900000000000004,0.6,0.4,0.56999999999999995,0.53900000000000003,0.59,0.4,"Federal Standard/ASHRAE 90.1-2007 (as of 1/1/2010)"]
[2012,9.5619999999999994,12.5,1.2549675800041833,0.96,9.5619999999999994,12.5,1.2549675800041833,0.96,9.5619999999999994,12.5,1.2549675800041833,0.96,9.5619999999999994,12.5,1.2549675800041833,0.96,9.5619999999999994,12.5,1.2549675800041833,0.96,9.5619999999999994,12.5,1.2549675800041833,0.96,9.5619999999999994,12.5,1.2549675800041833,0.96,9.5619999999999994,12.5,1.2549675800041833,0.96,0.78,1.63,0.8,0.6,0.77500000000000002,0.61499999999999999,0.79,0.58599999999999997,0.68,0.57999999999999996,0.71799999999999997,0.54,0.62,0.54,0.63900000000000001,0.49,0.62,0.54,0.63900000000000001,0.49,0.63400000000000001,0.59599999999999997,0.63900000000000001,0.45,0.63400000000000001,0.59599999999999997,0.63900000000000001,0.45,0.57599999999999996,0.54900000000000004,0.6,0.4,0.57599999999999996,0.54900000000000004,0.6,0.4,0.56999999999999995,0.53900000000000003,0.59,0.4,"Federal Standard/ASHRAE 90.1-2007 (as of 1/1/2010)"]
[2013,9.5619999999999994,12.5,1.2549675800041833,0.96,9.5619999999999994,12.5,1.2549675800041833,0.96,9.5619999999999994,12.5,1.2549675800041833,0.96,9.5619999999999994,12.5,1.2549675800041833,0.96,9.5619999999999994,12.5,1.2549675800041833,0.96,9.5619999999999994,12.5,1.2549675800041833,0.96,9.5619999999999994,12.5,1.2549675800041833,0.96,9.5619999999999994,12.5,1.2549675800041833,0.96,0.78,2.63,0.8,0.6,0.77500000000000002,0.61499999999999999,0.79,0.58599999999999997,0.68,0.57999999999999996,0.71799999999999997,0.54,0.62,0.54,0.63900000000000001,0.49,0.62,0.54,0.63900000000000001,0.49,0.63400000000000001,0.59599999999999997,0.63900000000000001,0.45,0.63400000000000001,0.59599999999999997,0.63900000000000001,0.45,0.57599999999999996,0.54900000000000004,0.6,0.4,0.57599999999999996,0.54900000000000004,0.6,0.4,0.56999999999999995,0.53900000000000003,0.59,0.4]
[2014,9.5619999999999994,12.5,1.2549675800041833,0.96,9.5619999999999994,12.5,1.2549675800041833,0.96,9.5619999999999994,12.5,1.2549675800041833,0.96,9.5619999999999994,12.5,1.2549675800041833,0.96,9.5619999999999994,12.5,1.2549675800041833,0.96,9.5619999999999994,12.5,1.2549675800041833,0.96,9.5619999999999994,12.5,1.2549675800041833,0.96,9.5619999999999994,12.5,1.2549675800041833,0.96,0.78,3.63,0.8,0.6,0.77500000000000002,0.61499999999999999,0.79,0.58599999999999997,0.68,0.57999999999999996,0.71799999999999997,0.54,0.62,0.54,0.63900000000000001,0.49,0.62,0.54,0.63900000000000001,0.49,0.63400000000000001,0.59599999999999997,0.63900000000000001,0.45,0.63400000000000001,0.59599999999999997,0.63900000000000001,0.45,0.57599999999999996,0.54900000000000004,0.6,0.4,0.57599999999999996,0.54900000000000004,0.6,0.4,0.56999999999999995,0.53900000000000003,0.59,0.4]
[2015,9.5619999999999994,12.5,1.2549675800041833,0.96,9.5619999999999994,12.5,1.2549675800041833,0.96,9.5619999999999994,12.5,1.2549675800041833,0.96,9.5619999999999994,12.5,1.2549675800041833,0.96,9.5619999999999994,12.5,1.2549675800041833,0.96,9.5619999999999994,12.5,1.2549675800041833,0.96,9.5619999999999994,12.5,1.2549675800041833,0.96,9.5619999999999994,12.5,1.2549675800041833,0.96,0.78,4.63,0.8,0.6,0.77500000000000002,0.61499999999999999,0.79,0.58599999999999997,0.68,0.57999999999999996,0.71799999999999997,0.54,0.62,0.54,0.63900000000000001,0.49,0.62,0.54,0.63900000000000001,0.49,0.63400000000000001,0.59599999999999997,0.63900000000000001,0.45,0.63400000000000001,0.59599999999999997,0.63900000000000001,0.45,0.57599999999999996,0.54900000000000004,0.6,0.4,0.57599999999999996,0.54900000000000004,0.6,0.4,0.56999999999999995,0.53900000000000003,0.59,0.4]
[2016,10.1,13.7,1.1881188118811881,0.87591240875912413,9.6999999999999993,15.8,1.2371134020618557,0.75949367088607589,10.1,14,1.1881188118811881,0.8571428571428571,9.6999999999999993,16.100000000000001,1.2371134020618557,0.74534161490683226,10.1,13.7,1.1881188118811881,0.87591240875912413,9.6999999999999993,15.8,1.2371134020618557,0.75949367088607589,9.5619999999999994,12.5,1.2549675800041833,0.96,9.6999999999999993,16.100000000000001,1.2371134020618557,0.74534161490683226,0.75,0.6,0.78,0.5,0.72,0.56000000000000005,0.75,0.49,0.66,0.54,0.68,0.44,0.61,0.52,0.625,0.41,0.56000000000000005,0.5,0.58499999999999996,0.38,0.61,0.55000000000000004,0.69499999999999995,0.44,0.61,0.55000000000000004,0.63500000000000001,0.4,0.56000000000000005,0.52,0.59499999999999997,0.39,0.56000000000000005,0.52,0.59499999999999997,0.39,0.56000000000000005,0.5,0.58499999999999996,0.38]
[2017,10.1,13.7,1.1881188118811881,0.87591240875912413,9.6999999999999993,15.8,1.2371134020618557,0.75949367088607589,10.1,14,1.1881188118811881,0.8571428571428571,9.6999999999999993,16.100000000000001,1.2371134020618557,0.74534161490683226,10.1,13.7,1.1881188118811881,0.87591240875912413,9.6999999999999993,15.8,1.2371134020618557,0.75949367088607589,9.5619999999999994,12.5,1.2549675800041833,0.96,9.6999999999999993,16.100000000000001,1.2371134020618557,0.74534161490683226,0.75,0.6,0.78,0.5,0.72,0.56000000000000005,0.75,0.49,0.66,0.54,0.68,0.44,0.61,0.52,0.625,0.41,0.56000000000000005,0.5,0.58499999999999996,0.38,0.61,0.55000000000000004,0.69499999999999995,0.44,0.61,0.55000000000000004,0.63500000000000001,0.4,0.56000000000000005,0.52,0.59499999999999997,0.39,0.56000000000000005,0.52,0.59499999999999997,0.39,0.56000000000000005,0.5,0.58499999999999996,0.38]
[2018,10.1,13.7,1.1881188118811881,0.87591240875912413,9.6999999999999993,15.8,1.2371134020618557,0.75949367088607589,10.1,14,1.1881188118811881,0.8571428571428571,9.6999999999999993,16.100000000000001,1.2371134020618557,0.74534161490683226,10.1,13.7,1.1881188118811881,0.87591240875912413,9.6999999999999993,15.8,1.2371134020618557,0.75949367088607589,10.1,14,1.1881188118811881,0.8571428571428571,9.6999999999999993,16.100000000000001,1.2371134020618557,0.74534161490683226,0.75,0.6,0.78,0.5,0.72,0.56000000000000005,0.75,0.49,0.66,0.54,0.68,0.44,0.61,0.52,0.625,0.41,0.56000000000000005,0.5,0.58499999999999996,0.38,0.61,0.55000000000000004,0.69499999999999995,0.44,0.61,0.55000000000000004,0.63500000000000001,0.4,0.56000000000000005,0.52,0.59499999999999997,0.39,0.56000000000000005,0.52,0.59499999999999997,0.39,0.56000000000000005,0.5,0.58499999999999996,0.38]
[2019,10.1,13.7,1.1881188118811881,0.87591240875912413,9.6999999999999993,15.8,1.2371134020618557,0.75949367088607589,10.1,14,1.1881188118811881,0.8571428571428571,9.6999999999999993,16.100000000000001,1.2371134020618557,0.74534161490683226,10.1,13.7,1.1881188118811881,0.87591240875912413,9.6999999999999993,15.8,1.2371134020618557,0.75949367088607589,10.1,14,1.1881188118811881,0.8571428571428571,9.6999999999999993,16.100000000000001,1.2371134020618557,0.74534161490683226,0.75,0.6,0.78,0.5,0.72,0.56000000000000005,0.75,0.49,0.66,0.54,0.68,0.44,0.61,0.52,0.625,0.41,0.56000000000000005,0.5,0.58499999999999996,0.38,0.61,0.55000000000000004,0.69499999999999995,0.44,0.61,0.55000000000000004,0.63500000000000001,0.4,0.56000000000000005,0.52,0.59499999999999997,0.39,0.56000000000000005,0.52,0.59499999999999997,0.39,0.56000000000000005,0.5,0.58499999999999996,0.38]
[2020,10.1,13.7,1.1881188118811881,0.87591240875912413,9.6999999999999993,15.8,1.2371134020618557,0.75949367088607589,10.1,14,1.1881188118811881,0.8571428571428571,9.6999999999999993,16.100000000000001,1.2371134020618557,0.74534161490683226,10.1,13.7,1.1881188118811881,0.87591240875912413,9.6999999999999993,15.8,1.2371134020618557,0.75949367088607589,10.1,14,1.1881188118811881,0.8571428571428571,9.6999999999999993,16.100000000000001,1.2371134020618557,0.74534161490683226,0.75,0.6,0.78,0.5,0.72,0.56000000000000005,0.75,0.49,0.66,0.54,0.68,0.44,0.61,0.52,0.625,0.41,0.56000000000000005,0.5,0.58499999999999996,0.38,0.61,0.55000000000000004,0.69499999999999995,0.44,0.61,0.55000000000000004,0.63500000000000001,0.4,0.56000000000000005,0.52,0.59499999999999997,0.39,0.56000000000000005,0.52,0.59499999999999997,0.39,0.56000000000000005,0.5,0.58499999999999996,0.38]
[2021,10.1,13.7,1.1881188118811881,0.87591240875912413,9.6999999999999993,15.8,1.2371134020618557,0.75949367088607589,10.1,14,1.1881188118811881,0.8571428571428571,9.6999999999999993,16.100000000000001,1.2371134020618557,0.74534161490683226,10.1,13.7,1.1881188118811881,0.87591240875912413,9.6999999999999993,15.8,1.2371134020618557,0.75949367088607589,10.1,14,1.1881188118811881,0.8571428571428571,9.6999999999999993,16.100000000000001,1.2371134020618557,0.74534161490683226,0.75,0.6,0.78,0.5,0.72,0.56000000000000005,0.75,0.49,0.66,0.54,0.68,0.44,0.61,0.52,0.625,0.41,0.56000000000000005,0.5,0.58499999999999996,0.38,0.61,0.55000000000000004,0.69499999999999995,0.44,0.61,0.55000000000000004,0.63500000000000001,0.4,0.56000000000000005,0.52,0.59499999999999997,0.39,0.56000000000000005,0.52,0.59499999999999997,0.39,0.56000000000000005,0.5,0.58499999999999996,0.38]
[2022,10.1,13.7,{"$f":"12/B34","v":1.1881188118811881},{"$f":"12/C34","v":0.87591240875912413},9.6999999999999993,15.8,{"$f":"12/F34","v":1.2371134020618557},{"$f":"12/G34","v":0.75949367088607589},10.1,14,{"$f":"12/J34","v":1.1881188118811881},{"$f":"12/K34","v":0.8571428571428571},9.6999999999999993,16.100000000000001,{"$f":"12/N34","v":1.2371134020618557},{"$f":"12/O34","v":0.74534161490683226},10.1,13.7,{"$f":"12/R34","v":1.1881188118811881},{"$f":"12/S34","v":0.87591240875912413},9.6999999999999993,15.8,1.2371134020618557,0.75949367088607589,10.1,14,{"$f":"12/Z34","v":1.1881188118811881},{"$f":"12/AA34","v":0.8571428571428571},9.6999999999999993,16.100000000000001,{"$f":"12/AD34","v":1.2371134020618557},{"$f":"12/AE34","v":0.74534161490683226},0.75,0.6,0.78,0.5,0.72,0.56000000000000005,0.75,0.49,0.66,0.54,0.68,0.44,0.61,0.52,0.625,0.41,0.56000000000000005,0.5,0.58499999999999996,0.38,0.61,0.55000000000000004,0.69499999999999995,0.44,0.61,0.55000000000000004,0.63500000000000001,0.4,0.56000000000000005,0.52,0.59499999999999997,0.39,0.56000000000000005,0.52,0.59499999999999997,0.39,0.56000000000000005,0.5,0.58499999999999996,0.38]
[2023,10.1,13.7,{"$f":"12/B35","v":1.1881188118811881},{"$f":"12/C35","v":0.87591240875912413},9.6999999999999993,15.8,{"$f":"12/F35","v":1.2371134020618557},{"$f":"12/G35","v":0.75949367088607589},10.1,14,{"$f":"12/J35","v":1.1881188118811881},{"$f":"12/K35","v":0.8571428571428571},9.6999999999999993,16.100000000000001,{"$f":"12/N35","v":1.2371134020618557},{"$f":"12/O35","v":0.74534161490683226},10.1,13.7,{"$f":"12/R35","v":1.1881188118811881},{"$f":"12/S35","v":0.87591240875912413},9.6999999999999993,15.8,1.2371134020618557,0.75949367088607589,10.1,14,{"$f":"12/Z35","v":1.1881188118811881},{"$f":"12/AA35","v":0.8571428571428571},9.6999999999999993,16.100000000000001,{"$f":"12/AD35","v":1.2371134020618557},{"$f":"12/AE35","v":0.74534161490683226},0.75,0.6,0.78,0.5,0.72,0.56000000000000005,0.75,0.49,0.66,0.54,0.68,0.44,0.61,0.52,0.625,0.41,0.56000000000000005,0.5,0.58499999999999996,0.38,0.61,0.55000000000000004,0.69499999999999995,0.44,0.61,0.55000000000000004,0.63500000000000001,0.4,0.56000000000000005,0.52,0.59499999999999997,0.39,0.56000000000000005,0.52,0.59499999999999997,0.39,0.56000000000000005,0.5,0.58499999999999996,0.38]
["ARTRM9.2",9.5619999999999994,12.5,{"$f":"12/B36","v":1.2549675800041833},{"$f":"12/C36","v":0.96},9.5619999999999994,12.5,{"$f":"12/F36","v":1.2549675800041833},{"$f":"12/G36","v":0.96},9.5619999999999994,12.75,{"$f":"12/J36","v":1.2549675800041833},{"$f":"12/K36","v":0.94117647058823528},9.5619999999999994,12.75,{"$f":"12/N36","v":1.2549675800041833},{"$f":"12/O36","v":0.94117647058823528},9.5619999999999994,12.5,{"$f":"12/R36","v":1.2549675800041833},{"$f":"12/S36","v":0.96},9.5619999999999994,12.5,1.2549675800041833,0.96,9.5619999999999994,12.75,{"$f":"12/Z36","v":1.2549675800041833},{"$f":"12/AA36","v":0.94117647058823528},9.5619999999999994,12.75,{"$f":"12/AD36","v":1.2549675800041833},{"$f":"12/AE36","v":0.94117647058823528},0.78,0.63,0.8,0.6,0.77500000000000002,0.61499999999999999,0.79,0.58599999999999997,0.68,0.57999999999999996,0.71799999999999997,0.54,0.62,0.54,0.63900000000000001,0.49,0.62,0.54,0.63900000000000001,0.49,0.63400000000000001,0.59599999999999997,0.63900000000000001,0.45,0.63400000000000001,0.59599999999999997,0.63900000000000001,0.45,0.57599999999999996,0.54900000000000004,0.6,0.4,0.57599999999999996,0.54900000000000004,0.6,0.4,0.56999999999999995,0.53900000000000003,0.59,0.4]
["CPS",10.1,13.7,1.1881188118811881,0.87591240875912413,9.6999999999999993,15.8,1.2371134020618557,0.75949367088607589,10.1,14,1.1881188118811881,0.8571428571428571,9.6999999999999993,16.100000000000001,1.2371134020618557,0.74534161490683226,10.1,13.7,1.1881188118811881,0.87591240875912413,9.6999999999999993,15.8,1.2371134020618557,0.75949367088607589,10.1,14,1.1881188118811881,0.8571428571428571,9.6999999999999993,16.100000000000001,1.2371134020618557,0.74534161490683226,0.75,0.6,0.78,0.5,0.72,0.56000000000000005,0.75,0.49,0.66,0.54,0.68,0.44,0.61,0.52,0.625,0.41,0.56000000000000005,0.5,0.58499999999999996,0.38,0.61,0.55000000000000004,0.69499999999999995,0.44,0.61,0.55000000000000004,0.63500000000000001,0.4,0.56000000000000005,0.52,0.59499999999999997,0.39,0.56000000000000005,0.5,0.58499999999999996,0.38,0.56000000000000005,0.5,0.58499999999999996,0.38]

{"sheet":"PTAC","index":12,"n_rows":43,"n_cols":39,"rows_kept":43,"cut":false,"hidden":true,"merged":[[7,38,8,38],[9,0,37,0],[7,0,8,1]]}
[null,null,"PackagedTerminalAirConditioner",null,"PackagedTerminalAirConditioner",null,"PackagedTerminalAirConditioner",null,"PackagedTerminalAirConditioner",null,"PackagedTerminalAirConditioner",null,"PackagedTerminalAirConditioner",null,"PackagedTerminalHeatPump",null,null,null,"PackagedTerminalHeatPump",null,null,null,"PackagedTerminalHeatPump",null,null,null,"PackagedTerminalHeatPump",null,null,null,"PackagedTerminalHeatPump",null,null,null,"PackagedTerminalHeatPump"]
[null,null,"StandardSize",null,"StandardSize",null,"StandardSize",null,"NonStandardSize",null,"NonStandardSize",null,"NonStandardSize",null,"StandardSize",null,null,null,"StandardSize",null,null,null,"StandardSize",null,null,null,"NonStandardSize",null,null,null,"NonStandardSize",null,null,null,"NonStandardSize"]
[null,null,"Lessthan7kbtuh",null,"7kbtuhto15kbtuh",null,"Greaterthan15kbtuh",null,"Lessthan7kbtuh",null,"7kbtuhto15kbtuh",null,"Greaterthan15kbtuh",null,"Lessthan7kbtuh",null,null,null,"7kbtuhto15kbtuh",null,null,null,"Greaterthan15kbtuh",null,null,null,"Lessthan7kbtuh",null,null,null,"7kbtuhto15kbtuh",null,null,null,"Greaterthan15kbtuh"]
[]
[null,null,{"$f":"C1&C2&C3&C4","v":"PackagedTerminalAirConditionerStandardSizeLessthan7kbtuh"},null,{"$f":"E1&E2&E3&E4","v":"PackagedTerminalAirConditionerStandardSize7kbtuhto15kbtuh"},null,{"$f":"G1&G2&G3&G4","v":"PackagedTerminalAirConditionerStandardSizeGreaterthan15kbtuh"},null,{"$f":"I1&I2&I3&I4","v":"PackagedTerminalAirConditionerNonStandardSizeLessthan7kbtuh"},null,{"$f":"K1&K2&K3&K4","v":"PackagedTerminalAirConditionerNonStandardSize7kbtuhto15kbtuh"},null,{"$f":"M1&M2&M3&M4","v":"PackagedTerminalAirConditionerNonStandardSizeGreaterthan15kbtuh"},null,{"$f":"O1&O2&O3&O4","v":"PackagedTerminalHeatPumpStandardSizeLessthan7kbtuh"},null,null,null,{"$f":"S1&S2&S3&S4","v":"PackagedTerminalHeatPumpStandardSize7kbtuhto15kbtuh"},null,null,null,{"$f":"W1&W2&W3&W4","v":"PackagedTerminalHeatPumpStandardSizeGreaterthan15kbtuh"},null,null,null,{"$f":"AA1&AA2&AA3&AA4","v":"PackagedTerminalHeatPumpNonStandardSizeLessthan7kbtuh"},null,null,null,{"$f":"AE1&AE2&AE3&AE4","v":"PackagedTerminalHeatPumpNonStandardSize7kbtuhto15kbtuh"},null,null,null,{"$f":"AI1&AI2&AI3&AI4","v":"PackagedTerminalHeatPumpNonStandardSizeGreaterthan15kbtuh"}]
[]
[]
["Manuf. Year",null,"Baseline Cooling Eff (EER)",null,"Baseline Cooling Eff (EER)",null,"Baseline Cooling Eff (EER)",null,"Baseline Cooling Eff (EER)",null,"Baseline Cooling Eff (EER)",null,"Baseline Cooling Eff (EER)",null,"Baseline Cooling Eff (EER)",null,"Baseline Heating Eff (COP)",null,"Baseline Cooling Eff (EER)",null,"Baseline Heating Eff (COP)",null,"Baseline Cooling Eff (EER)",null,"Baseline Heating Eff (COP)",null,"Baseline Cooling Eff (EER)",null,"Baseline Heating Eff (COP)",null,"Baseline Cooling Eff (EER)",null,"Baseline Heating Eff (COP)",null,"Baseline Cooling Eff (EER)",null,"Baseline Heating Eff (COP)",null,"Applicable Standard"]
[null,null,"Const","Var","Const","Var","Const","Var","Const","Var","Const","Var","Const","Var","Const","Var","Const","Var","Const","Var","Const","Var","Const","Var","Const","Var","Const","Var","Const","Var","Const","Var","Const","Var","Const","Var","Const","Var"]
["BASELINE EFFICIENCIES",{"$f":"BaselineRow","v":1995},11,0,12.5,-2.13E-4,9.3000000000000007,0,9.4,0,10.9,-2.13E-4,7.7,0,10.8,0,3,0,12.3,{"$f":"-0.213/1000","v":-2.13E-4},3.2,{"$f":"-0.026/1000","v":-2.5999999999999998E-5},9.1,0,2.8,0,9.3000000000000007,0,2.7,0,10.8,-2.13E-4,2.9,-2.5999999999999998E-5,7.6,0,2.5,0,"ASHRAE 90.1--1989"]
[null,1996,11,0,12.5,-2.13E-4,9.3000000000000007,0,9.4,0,10.9,-2.13E-4,7.7,0,10.8,0,3,0,12.3,-2.13E-4,3.2,-2.5999999999999998E-5,9.1,0,2.8,0,9.3000000000000007,0,2.7,0,10.8,-2.13E-4,2.9,-2.5999999999999998E-5,7.6,0,2.5,0,"ASHRAE 90.1--1989"]
[null,1997,11,0,12.5,-2.13E-4,9.3000000000000007,0,9.4,0,10.9,-2.13E-4,7.7,0,10.8,0,3,0,12.3,-2.13E-4,3.2,-2.5999999999999998E-5,9.1,0,2.8,0,9.3000000000000007,0,2.7,0,10.8,-2.13E-4,2.9,-2.5999999999999998E-5,7.6,0,2.5,0,"ASHRAE 90.1--1989"]
[null,1998,11,0,12.5,-2.13E-4,9.3000000000000007,0,9.4,0,10.9,-2.13E-4,7.7,0,10.8,0,3,0,12.3,-2.13E-4,3.2,-2.5999999999999998E-5,9.1,0,2.8,0,9.3000000000000007,0,2.7,0,10.8,-2.13E-4,2.9,-2.5999999999999998E-5,7.6,0,2.5,0,"ASHRAE 90.1--1989"]
[null,1999,11,0,12.5,-2.13E-4,9.3000000000000007,0,9.4,0,10.9,-2.13E-4,7.7,0,10.8,0,3,0,12.3,-2.13E-4,3.2,-2.5999999999999998E-5,9.1,0,2.8,0,9.3000000000000007,0,2.7,0,10.8,-2.13E-4,2.9,-2.5999999999999998E-5,7.6,0,2.5,0,"ASHRAE 90.1--1989"]
[null,2000,11,0,12.5,-2.13E-4,9.3000000000000007,0,9.4,0,10.9,-2.13E-4,7.7,0,10.8,0,3,0,12.3,-2.13E-4,3.2,-2.5999999999999998E-5,9.1,0,2.8,0,9.3000000000000007,0,2.7,0,10.8,-2.13E-4,2.9,-2.5999999999999998E-5,7.6,0,2.5,0,"ASHRAE 90.1--1999"]
[null,2001,11,0,12.5,-2.13E-4,9.3000000000000007,0,9.4,0,10.9,-2.13E-4,7.7,0,10.8,0,3,0,12.3,-2.13E-4,3.2,-2.5999999999999998E-5,9.1,0,2.8,0,9.3000000000000007,0,2.7,0,10.8,-2.13E-4,2.9,-2.5999999999999998E-5,7.6,0,2.5,0,"ASHRAE 90.1--1999"]
[null,2002,11,0,12.5,-2.13E-4,9.3000000000000007,0,9.4,0,10.9,-2.13E-4,7.7,0,10.8,0,3,0,12.3,-2.13E-4,3.2,-2.5999999999999998E-5,9.1,0,2.8,0,9.3000000000000007,0,2.7,0,10.8,-2.13E-4,2.9,-2.5999999999999998E-5,7.6,0,2.5,0,"ASHRAE 90.1--1999 "]
[null,2003,11,0,12.5,-2.13E-4,9.3000000000000007,0,9.4,0,10.9,-2.13E-4,7.7,0,10.8,0,3,0,12.3,-2.13E-4,3.2,-2.5999999999999998E-5,9.1,0,2.8,0,9.3000000000000007,0,2.7,0,10.8,-2.13E-4,2.9,-2.5999999999999998E-5,7.6,0,2.5,0,"ASHRAE 90.1--1999 (as of 10/29/2001)"]
[null,2004,11,0,12.5,-2.13E-4,9.3000000000000007,0,9.4,0,10.9,-2.13E-4,7.7,0,10.8,0,3,0,12.3,-2.13E-4,3.2,-2.5999999999999998E-5,9.1,0,2.8,0,9.3000000000000007,0,2.7,0,10.8,-2.13E-4,2.9,-2.5999999999999998E-5,7.6,0,2.5,0,"ASHRAE 90.1--1999 (as of 10/29/2001)"]
[null,2005,11,0,12.5,-2.13E-4,9.3000000000000007,0,9.4,0,10.9,-2.13E-4,7.7,0,10.8,0,3,0,12.3,-2.13E-4,3.2,-2.5999999999999998E-5,9.1,0,2.8,0,9.3000000000000007,0,2.7,0,10.8,-2.13E-4,2.9,-2.5999999999999998E-5,7.6,0,2.5,0,"ASHRAE 90.1--2004"]
[null,2006,11,0,12.5,-2.13E-4,9.3000000000000007,0,9.4,0,10.9,-2.13E-4,7.7,0,10.8,0,3,0,12.3,-2.13E-4,3.2,-2.5999999999999998E-5,9.1,0,2.8,0,9.3000000000000007,0,2.7,0,10.8,-2.13E-4,2.9,-2.5999999999999998E-5,7.6,0,2.5,0,"ASHRAE 90.1--2004"]
[null,2007,11,0,12.5,-2.13E-4,9.3000000000000007,0,9.4,0,10.9,-2.13E-4,7.7,0,10.8,0,3,0,12.3,-2.13E-4,3.2,-2.5999999999999998E-5,9.1,0,2.8,0,9.3000000000000007,0,2.7,0,10.8,-2.13E-4,2.9,-2.5999999999999998E-5,7.6,0,2.5,0,"Federal Standard/ASHRAE 90.1--2004"]
[null,2008,11,0,12.5,-2.13E-4,9.3000000000000007,0,9.4,0,10.9,-2.13E-4,7.7,0,10.8,0,3,0,12.3,-2.13E-4,3.2,-2.5999999999999998E-5,9.1,0,2.8,0,9.3000000000000007,0,2.7,0,10.8,-2.13E-4,2.9,-2.5999999999999998E-5,7.6,0,2.5,0,"Federal Standard/ASHRAE 90.1-2007 "]
[null,2009,11,0,12.5,-2.13E-4,9.3000000000000007,0,9.4,0,10.9,-2.13E-4,7.7,0,10.8,0,3,0,12.3,-2.13E-4,3.2,-2.5999999999999998E-5,9.1,0,2.8,0,9.3000000000000007,0,2.7,0,10.8,-2.13E-4,2.9,-2.5999999999999998E-5,7.6,0,2.5,0,"Federal Standard/ASHRAE 90.1-2007 "]
[null,2010,11,0,12.5,-2.13E-4,9.3000000000000007,0,9.4,0,10.9,-2.13E-4,7.7,0,10.8,0,3,0,12.3,-2.13E-4,3.2,-2.5999999999999998E-5,9.1,0,2.8,0,9.3000000000000007,0,2.7,0,10.8,-2.13E-4,2.9,-2.5999999999999998E-5,7.6,0,2.5,0,"Federal Standard/ASHRAE 90.1-2007"]
[null,2011,11,0,12.5,-2.13E-4,9.3000000000000007,0,9.4,0,10.9,-2.13E-4,7.7,0,10.8,0,3,0,12.3,-2.13E-4,3.2,-2.5999999999999998E-5,9.1,0,2.8,0,9.3000000000000007,0,2.7,0,10.8,-2.13E-4,2.9,-2.5999999999999998E-5,7.6,0,2.5,0,"Federal Standard/ASHRAE 90.1-2007 (as of 1/1/2010)"]
[null,2012,11,0,12.5,-2.13E-4,9.3000000000000007,0,9.4,0,10.9,-2.13E-4,7.7,0,10.8,0,3,0,12.3,-2.13E-4,3.2,-2.5999999999999998E-5,9.1,0,2.8,0,9.3000000000000007,0,2.7,0,10.8,-2.13E-4,2.9,-2.5999999999999998E-5,7.6,0,2.5,0,"Federal Standard/ASHRAE 90.1-2007 (as of 1/1/2010)"]
[null,2013,11.9,0,14,-2.9999999999999997E-4,9.5,0,9.4,0,10.9,-2.13E-4,7.7,0,11.9,0,3.3,0,14,-2.9999999999999997E-4,3.7,-5.1999999999999997E-5,9.5,0,2.9,0,9.3000000000000007,0,2.7,0,10.8,-2.13E-4,2.9,-2.5999999999999998E-5,7.6,0,2.5,0]
[null,2014,11.9,0,14,-2.9999999999999997E-4,9.5,0,9.4,0,10.9,-2.13E-4,7.7,0,11.9,0,3.3,0,14,-2.9999999999999997E-4,3.7,-5.1999999999999997E-5,9.5,0,2.9,0,9.3000000000000007,0,2.7,0,10.8,-2.13E-4,2.9,-2.5999999999999998E-5,7.6,0,2.5,0]
[null,2015,11.9,0,14,-2.9999999999999997E-4,9.5,0,9.4,0,10.9,-2.13E-4,7.7,0,11.9,0,3.3,0,14,-2.9999999999999997E-4,3.7,-5.1999999999999997E-5,9.5,0,2.9,0,9.3000000000000007,0,2.7,0,10.8,-2.13E-4,2.9,-2.5999999999999998E-5,7.6,0,2.5,0]
[null,2016,11.9,0,14,-2.9999999999999997E-4,9.5,0,9.4,0,10.9,-2.13E-4,7.7,0,11.9,0,3.3,0,14,-2.9999999999999997E-4,3.7,-5.1999999999999997E-5,9.5,0,2.9,0,9.3000000000000007,0,2.7,0,10.8,-2.13E-4,2.9,-2.5999999999999998E-5,7.6,0,2.5,0]
[null,2017,11.9,0,14,-2.9999999999999997E-4,9.5,0,9.4,0,10.9,-2.13E-4,7.7,0,11.9,0,3.3,0,14,-2.9999999999999997E-4,3.7,-5.1999999999999997E-5,9.5,0,2.9,0,9.3000000000000007,0,2.7,0,10.8,-2.13E-4,2.9,-2.5999999999999998E-5,7.6,0,2.5,0]
[null,2018,11.9,0,14,-2.9999999999999997E-4,9.5,0,9.4,0,10.9,-2.13E-4,7.7,0,11.9,0,3.3,0,14,-2.9999999999999997E-4,3.7,-5.1999999999999997E-5,9.5,0,2.9,0,9.3000000000000007,0,2.7,0,10.8,-2.13E-4,2.9,-2.5999999999999998E-5,7.6,0,2.5,0]
[null,2019,11.9,0,14,-2.9999999999999997E-4,9.5,0,9.4,0,10.9,-2.13E-4,7.7,0,11.9,0,3.3,0,14,-2.9999999999999997E-4,3.7,-5.1999999999999997E-5,9.5,0,2.9,0,9.3000000000000007,0,2.7,0,10.8,-2.13E-4,2.9,-2.5999999999999998E-5,7.6,0,2.5,0]
[null,2020,11.9,0,14,-2.9999999999999997E-4,9.5,0,9.4,0,10.9,-2.13E-4,7.7,0,11.9,0,3.3,0,14,-2.9999999999999997E-4,3.7,-5.1999999999999997E-5,9.5,0,2.9,0,9.3000000000000007,0,2.7,0,10.8,-2.13E-4,2.9,-2.5999999999999998E-5,7.6,0,2.5,0]
[null,2021,11.9,0,14,-2.9999999999999997E-4,9.5,0,9.4,0,10.9,-2.13E-4,7.7,0,11.9,0,3.3,0,14,-2.9999999999999997E-4,3.7,-5.1999999999999997E-5,9.5,0,2.9,0,9.3000000000000007,0,2.7,0,10.8,-2.13E-4,2.9,-2.5999999999999998E-5,7.6,0,2.5,0]
[null,2022,11.9,0,14,-2.9999999999999997E-4,9.5,0,9.4,0,10.9,-2.13E-4,7.7,0,11.9,0,3.3,0,14,-2.9999999999999997E-4,3.7,-5.1999999999999997E-5,9.5,0,2.9,0,9.3000000000000007,0,2.7,0,10.8,-2.13E-4,2.9,-2.5999999999999998E-5,7.6,0,2.5,0]
[null,2023,11.9,0,14,-2.9999999999999997E-4,9.5,0,9.4,0,10.9,-2.13E-4,7.7,0,11.9,0,3.3,0,14,-2.9999999999999997E-4,3.7,-5.1999999999999997E-5,9.5,0,2.9,0,9.3000000000000007,0,2.7,0,10.8,-2.13E-4,2.9,-2.5999999999999998E-5,7.6,0,2.5,0]
[null,"ARTRM9.2",11.9,0,14,-2.9999999999999997E-4,9.5,0,9.4,0,10.9,{"$f":"-0.213/1000","v":-2.13E-4},7.7,0,11.9,0,3.3,0,14,{"$f":"-0.3/1000","v":-2.9999999999999997E-4},3.7,{"$f":"-0.052/1000","v":-5.1999999999999997E-5},9.5,0,2.9,0,9.3000000000000007,0,2.7,0,10.8,{"$f":"-0.213/1000","v":-2.13E-4},2.9,{"$f":"-0.026/1000","v":-2.5999999999999998E-5},7.6,0,2.5,0]
[null,"CPS",11.9,0,14,-2.9999999999999997E-4,9.5,0,9.4,0,10.9,{"$f":"-0.213/1000","v":-2.13E-4},7.7,0,11.9,0,3.3,0,14,{"$f":"-0.3/1000","v":-2.9999999999999997E-4},3.7,{"$f":"-0.052/1000","v":-5.1999999999999997E-5},9.5,0,2.9,0,9.3000000000000007,0,2.7,0,10.8,{"$f":"-0.213/1000","v":-2.13E-4},2.9,{"$f":"-0.026/1000","v":-2.5999999999999998E-5},7.6,0,2.5,0]
[]
[]
[null,null,"*Note: units made 2013 & later aren't eligible for early retirement, so they just have the same baseline as the TRM baseline."]

{"sheet":"RoomAC","index":13,"n_rows":37,"n_cols":51,"rows_kept":37,"cut":false,"hidden":true,"merged":[]}
[null,"RoomAirConditioner",null,null,"RoomAirConditioner",null,null,"RoomAirConditioner",null,null,"RoomAirConditioner",null,null,"RoomAirConditioner",null,null,"RoomAirConditioner",null,null,"RoomAirConditioner",null,null,"RoomAirConditioner",null,null,"RoomAirConditioner",null,null,"RoomAirConditioner",null,null,"RoomAirConditioner",null,null,"RoomAirConditioner",null,null,"RoomAirConditioner",null,null,"RoomAirConditioner",null,null,"RoomAirConditioner",null,null,"RoomAirConditioner"]
[null,"WithoutReverseCycle",null,null,"WithoutReverseCycle",null,null,"WithoutReverseCycle",null,null,"WithoutReverseCycle",null,null,"WithoutReverseCycle",null,null,"WithoutReverseCycle",null,null,"WithoutReverseCycle",null,null,"WithoutReverseCycle",null,null,"WithoutReverseCycle",null,null,"WithoutReverseCycle",null,null,"WithReverseCycle",null,null,"WithReverseCycle",null,null,"WithReverseCycle",null,null,"WithReverseCycle",null,null,"CasementOnly",null,null,"CasementSlider"]
[null,"WithLouveredSides",null,null,"WithLouveredSides",null,null,"WithLouveredSides",null,null,"WithLouveredSides",null,null,"WithLouveredSides",null,null,"WithoutLouveredSides",null,null,"WithoutLouveredSides",null,null,"WithoutLouveredSides",null,null,"WithoutLouveredSides",null,null,"WithoutLouveredSides",null,null,"WithLouveredSides",null,null,"WithLouveredSides",null,null,"WithoutLouveredSides",null,null,"WithoutLouveredSides"]
[null,"Lessthan8kbtuh",null,null,"8to14kbtuh",null,null,"14to20kbtuh",null,null,"20to25kbtuh",null,null,"Greaterthan25kbtuh",null,null,"Lessthan8kbtuh",null,null,"8to11kbtuh",null,null,"11to14kbtuh",null,null,"14to20kbtuh",null,null,"Greaterthan20kbtuh",null,null,"Lessthan20kbtuh",null,null,"Greaterthan20kbtuh",null,null,"Lessthan14kbtuh",null,null,"Greaterthan14kbtuh",null,null,"All",null,null,"All"]
[null,{"$f":"B1&B2&B3&B4","v":"RoomAirConditionerWithoutReverseCycleWithLouveredSidesLessthan8kbtuh"},null,null,{"$f":"E1&E2&E3&E4","v":"RoomAirConditionerWithoutReverseCycleWithLouveredSides8to14kbtuh"},null,null,{"$f":"H1&H2&H3&H4","v":"RoomAirConditionerWithoutReverseCycleWithLouveredSides14to20kbtuh"},null,null,{"$f":"K1&K2&K3&K4","v":"RoomAirConditionerWithoutReverseCycleWithLouveredSides20to25kbtuh"},null,null,{"$f":"N1&N2&N3&N4","v":"RoomAirConditionerWithoutReverseCycleWithLouveredSidesGreaterthan25kbtuh"},null,null,{"$f":"Q1&Q2&Q3&Q4","v":"RoomAirConditionerWithoutReverseCycleWithoutLouveredSidesLessthan8kbtuh"},null,null,{"$f":"T1&T2&T3&T4","v":"RoomAirConditionerWithoutReverseCycleWithoutLouveredSides8to11kbtuh"},null,null,{"$f":"W1&W2&W3&W4","v":"RoomAirConditionerWithoutReverseCycleWithoutLouveredSides11to14kbtuh"},null,null,{"$f":"Z1&Z2&Z3&Z4","v":"RoomAirConditionerWithoutReverseCycleWithoutLouveredSides14to20kbtuh"},null,null,{"$f":"AC1&AC2&AC3&AC4","v":"RoomAirConditionerWithoutReverseCycleWithoutLouveredSidesGreaterthan20kbtuh"},null,null,{"$f":"AF1&AF2&AF3&AF4","v":"RoomAirConditionerWithReverseCycleWithLouveredSidesLessthan20kbtuh"},null,null,{"$f":"AI1&AI2&AI3&AI4","v":"RoomAirConditionerWithReverseCycleWithLouveredSidesGreaterthan20kbtuh"},null,null,{"$f":"AL1&AL2&AL3&AL4","v":"RoomAirConditionerWithReverseCycleWithoutLouveredSidesLessthan14kbtuh"},null,null,{"$f":"AO1&AO2&AO3&AO4","v":"RoomAirConditionerWithReverseCycleWithoutLouveredSidesGreaterthan14kbtuh"},null,null,{"$f":"AR1&AR2&AR3&AR4","v":"RoomAirConditionerCasementOnlyAll"},null,null,{"$f":"AU1&AU2&AU3&AU4","v":"RoomAirConditionerCasementSliderAll"}]
["Manuf. Year","EER","Full Load","Part Load","EER","Full Load","Part Load","EER","Full Load","Part Load","EER","Full Load","Part Load","EER","Full Load","Part Load","EER","Full Load","Part Load","EER","Full Load","Part Load","EER","Full Load","Part Load","EER","Full Load","Part Load","EER","Full Load","Part Load","EER","Full Load","Part Load","EER","Full Load","Part Load","EER","Full Load","Part Load","EER","Full Load","Part Load","EER","Full Load","Part Load","EER","Full Load","Part Load",null,"Applicable Standard"]
[{"$f":"BaselineRow","v":1995},{"$f":"INDEX(B$36:B$37,MATCH(TRM,$A$36:$A$37,0))","v":{"$error":"#N/A"}},{"$f":"12/B7","v":{"$error":"#N/A"}},{"$f":"C7","v":{"$error":"#N/A"}},{"$f":"INDEX(E$36:E$37,MATCH(TRM,$A$36:$A$37,0))","v":{"$error":"#N/A"}},{"$f":"12/E7","v":{"$error":"#N/A"}},{"$f":"F7","v":{"$error":"#N/A"}},{"$f":"INDEX(H$36:H$37,MATCH(TRM,$A$36:$A$37,0))","v":{"$error":"#N/A"}},{"$f":"12/H7","v":{"$error":"#N/A"}},{"$f":"I7","v":{"$error":"#N/A"}},{"$f":"INDEX(K$36:K$37,MATCH(TRM,$A$36:$A$37,0))","v":{"$error":"#N/A"}},{"$f":"12/K7","v":{"$error":"#N/A"}},{"$f":"L7","v":{"$error":"#N/A"}},{"$f":"INDEX(N$36:N$37,MATCH(TRM,$A$36:$A$37,0))","v":{"$error":"#N/A"}},{"$f":"12/N7","v":{"$error":"#N/A"}},{"$f":"O7","v":{"$error":"#N/A"}},{"$f":"INDEX(Q$36:Q$37,MATCH(TRM,$A$36:$A$37,0))","v":{"$error":"#N/A"}},{"$f":"12/Q7","v":{"$error":"#N/A"}},{"$f":"R7","v":{"$error":"#N/A"}},{"$f":"INDEX(T$36:T$37,MATCH(TRM,$A$36:$A$37,0))","v":{"$error":"#N/A"}},{"$f":"12/T7","v":{"$error":"#N/A"}},{"$f":"U7","v":{"$error":"#N/A"}},{"$f":"INDEX(W$36:W$37,MATCH(TRM,$A$36:$A$37,0))","v":{"$error":"#N/A"}},{"$f":"12/W7","v":{"$error":"#N/A"}},{"$f":"X7","v":{"$error":"#N/A"}},{"$f":"INDEX(Z$36:Z$37,MATCH(TRM,$A$36:$A$37,0))","v":{"$error":"#N/A"}},{"$f":"12/Z7","v":{"$error":"#N/A"}},{"$f":"AA7","v":{"$error":"#N/A"}},{"$f":"INDEX(AC$36:AC$37,MATCH(TRM,$A$36:$A$37,0))","v":{"$error":"#N/A"}},{"$f":"12/AC7","v":{"$error":"#N/A"}},{"$f":"AD7","v":{"$error":"#N/A"}},{"$f":"INDEX(AF$36:AF$37,MATCH(TRM,$A$36:$A$37,0))","v":{"$error":"#N/A"}},{"$f":"12/AF7","v":{"$error":"#N/A"}},{"$f":"AG7","v":{"$error":"#N/A"}},{"$f":"INDEX(AI$36:AI$37,MATCH(TRM,$A$36:$A$37,0))","v":{"$error":"#N/A"}},{"$f":"12/AI7","v":{"$error":"#N/A"}},{"$f":"AJ7","v":{"$error":"#N/A"}},{"$f":"INDEX(AL$36:AL$37,MATCH(TRM,$A$36:$A$37,0))","v":{"$error":"#N/A"}},{"$f":"12/AL7","v":{"$error":"#N/A"}},{"$f":"AM7","v":{"$error":"#N/A"}},{"$f":"INDEX(AO$36:AO$37,MATCH(TRM,$A$36:$A$37,0))","v":{"$error":"#N/A"}},{"$f":"12/AO7","v":{"$error":"#N/A"}},{"$f":"AP7","v":{"$error":"#N/A"}},{"$f":"INDEX(AR$36:AR$37,MATCH(TRM,$A$36:$A$37,0))","v":{"$error":"#N/A"}},{"$f":"12/AR7","v":{"$error":"#N/A"}},{"$f":"AS7","v":{"$error":"#N/A"}},{"$f":"INDEX(AU$36:AU$37,MATCH(TRM,$A$36:$A$37,0))","v":{"$error":"#N/A"}},{"$f":"12/AU7","v":{"$error":"#N/A"}},{"$f":"AV7","v":{"$error":"#N/A"}}]
[1996,{"$error":"#N/A"},{"$error":"#N/A"},{"$error":"#N/A"},{"$error":"#N/A"},{"$error":"#N/A"},{"$error":"#N/A"},{"$error":"#N/A"},{"$error":"#N/A"},{"$error":"#N/A"},{"$error":"#N/A"},{"$error":"#N/A"},{"$error":"#N/A"},{"$error":"#N/A"},{"$error":"#N/A"},{"$error":"#N/A"},{"$error":"#N/A"},{"$error":"#N/A"},{"$error":"#N/A"},{"$error":"#N/A"},{"$error":"#N/A"},{"$error":"#N/A"},{"$error":"#N/A"},{"$error":"#N/A"},{"$error":"#N/A"},{"$error":"#N/A"},{"$error":"#N/A"},{"$error":"#N/A"},{"$error":"#N/A"},{"$error":"#N/A"},{"$error":"#N/A"},{"$error":"#N/A"},{"$error":"#N/A"},{"$error":"#N/A"},{"$error":"#N/A"},{"$error":"#N/A"},{"$error":"#N/A"},{"$error":"#N/A"},{"$error":"#N/A"},{"$error":"#N/A"},{"$error":"#N/A"},{"$error":"#N/A"},{"$error":"#N/A"},{"$error":"#N/A"},{"$error":"#N/A"},{"$error":"#N/A"},{"$error":"#N/A"},{"$error":"#N/A"},{"$error":"#N/A"}]
[1997,{"$error":"#N/A"},{"$error":"#N/A"},{"$error":"#N/A"},{"$error":"#N/A"},{"$f":"12/E9","v":{"$error":"#N/A"}},{"$f":"F9","v":{"$error":"#N/A"}},{"$error":"#N/A"},{"$error":"#N/A"},{"$error":"#N/A"},{"$error":"#N/A"},{"$error":"#N/A"},{"$error":"#N/A"},{"$error":"#N/A"},{"$error":"#N/A"},{"$error":"#N/A"},{"$error":"#N/A"},{"$error":"#N/A"},{"$error":"#N/A"},{"$error":"#N/A"},{"$error":"#N/A"},{"$error":"#N/A"},{"$error":"#N/A"},{"$error":"#N/A"},{"$error":"#N/A"},{"$error":"#N/A"},{"$error":"#N/A"},{"$error":"#N/A"},{"$error":"#N/A"},{"$error":"#N/A"},{"$error":"#N/A"},{"$error":"#N/A"},{"$error":"#N/A"},{"$error":"#N/A"},{"$error":"#N/A"},{"$error":"#N/A"},{"$error":"#N/A"},{"$error":"#N/A"},{"$error":"#N/A"},{"$error":"#N/A"},{"$error":"#N/A"},{"$error":"#N/A"},{"$error":"#N/A"},{"$error":"#N/A"},{"$error":"#N/A"},{"$error":"#N/A"},{"$error":"#N/A"},{"$error":"#N/A"},{"$error":"#N/A"}]
[1998,{"$error":"#N/A"},{"$error":"#N/A"},{"$error":"#N/A"},{"$error":"#N/A"},{"$error":"#N/A"},{"$error":"#N/A"},{"$error":"#N/A"},{"$error":"#N/A"},{"$error":"#N/A"},{"$error":"#N/A"},{"$error":"#N/A"},{"$error":"#N/A"},{"$error":"#N/A"},{"$error":"#N/A"},{"$error":"#N/A"},{"$error":"#N/A"},{"$error":"#N/A"},{"$error":"#N/A"},{"$error":"#N/A"},{"$error":"#N/A"},{"$error":"#N/A"},{"$error":"#N/A"},{"$error":"#N/A"},{"$error":"#N/A"},{"$error":"#N/A"},{"$error":"#N/A"},{"$error":"#N/A"},{"$error":"#N/A"},{"$error":"#N/A"},{"$error":"#N/A"},{"$error":"#N/A"},{"$error":"#N/A"},{"$error":"#N/A"},{"$error":"#N/A"},{"$error":"#N/A"},{"$error":"#N/A"},{"$error":"#N/A"},{"$error":"#N/A"},{"$error":"#N/A"},{"$error":"#N/A"},{"$error":"#N/A"},{"$error":"#N/A"},{"$error":"#N/A"},{"$error":"#N/A"},{"$error":"#N/A"},{"$error":"#N/A"},{"$error":"#N/A"},{"$error":"#N/A"}]
[1999,{"$error":"#N/A"},{"$error":"#N/A"},{"$error":"#N/A"},{"$error":"#N/A"},{"$error":"#N/A"},{"$error":"#N/A"},{"$error":"#N/A"},{"$error":"#N/A"},{"$error":"#N/A"},{"$error":"#N/A"},{"$error":"#N/A"},{"$error":"#N/A"},{"$error":"#N/A"},{"$error":"#N/A"},{"$error":"#N/A"},{"$error":"#N/A"},{"$error":"#N/A"},{"$error":"#N/A"},{"$error":"#N/A"},{"$error":"#N/A"},{"$error":"#N/A"},{"$error":"#N/A"},{"$error":"#N/A"},{"$error":"#N/A"},{"$error":"#N/A"},{"$error":"#N/A"},{"$error":"#N/A"},{"$error":"#N/A"},{"$error":"#N/A"},{"$error":"#N/A"},{"$error":"#N/A"},{"$error":"#N/A"},{"$error":"#N/A"},{"$error":"#N/A"},{"$error":"#N/A"},{"$error":"#N/A"},{"$error":"#N/A"},{"$error":"#N/A"},{"$error":"#N/A"},{"$error":"#N/A"},{"$error":"#N/A"},{"$error":"#N/A"},{"$error":"#N/A"},{"$error":"#N/A"},{"$error":"#N/A"},{"$error":"#N/A"},{"$error":"#N/A"},{"$error":"#N/A"}]
[2000,{"$error":"#N/A"},{"$error":"#N/A"},{"$error":"#N/A"},{"$error":"#N/A"},{"$error":"#N/A"},{"$error":"#N/A"},{"$error":"#N/A"},{"$error":"#N/A"},{"$error":"#N/A"},{"$error":"#N/A"},{"$error":"#N/A"},{"$error":"#N/A"},{"$error":"#N/A"},{"$error":"#N/A"},{"$error":"#N/A"},{"$error":"#N/A"},{"$error":"#N/A"},{"$error":"#N/A"},{"$error":"#N/A"},{"$error":"#N/A"},{"$error":"#N/A"},{"$error":"#N/A"},{"$error":"#N/A"},{"$error":"#N/A"},{"$error":"#N/A"},{"$error":"#N/A"},{"$error":"#N/A"},{"$error":"#N/A"},{"$error":"#N/A"},{"$error":"#N/A"},{"$error":"#N/A"},{"$error":"#N/A"},{"$error":"#N/A"},{"$error":"#N/A"},{"$error":"#N/A"},{"$error":"#N/A"},{"$error":"#N/A"},{"$error":"#N/A"},{"$error":"#N/A"},{"$error":"#N/A"},{"$error":"#N/A"},{"$error":"#N/A"},{"$error":"#N/A"},{"$error":"#N/A"},{"$error":"#N/A"},{"$error":"#N/A"},{"$error":"#N/A"},{"$error":"#N/A"}]
[2001,{"$error":"#N/A"},{"$error":"#N/A"},{"$error":"#N/A"},{"$error":"#N/A"},{"$error":"#N/A"},{"$error":"#N/A"},{"$error":"#N/A"},{"$error":"#N/A"},{"$error":"#N/A"},{"$error":"#N/A"},{"$error":"#N/A"},{"$error":"#N/A"},{"$error":"#N/A"},{"$error":"#N/A"},{"$error":"#N/A"},{"$error":"#N/A"},{"$error":"#N/A"},{"$error":"#N/A"},{"$error":"#N/A"},{"$error":"#N/A"},{"$error":"#N/A"},{"$error":"#N/A"},{"$error":"#N/A"},{"$error":"#N/A"},{"$error":"#N/A"},{"$error":"#N/A"},{"$error":"#N/A"},{"$error":"#N/A"},{"$error":"#N/A"},{"$error":"#N/A"},{"$error":"#N/A"},{"$error":"#N/A"},{"$error":"#N/A"},{"$error":"#N/A"},{"$error":"#N/A"},{"$error":"#N/A"},{"$error":"#N/A"},{"$error":"#N/A"},{"$error":"#N/A"},{"$error":"#N/A"},{"$error":"#N/A"},{"$error":"#N/A"},{"$error":"#N/A"},{"$error":"#N/A"},{"$error":"#N/A"},{"$error":"#N/A"},{"$error":"#N/A"},{"$error":"#N/A"}]
[2002,{"$error":"#N/A"},{"$error":"#N/A"},{"$error":"#N/A"},{"$error":"#N/A"},{"$error":"#N/A"},{"$error":"#N/A"},{"$error":"#N/A"},{"$error":"#N/A"},{"$error":"#N/A"},{"$error":"#N/A"},{"$error":"#N/A"},{"$error":"#N/A"},{"$error":"#N/A"},{"$error":"#N/A"},{"$error":"#N/A"},{"$error":"#N/A"},{"$error":"#N/A"},{"$error":"#N/A"},{"$error":"#N/A"},{"$error":"#N/A"},{"$error":"#N/A"},{"$error":"#N/A"},{"$error":"#N/A"},{"$error":"#N/A"},{"$error":"#N/A"},{"$error":"#N/A"},{"$error":"#N/A"},{"$error":"#N/A"},{"$error":"#N/A"},{"$error":"#N/A"},{"$error":"#N/A"},{"$error":"#N/A"},{"$error":"#N/A"},{"$error":"#N/A"},{"$error":"#N/A"},{"$error":"#N/A"},{"$error":"#N/A"},{"$error":"#N/A"},{"$error":"#N/A"},{"$error":"#N/A"},{"$error":"#N/A"},{"$error":"#N/A"},{"$error":"#N/A"},{"$error":"#N/A"},{"$error":"#N/A"},{"$error":"#N/A"},{"$error":"#N/A"},{"$error":"#N/A"}]
[2003,{"$error":"#N/A"},{"$error":"#N/A"},{"$error":"#N/A"},{"$error":"#N/A"},{"$error":"#N/A"},{"$error":"#N/A"},{"$error":"#N/A"},{"$error":"#N/A"},{"$error":"#N/A"},{"$error":"#N/A"},{"$error":"#N/A"},{"$error":"#N/A"},{"$error":"#N/A"},{"$error":"#N/A"},{"$error":"#N/A"},{"$error":"#N/A"},{"$error":"#N/A"},{"$error":"#N/A"},{"$error":"#N/A"},{"$error":"#N/A"},{"$error":"#N/A"},{"$error":"#N/A"},{"$error":"#N/A"},{"$error":"#N/A"},{"$error":"#N/A"},{"$error":"#N/A"},{"$error":"#N/A"},{"$error":"#N/A"},{"$error":"#N/A"},{"$error":"#N/A"},{"$error":"#N/A"},{"$error":"#N/A"},{"$error":"#N/A"},{"$error":"#N/A"},{"$error":"#N/A"},{"$error":"#N/A"},{"$error":"#N/A"},{"$error":"#N/A"},{"$error":"#N/A"},{"$error":"#N/A"},{"$error":"#N/A"},{"$error":"#N/A"},{"$error":"#N/A"},{"$error":"#N/A"},{"$error":"#N/A"},{"$error":"#N/A"},{"$error":"#N/A"},{"$error":"#N/A"}]
[2004,{"$error":"#N/A"},{"$error":"#N/A"},{"$error":"#N/A"},{"$error":"#N/A"},{"$error":"#N/A"},{"$error":"#N/A"},{"$error":"#N/A"},{"$error":"#N/A"},{"$error":"#N/A"},{"$error":"#N/A"},{"$error":"#N/A"},{"$error":"#N/A"},{"$error":"#N/A"},{"$error":"#N/A"},{"$error":"#N/A"},{"$error":"#N/A"},{"$error":"#N/A"},{"$error":"#N/A"},{"$error":"#N/A"},{"$error":"#N/A"},{"$error":"#N/A"},{"$error":"#N/A"},{"$error":"#N/A"},{"$error":"#N/A"},{"$error":"#N/A"},{"$error":"#N/A"},{"$error":"#N/A"},{"$error":"#N/A"},{"$error":"#N/A"},{"$error":"#N/A"},{"$error":"#N/A"},{"$error":"#N/A"},{"$error":"#N/A"},{"$error":"#N/A"},{"$error":"#N/A"},{"$error":"#N/A"},{"$error":"#N/A"},{"$error":"#N/A"},{"$error":"#N/A"},{"$error":"#N/A"},{"$error":"#N/A"},{"$error":"#N/A"},{"$error":"#N/A"},{"$error":"#N/A"},{"$error":"#N/A"},{"$error":"#N/A"},{"$error":"#N/A"},{"$error":"#N/A"}]
[2005,{"$error":"#N/A"},{"$error":"#N/A"},{"$error":"#N/A"},{"$error":"#N/A"},{"$error":"#N/A"},{"$error":"#N/A"},{"$error":"#N/A"},{"$error":"#N/A"},{"$error":"#N/A"},{"$error":"#N/A"},{"$error":"#N/A"},{"$error":"#N/A"},{"$error":"#N/A"},{"$error":"#N/A"},{"$error":"#N/A"},{"$error":"#N/A"},{"$error":"#N/A"},{"$error":"#N/A"},{"$error":"#N/A"},{"$error":"#N/A"},{"$error":"#N/A"},{"$error":"#N/A"},{"$error":"#N/A"},{"$error":"#N/A"},{"$error":"#N/A"},{"$error":"#N/A"},{"$error":"#N/A"},{"$error":"#N/A"},{"$error":"#N/A"},{"$error":"#N/A"},{"$error":"#N/A"},{"$error":"#N/A"},{"$error":"#N/A"},{"$error":"#N/A"},{"$error":"#N/A"},{"$error":"#N/A"},{"$error":"#N/A"},{"$error":"#N/A"},{"$error":"#N/A"},{"$error":"#N/A"},{"$error":"#N/A"},{"$error":"#N/A"},{"$error":"#N/A"},{"$error":"#N/A"},{"$error":"#N/A"},{"$error":"#N/A"},{"$error":"#N/A"},{"$error":"#N/A"}]
[2006,{"$error":"#N/A"},{"$error":"#N/A"},{"$error":"#N/A"},{"$error":"#N/A"},{"$error":"#N/A"},{"$error":"#N/A"},{"$error":"#N/A"},{"$f":"12/H18","v":{"$error":"#N/A"}},{"$error":"#N/A"},{"$error":"#N/A"},{"$error":"#N/A"},{"$error":"#N/A"},{"$error":"#N/A"},{"$error":"#N/A"},{"$error":"#N/A"},{"$error":"#N/A"},{"$error":"#N/A"},{"$error":"#N/A"},{"$error":"#N/A"},{"$error":"#N/A"},{"$error":"#N/A"},{"$error":"#N/A"},{"$error":"#N/A"},{"$error":"#N/A"},{"$error":"#N/A"},{"$error":"#N/A"},{"$error":"#N/A"},{"$error":"#N/A"},{"$error":"#N/A"},{"$error":"#N/A"},{"$error":"#N/A"},{"$error":"#N/A"},{"$error":"#N/A"},{"$error":"#N/A"},{"$error":"#N/A"},{"$error":"#N/A"},{"$error":"#N/A"},{"$error":"#N/A"},{"$error":"#N/A"},{"$error":"#N/A"},{"$error":"#N/A"},{"$error":"#N/A"},{"$error":"#N/A"},{"$error":"#N/A"},{"$error":"#N/A"},{"$error":"#N/A"},{"$error":"#N/A"},{"$error":"#N/A"}]
[2007,{"$error":"#N/A"},{"$error":"#N/A"},{"$error":"#N/A"},{"$error":"#N/A"},{"$error":"#N/A"},{"$error":"#N/A"},{"$error":"#N/A"},{"$error":"#N/A"},{"$error":"#N/A"},{"$error":"#N/A"},{"$error":"#N/A"},{"$error":"#N/A"},{"$error":"#N/A"},{"$error":"#N/A"},{"$error":"#N/A"},{"$error":"#N/A"},{"$error":"#N/A"},{"$error":"#N/A"},{"$error":"#N/A"},{"$error":"#N/A"},{"$error":"#N/A"},{"$error":"#N/A"},{"$error":"#N/A"},{"$error":"#N/A"},{"$error":"#N/A"},{"$error":"#N/A"},{"$error":"#N/A"},{"$error":"#N/A"},{"$error":"#N/A"},{"$error":"#N/A"},{"$error":"#N/A"},{"$error":"#N/A"},{"$error":"#N/A"},{"$error":"#N/A"},{"$error":"#N/A"},{"$error":"#N/A"},{"$error":"#N/A"},{"$error":"#N/A"},{"$error":"#N/A"},{"$error":"#N/A"},{"$error":"#N/A"},{"$error":"#N/A"},{"$error":"#N/A"},{"$error":"#N/A"},{"$error":"#N/A"},{"$error":"#N/A"},{"$error":"#N/A"},{"$error":"#N/A"}]
[2008,{"$error":"#N/A"},{"$error":"#N/A"},{"$error":"#N/A"},{"$error":"#N/A"},{"$error":"#N/A"},{"$error":"#N/A"},{"$error":"#N/A"},{"$error":"#N/A"},{"$error":"#N/A"},{"$error":"#N/A"},{"$error":"#N/A"},{"$error":"#N/A"},{"$error":"#N/A"},{"$error":"#N/A"},{"$error":"#N/A"},{"$error":"#N/A"},{"$error":"#N/A"},{"$error":"#N/A"},{"$error":"#N/A"},{"$error":"#N/A"},{"$error":"#N/A"},{"$error":"#N/A"},{"$error":"#N/A"},{"$error":"#N/A"},{"$error":"#N/A"},{"$error":"#N/A"},{"$error":"#N/A"},{"$error":"#N/A"},{"$error":"#N/A"},{"$error":"#N/A"},{"$error":"#N/A"},{"$error":"#N/A"},{"$error":"#N/A"},{"$error":"#N/A"},{"$error":"#N/A"},{"$error":"#N/A"},{"$error":"#N/A"},{"$error":"#N/A"},{"$error":"#N/A"},{"$error":"#N/A"},{"$error":"#N/A"},{"$error":"#N/A"},{"$error":"#N/A"},{"$error":"#N/A"},{"$error":"#N/A"},{"$error":"#N/A"},{"$error":"#N/A"},{"$error":"#N/A"}]
[2009,{"$error":"#N/A"},{"$f":"12/B21","v":{"$error":"#N/A"}},{"$f":"C21","v":{"$error":"#N/A"}},{"$error":"#N/A"},{"$error":"#N/A"},{"$error":"#N/A"},{"$error":"#N/A"},{"$f":"12/H21","v":{"$error":"#N/A"}},{"$f":"I21","v":{"$error":"#N/A"}},{"$error":"#N/A"},{"$f":"12/K21","v":{"$error":"#N/A"}},{"$f":"L21","v":{"$error":"#N/A"}},{"$error":"#N/A"},{"$f":"12/N21","v":{"$error":"#N/A"}},{"$f":"O21","v":{"$error":"#N/A"}},{"$error":"#N/A"},{"$f":"12/Q21","v":{"$error":"#N/A"}},{"$f":"R21","v":{"$error":"#N/A"}},{"$error":"#N/A"},{"$f":"12/T21","v":{"$error":"#N/A"}},{"$f":"U21","v":{"$error":"#N/A"}},{"$error":"#N/A"},{"$f":"12/W21","v":{"$error":"#N/A"}},{"$f":"X21","v":{"$error":"#N/A"}},{"$error":"#N/A"},{"$f":"12/Z21","v":{"$error":"#N/A"}},{"$f":"AA21","v":{"$error":"#N/A"}},{"$error":"#N/A"},{"$f":"12/AC21","v":{"$error":"#N/A"}},{"$f":"AD21","v":{"$error":"#N/A"}},{"$error":"#N/A"},{"$f":"12/AF21","v":{"$error":"#N/A"}},{"$f":"AG21","v":{"$error":"#N/A"}},{"$error":"#N/A"},{"$f":"12/AI21","v":{"$error":"#N/A"}},{"$f":"AJ21","v":{"$error":"#N/A"}},{"$error":"#N/A"},{"$f":"12/AL21","v":{"$error":"#N/A"}},{"$f":"AM21","v":{"$error":"#N/A"}},{"$error":"#N/A"},{"$f":"12/AO21","v":{"$error":"#N/A"}},{"$f":"AP21","v":{"$error":"#N/A"}},{"$error":"#N/A"},{"$f":"12/AR21","v":{"$error":"#N/A"}},{"$f":"AS21","v":{"$error":"#N/A"}},{"$error":"#N/A"},{"$f":"12/AU21","v":{"$error":"#N/A"}},{"$f":"AV21","v":{"$error":"#N/A"}}]
[2010,{"$error":"#N/A"},{"$error":"#N/A"},{"$error":"#N/A"},{"$error":"#N/A"},{"$error":"#N/A"},{"$error":"#N/A"},{"$error":"#N/A"},{"$error":"#N/A"},{"$error":"#N/A"},{"$error":"#N/A"},{"$error":"#N/A"},{"$error":"#N/A"},{"$error":"#N/A"},{"$error":"#N/A"},{"$error":"#N/A"},{"$error":"#N/A"},{"$error":"#N/A"},{"$error":"#N/A"},{"$error":"#N/A"},{"$error":"#N/A"},{"$error":"#N/A"},{"$error":"#N/A"},{"$error":"#N/A"},{"$error":"#N/A"},{"$error":"#N/A"},{"$error":"#N/A"},{"$error":"#N/A"},{"$error":"#N/A"},{"$error":"#N/A"},{"$error":"#N/A"},{"$error":"#N/A"},{"$error":"#N/A"},{"$error":"#N/A"},{"$error":"#N/A"},{"$error":"#N/A"},{"$error":"#N/A"},{"$error":"#N/A"},{"$error":"#N/A"},{"$error":"#N/A"},{"$error":"#N/A"},{"$error":"#N/A"},{"$error":"#N/A"},{"$error":"#N/A"},{"$error":"#N/A"},{"$error":"#N/A"},{"$error":"#N/A"},{"$error":"#N/A"},{"$error":"#N/A"}]
[2011,{"$error":"#N/A"},{"$error":"#N/A"},{"$error":"#N/A"},{"$error":"#N/A"},{"$error":"#N/A"},{"$error":"#N/A"},{"$error":"#N/A"},{"$error":"#N/A"},{"$error":"#N/A"},{"$error":"#N/A"},{"$error":"#N/A"},{"$error":"#N/A"},{"$error":"#N/A"},{"$error":"#N/A"},{"$error":"#N/A"},{"$error":"#N/A"},{"$error":"#N/A"},{"$error":"#N/A"},{"$error":"#N/A"},{"$error":"#N/A"},{"$error":"#N/A"},{"$error":"#N/A"},{"$error":"#N/A"},{"$error":"#N/A"},{"$error":"#N/A"},{"$error":"#N/A"},{"$error":"#N/A"},{"$error":"#N/A"},{"$error":"#N/A"},{"$error":"#N/A"},{"$error":"#N/A"},{"$error":"#N/A"},{"$error":"#N/A"},{"$error":"#N/A"},{"$error":"#N/A"},{"$error":"#N/A"},{"$error":"#N/A"},{"$error":"#N/A"},{"$error":"#N/A"},{"$error":"#N/A"},{"$error":"#N/A"},{"$error":"#N/A"},{"$error":"#N/A"},{"$error":"#N/A"},{"$error":"#N/A"},{"$error":"#N/A"},{"$error":"#N/A"},{"$error":"#N/A"}]
[2012,{"$error":"#N/A"},{"$error":"#N/A"},{"$error":"#N/A"},{"$error":"#N/A"},{"$error":"#N/A"},{"$error":"#N/A"},{"$error":"#N/A"},{"$error":"#N/A"},{"$error":"#N/A"},{"$error":"#N/A"},{"$error":"#N/A"},{"$error":"#N/A"},{"$error":"#N/A"},{"$error":"#N/A"},{"$error":"#N/A"},{"$error":"#N/A"},{"$error":"#N/A"},{"$error":"#N/A"},{"$error":"#N/A"},{"$error":"#N/A"},{"$error":"#N/A"},{"$error":"#N/A"},{"$error":"#N/A"},{"$error":"#N/A"},{"$error":"#N/A"},{"$error":"#N/A"},{"$error":"#N/A"},{"$error":"#N/A"},{"$error":"#N/A"},{"$error":"#N/A"},{"$error":"#N/A"},{"$error":"#N/A"},{"$error":"#N/A"},{"$error":"#N/A"},{"$error":"#N/A"},{"$error":"#N/A"},{"$error":"#N/A"},{"$error":"#N/A"},{"$error":"#N/A"},{"$error":"#N/A"},{"$error":"#N/A"},{"$error":"#N/A"},{"$error":"#N/A"},{"$error":"#N/A"},{"$error":"#N/A"},{"$error":"#N/A"},{"$error":"#N/A"},{"$error":"#N/A"}]
[2013,{"$error":"#N/A"},{"$error":"#N/A"},{"$error":"#N/A"},{"$error":"#N/A"},{"$error":"#N/A"},{"$error":"#N/A"},{"$error":"#N/A"},{"$error":"#N/A"},{"$error":"#N/A"},{"$error":"#N/A"},{"$error":"#N/A"},{"$error":"#N/A"},{"$error":"#N/A"},{"$error":"#N/A"},{"$error":"#N/A"},{"$error":"#N/A"},{"$error":"#N/A"},{"$error":"#N/A"},{"$error":"#N/A"},{"$error":"#N/A"},{"$error":"#N/A"},{"$error":"#N/A"},{"$error":"#N/A"},{"$error":"#N/A"},{"$error":"#N/A"},{"$error":"#N/A"},{"$error":"#N/A"},{"$error":"#N/A"},{"$error":"#N/A"},{"$error":"#N/A"},{"$error":"#N/A"},{"$error":"#N/A"},{"$error":"#N/A"},{"$error":"#N/A"},{"$error":"#N/A"},{"$error":"#N/A"},{"$error":"#N/A"},{"$error":"#N/A"},{"$error":"#N/A"},{"$error":"#N/A"},{"$error":"#N/A"},{"$error":"#N/A"},{"$error":"#N/A"},{"$error":"#N/A"},{"$error":"#N/A"},{"$error":"#N/A"},{"$error":"#N/A"},{"$error":"#N/A"}]
[2014,{"$error":"#N/A"},{"$error":"#N/A"},{"$error":"#N/A"},{"$error":"#N/A"},{"$error":"#N/A"},{"$error":"#N/A"},{"$error":"#N/A"},{"$error":"#N/A"},{"$error":"#N/A"},{"$error":"#N/A"},{"$error":"#N/A"},{"$error":"#N/A"},{"$error":"#N/A"},{"$error":"#N/A"},{"$error":"#N/A"},{"$error":"#N/A"},{"$error":"#N/A"},{"$error":"#N/A"},{"$error":"#N/A"},{"$error":"#N/A"},{"$error":"#N/A"},{"$error":"#N/A"},{"$error":"#N/A"},{"$error":"#N/A"},{"$error":"#N/A"},{"$error":"#N/A"},{"$error":"#N/A"},{"$error":"#N/A"},{"$error":"#N/A"},{"$error":"#N/A"},{"$error":"#N/A"},{"$error":"#N/A"},{"$error":"#N/A"},{"$error":"#N/A"},{"$error":"#N/A"},{"$error":"#N/A"},{"$error":"#N/A"},{"$error":"#N/A"},{"$error":"#N/A"},{"$error":"#N/A"},{"$error":"#N/A"},{"$error":"#N/A"},{"$error":"#N/A"},{"$error":"#N/A"},{"$error":"#N/A"},{"$error":"#N/A"},{"$error":"#N/A"},{"$error":"#N/A"}]
[2015,{"$error":"#N/A"},{"$error":"#N/A"},{"$error":"#N/A"},{"$error":"#N/A"},{"$error":"#N/A"},{"$error":"#N/A"},{"$error":"#N/A"},{"$error":"#N/A"},{"$error":"#N/A"},{"$error":"#N/A"},{"$error":"#N/A"},{"$error":"#N/A"},{"$error":"#N/A"},{"$error":"#N/A"},{"$error":"#N/A"},{"$error":"#N/A"},{"$error":"#N/A"},{"$error":"#N/A"},{"$error":"#N/A"},{"$error":"#N/A"},{"$error":"#N/A"},{"$error":"#N/A"},{"$error":"#N/A"},{"$error":"#N/A"},{"$error":"#N/A"},{"$error":"#N/A"},{"$error":"#N/A"},{"$error":"#N/A"},{"$error":"#N/A"},{"$error":"#N/A"},{"$error":"#N/A"},{"$error":"#N/A"},{"$error":"#N/A"},{"$error":"#N/A"},{"$error":"#N/A"},{"$error":"#N/A"},{"$error":"#N/A"},{"$error":"#N/A"},{"$error":"#N/A"},{"$error":"#N/A"},{"$error":"#N/A"},{"$error":"#N/A"},{"$error":"#N/A"},{"$error":"#N/A"},{"$error":"#N/A"},{"$error":"#N/A"},{"$error":"#N/A"},{"$error":"#N/A"}]
[2016,{"$error":"#N/A"},{"$error":"#N/A"},{"$error":"#N/A"},{"$error":"#N/A"},{"$error":"#N/A"},{"$error":"#N/A"},{"$error":"#N/A"},{"$error":"#N/A"},{"$error":"#N/A"},{"$error":"#N/A"},{"$error":"#N/A"},{"$error":"#N/A"},{"$error":"#N/A"},{"$error":"#N/A"},{"$error":"#N/A"},{"$error":"#N/A"},{"$error":"#N/A"},{"$error":"#N/A"},{"$error":"#N/A"},{"$error":"#N/A"},{"$error":"#N/A"},{"$error":"#N/A"},{"$error":"#N/A"},{"$error":"#N/A"},{"$error":"#N/A"},{"$error":"#N/A"},{"$error":"#N/A"},{"$error":"#N/A"},{"$error":"#N/A"},{"$error":"#N/A"},{"$error":"#N/A"},{"$error":"#N/A"},{"$error":"#N/A"},{"$error":"#N/A"},{"$error":"#N/A"},{"$error":"#N/A"},{"$error":"#N/A"},{"$error":"#N/A"},{"$error":"#N/A"},{"$error":"#N/A"},{"$error":"#N/A"},{"$error":"#N/A"},{"$error":"#N/A"},{"$error":"#N/A"},{"$error":"#N/A"},{"$error":"#N/A"},{"$error":"#N/A"},{"$error":"#N/A"}]
[2017,{"$error":"#N/A"},{"$error":"#N/A"},{"$error":"#N/A"},{"$error":"#N/A"},{"$error":"#N/A"},{"$error":"#N/A"},{"$error":"#N/A"},{"$error":"#N/A"},{"$error":"#N/A"},{"$error":"#N/A"},{"$error":"#N/A"},{"$error":"#N/A"},{"$error":"#N/A"},{"$error":"#N/A"},{"$error":"#N/A"},{"$error":"#N/A"},{"$error":"#N/A"},{"$error":"#N/A"},{"$error":"#N/A"},{"$error":"#N/A"},{"$error":"#N/A"},{"$error":"#N/A"},{"$error":"#N/A"},{"$error":"#N/A"},{"$error":"#N/A"},{"$error":"#N/A"},{"$error":"#N/A"},{"$error":"#N/A"},{"$error":"#N/A"},{"$error":"#N/A"},{"$error":"#N/A"},{"$error":"#N/A"},{"$error":"#N/A"},{"$error":"#N/A"},{"$error":"#N/A"},{"$error":"#N/A"},{"$error":"#N/A"},{"$error":"#N/A"},{"$error":"#N/A"},{"$error":"#N/A"},{"$error":"#N/A"},{"$error":"#N/A"},{"$error":"#N/A"},{"$error":"#N/A"},{"$error":"#N/A"},{"$error":"#N/A"},{"$error":"#N/A"},{"$error":"#N/A"}]
[2018,{"$error":"#N/A"},{"$error":"#N/A"},{"$error":"#N/A"},{"$error":"#N/A"},{"$error":"#N/A"},{"$error":"#N/A"},{"$error":"#N/A"},{"$error":"#N/A"},{"$error":"#N/A"},{"$error":"#N/A"},{"$error":"#N/A"},{"$error":"#N/A"},{"$error":"#N/A"},{"$error":"#N/A"},{"$error":"#N/A"},{"$error":"#N/A"},{"$error":"#N/A"},{"$error":"#N/A"},{"$error":"#N/A"},{"$error":"#N/A"},{"$error":"#N/A"},{"$error":"#N/A"},{"$error":"#N/A"},{"$error":"#N/A"},{"$error":"#N/A"},{"$error":"#N/A"},{"$error":"#N/A"},{"$error":"#N/A"},{"$error":"#N/A"},{"$error":"#N/A"},{"$error":"#N/A"},{"$error":"#N/A"},{"$error":"#N/A"},{"$error":"#N/A"},{"$error":"#N/A"},{"$error":"#N/A"},{"$error":"#N/A"},{"$error":"#N/A"},{"$error":"#N/A"},{"$error":"#N/A"},{"$error":"#N/A"},{"$error":"#N/A"},{"$error":"#N/A"},{"$error":"#N/A"},{"$error":"#N/A"},{"$error":"#N/A"},{"$error":"#N/A"},{"$error":"#N/A"}]
[2019,{"$error":"#N/A"},{"$error":"#N/A"},{"$error":"#N/A"},{"$error":"#N/A"},{"$error":"#N/A"},{"$error":"#N/A"},{"$error":"#N/A"},{"$error":"#N/A"},{"$error":"#N/A"},{"$error":"#N/A"},{"$error":"#N/A"},{"$error":"#N/A"},{"$error":"#N/A"},{"$error":"#N/A"},{"$error":"#N/A"},{"$error":"#N/A"},{"$error":"#N/A"},{"$error":"#N/A"},{"$error":"#N/A"},{"$error":"#N/A"},{"$error":"#N/A"},{"$error":"#N/A"},{"$error":"#N/A"},{"$error":"#N/A"},{"$error":"#N/A"},{"$error":"#N/A"},{"$error":"#N/A"},{"$error":"#N/A"},{"$error":"#N/A"},{"$error":"#N/A"},{"$error":"#N/A"},{"$error":"#N/A"},{"$error":"#N/A"},{"$error":"#N/A"},{"$error":"#N/A"},{"$error":"#N/A"},{"$error":"#N/A"},{"$error":"#N/A"},{"$error":"#N/A"},{"$error":"#N/A"},{"$error":"#N/A"},{"$error":"#N/A"},{"$error":"#N/A"},{"$error":"#N/A"},{"$error":"#N/A"},{"$error":"#N/A"},{"$error":"#N/A"},{"$error":"#N/A"}]
[2020,{"$error":"#N/A"},{"$error":"#N/A"},{"$error":"#N/A"},{"$error":"#N/A"},{"$error":"#N/A"},{"$error":"#N/A"},{"$error":"#N/A"},{"$error":"#N/A"},{"$error":"#N/A"},{"$error":"#N/A"},{"$error":"#N/A"},{"$error":"#N/A"},{"$error":"#N/A"},{"$error":"#N/A"},{"$error":"#N/A"},{"$error":"#N/A"},{"$error":"#N/A"},{"$error":"#N/A"},{"$error":"#N/A"},{"$error":"#N/A"},{"$error":"#N/A"},{"$error":"#N/A"},{"$error":"#N/A"},{"$error":"#N/A"},{"$error":"#N/A"},{"$error":"#N/A"},{"$error":"#N/A"},{"$error":"#N/A"},{"$error":"#N/A"},{"$error":"#N/A"},{"$error":"#N/A"},{"$error":"#N/A"},{"$error":"#N/A"},{"$error":"#N/A"},{"$error":"#N/A"},{"$error":"#N/A"},{"$error":"#N/A"},{"$error":"#N/A"},{"$error":"#N/A"},{"$error":"#N/A"},{"$error":"#N/A"},{"$error":"#N/A"},{"$error":"#N/A"},{"$error":"#N/A"},{"$error":"#N/A"},{"$error":"#N/A"},{"$error":"#N/A"},{"$error":"#N/A"}]
[2021,{"$error":"#N/A"},{"$f":"12/B33","v":{"$error":"#N/A"}},{"$f":"C33","v":{"$error":"#N/A"}},{"$error":"#N/A"},{"$error":"#N/A"},{"$error":"#N/A"},{"$error":"#N/A"},{"$f":"12/H33","v":{"$error":"#N/A"}},{"$f":"I33","v":{"$error":"#N/A"}},{"$error":"#N/A"},{"$f":"12/K33","v":{"$error":"#N/A"}},{"$f":"L33","v":{"$error":"#N/A"}},{"$error":"#N/A"},{"$f":"12/N33","v":{"$error":"#N/A"}},{"$f":"O33","v":{"$error":"#N/A"}},{"$error":"#N/A"},{"$f":"12/Q33","v":{"$error":"#N/A"}},{"$f":"R33","v":{"$error":"#N/A"}},{"$error":"#N/A"},{"$f":"12/T33","v":{"$error":"#N/A"}},{"$f":"U33","v":{"$error":"#N/A"}},{"$error":"#N/A"},{"$f":"12/W33","v":{"$error":"#N/A"}},{"$f":"X33","v":{"$error":"#N/A"}},{"$error":"#N/A"},{"$f":"12/Z33","v":{"$error":"#N/A"}},{"$f":"AA33","v":{"$error":"#N/A"}},{"$error":"#N/A"},{"$f":"12/AC33","v":{"$error":"#N/A"}},{"$f":"AD33","v":{"$error":"#N/A"}},{"$error":"#N/A"},{"$f":"12/AF33","v":{"$error":"#N/A"}},{"$f":"AG33","v":{"$error":"#N/A"}},{"$error":"#N/A"},{"$f":"12/AI33","v":{"$error":"#N/A"}},{"$f":"AJ33","v":{"$error":"#N/A"}},{"$error":"#N/A"},{"$f":"12/AL33","v":{"$error":"#N/A"}},{"$f":"AM33","v":{"$error":"#N/A"}},{"$error":"#N/A"},{"$f":"12/AO33","v":{"$error":"#N/A"}},{"$f":"AP33","v":{"$error":"#N/A"}},{"$error":"#N/A"},{"$f":"12/AR33","v":{"$error":"#N/A"}},{"$f":"AS33","v":{"$error":"#N/A"}},{"$error":"#N/A"},{"$f":"12/AU33","v":{"$error":"#N/A"}},{"$f":"AV33","v":{"$error":"#N/A"}}]
[2022,{"$error":"#N/A"},{"$error":"#N/A"},{"$error":"#N/A"},{"$error":"#N/A"},{"$error":"#N/A"},{"$error":"#N/A"},{"$error":"#N/A"},{"$error":"#N/A"},{"$error":"#N/A"},{"$error":"#N/A"},{"$error":"#N/A"},{"$error":"#N/A"},{"$error":"#N/A"},{"$error":"#N/A"},{"$error":"#N/A"},{"$error":"#N/A"},{"$error":"#N/A"},{"$error":"#N/A"},{"$error":"#N/A"},{"$error":"#N/A"},{"$error":"#N/A"},{"$error":"#N/A"},{"$error":"#N/A"},{"$error":"#N/A"},{"$error":"#N/A"},{"$error":"#N/A"},{"$error":"#N/A"},{"$error":"#N/A"},{"$error":"#N/A"},{"$error":"#N/A"},{"$error":"#N/A"},{"$error":"#N/A"},{"$error":"#N/A"},{"$error":"#N/A"},{"$error":"#N/A"},{"$error":"#N/A"},{"$error":"#N/A"},{"$error":"#N/A"},{"$error":"#N/A"},{"$error":"#N/A"},{"$error":"#N/A"},{"$error":"#N/A"},{"$error":"#N/A"},{"$error":"#N/A"},{"$error":"#N/A"},{"$error":"#N/A"},{"$error":"#N/A"},{"$error":"#N/A"}]
[2023,{"$error":"#N/A"},{"$error":"#N/A"},{"$error":"#N/A"},{"$error":"#N/A"},{"$error":"#N/A"},{"$error":"#N/A"},{"$error":"#N/A"},{"$error":"#N/A"},{"$error":"#N/A"},{"$error":"#N/A"},{"$error":"#N/A"},{"$error":"#N/A"},{"$error":"#N/A"},{"$error":"#N/A"},{"$error":"#N/A"},{"$error":"#N/A"},{"$error":"#N/A"},{"$error":"#N/A"},{"$error":"#N/A"},{"$error":"#N/A"},{"$error":"#N/A"},{"$error":"#N/A"},{"$error":"#N/A"},{"$error":"#N/A"},{"$error":"#N/A"},{"$error":"#N/A"},{"$error":"#N/A"},{"$error":"#N/A"},{"$error":"#N/A"},{"$error":"#N/A"},{"$error":"#N/A"},{"$error":"#N/A"},{"$error":"#N/A"},{"$error":"#N/A"},{"$error":"#N/A"},{"$error":"#N/A"},{"$error":"#N/A"},{"$error":"#N/A"},{"$error":"#N/A"},{"$error":"#N/A"},{"$error":"#N/A"},{"$error":"#N/A"},{"$error":"#N/A"},{"$error":"#N/A"},{"$error":"#N/A"},{"$error":"#N/A"},{"$error":"#N/A"},{"$error":"#N/A"}]
["ARTRM9.2",11,{"$f":"12/B36","v":1.0909090909090908},{"$f":"C36","v":1.0909090909090908},10.9,{"$f":"12/E36","v":1.1009174311926606},{"$f":"F36","v":1.1009174311926606},10.7,{"$f":"12/H36","v":1.1214953271028039},{"$f":"I36","v":1.1214953271028039},9.4,{"$f":"12/K36","v":1.2765957446808509},{"$f":"L36","v":1.2765957446808509},9.4,{"$f":"12/N36","v":1.2765957446808509},1.2765957446808509,10,1.2,1.2,9.6,{"$f":"12/T36","v":1.25},1.25,9.6,1.25,1.25,9.6,{"$f":"12/Z36","v":1.25},1.25,9.6,{"$f":"12/AC36","v":1.25},1.25,9.8000000000000007,1.2244897959183672,1.2244897959183672,9.3000000000000007,1.2903225806451613,1.2903225806451613,9.3000000000000007,1.2903225806451613,1.2903225806451613,8.6999999999999993,{"$f":"12/AO36","v":1.3793103448275863},1.3793103448275863,9.5,{"$f":"12/AR36","v":1.263157894736842},1.263157894736842,10.4,{"$f":"12/AU36","v":1.1538461538461537},1.1538461538461537,null,"IECC2018"]
["CPS",11,1.0909090909090908,1.0909090909090908,10.9,1.1009174311926606,1.1009174311926606,10.7,1.1214953271028039,1.1214953271028039,9.4,1.2765957446808509,1.2765957446808509,9,{"$f":"12/N37","v":1.3333333333333333},1.3333333333333333,10,1.2,1.2,9.6,{"$f":"12/T37","v":1.25},1.25,9.5,1.263157894736842,1.263157894736842,9.4,{"$f":"12/Z37","v":1.2765957446808509},1.2765957446808509,9.4,{"$f":"12/AC37","v":1.2765957446808509},1.2765957446808509,9.8000000000000007,1.2244897959183672,1.2244897959183672,9.3000000000000007,1.2903225806451613,1.2903225806451613,9.3000000000000007,1.2903225806451613,1.2903225806451613,8.6999999999999993,{"$f":"12/AO37","v":1.3793103448275863},1.3793103448275863,9.5,{"$f":"12/AR37","v":1.263157894736842},1.263157894736842,10.4,{"$f":"12/AU37","v":1.1538461538461537},1.1538461538461537,null,"IECC2018"]

{"sheet":"SPVAC","index":14,"n_rows":40,"n_cols":30,"rows_kept":40,"cut":false,"hidden":true,"merged":[[3,29,5,29],[3,2,3,8],[3,14,3,24],[3,0,5,1],[4,3,4,4],[4,6,4,7],[4,9,4,10],[4,16,4,17],[4,21,4,22],[4,26,4,27],[4,14,4,15],[4,19,4,20],[4,24,4,25],[6,0,34,0],[2,2,2,4],[2,5,2,7],[2,8,2,10],[2,24,2,27],[2,19,2,22],[2,14,2,17]]}
["Efficiency Levels for Single Package Vertical Air Conditioners & Heat Pumps"]
[]
[null,null,"DXAirCooledSinglePackageVerticalAirConditionerLessthan5.42tons",null,null,"DXAirCooledSinglePackageVerticalAirConditioner5.42to11.25tons",null,null,"DXAirCooledSinglePackageVerticalAirConditioner11.25to20tons",null,null,null,null,null,"DXAirCooledSinglePackageVerticalHeatPumpCoolingLessthan5.42tons",null,null,null,null,"DXAirCooledSinglePackageVerticalHeatPumpCooling5.42to11.25tons",null,null,null,null,"DXAirCooledSinglePackageVerticalHeatPumpCooling11.25to20tons"]
["Manuf. Year",null,"SPVAC - Cooling Mode",null,null,null,null,null,null,null,null,null,null,null,"SPVHP - Cooling Mode",null,null,null,null,null,null,null,null,null,null,null,null,null,null,"Applicable Standard"]
[null,null,"< 65,000 Btu/h","kW/ton",null,">=65,000, < 135,000 Btu/h","kW/ton",null,">= 135,000, < 240,000 Btu/h","kW/ton",null,null,null,null,"< 65,000 Btu/h",null,"kW/ton",null,null,">=65,000, < 135,000 Btu/h",null,"kW/ton",null,null,">= 135,000, < 240,000 Btu/h",null,"kW/ton"]
[null,null,"EER","Full","Part","EER","Full","Part","EER","Full","Part",null,null,null,"EER","COP","Full","Part","Heating","EER","COP","Full","Part","Heating","EER","COP","Full","Part","Heating"]
["BASELINE EFFICIENCIES",{"$f":"BaselineRow","v":1995},{"$f":"C$17","v":8.6},{"$f":"12/C7","v":1.3953488372093024},{"$f":"12/C7","v":1.3953488372093024},{"$f":"F$17","v":8.6},{"$f":"12/F7","v":1.3953488372093024},{"$f":"12/F7","v":1.3953488372093024},{"$f":"I$17","v":8.6},{"$f":"12/I7","v":1.3953488372093024},{"$f":"12/I7","v":1.3953488372093024},null,null,null,{"$f":"O$17","v":8.6},2.7,{"$f":"12/O7","v":1.3953488372093024},{"$f":"12/O7","v":1.3953488372093024},{"$f":"12/3.412/P7","v":1.3025921583952065},{"$f":"T$17","v":8.6},2.7,{"$f":"12/T7","v":1.3953488372093024},{"$f":"12/T7","v":1.3953488372093024},{"$f":"12/3.412/U7","v":1.3025921583952065},{"$f":"Y$17","v":8.6},2.7,{"$f":"12/Y7","v":1.3953488372093024},{"$f":"12/Y7","v":1.3953488372093024},{"$f":"12/3.412/Z7","v":1.3025921583952065},"ASHRAE 90.1--1989"]
[null,1996,8.6,1.3953488372093024,1.3953488372093024,8.6,1.3953488372093024,1.3953488372093024,8.6,1.3953488372093024,1.3953488372093024,null,null,null,8.6,2.7,1.3953488372093024,1.3953488372093024,1.3025921583952065,8.6,2.7,1.3953488372093024,1.3953488372093024,1.3025921583952065,8.6,2.7,1.3953488372093024,1.3953488372093024,1.3025921583952065,"ASHRAE 90.1--1989"]
[null,1997,8.6,1.3953488372093024,1.3953488372093024,8.6,1.3953488372093024,1.3953488372093024,8.6,1.3953488372093024,1.3953488372093024,null,null,null,8.6,2.7,1.3953488372093024,1.3953488372093024,1.3025921583952065,8.6,2.7,1.3953488372093024,1.3953488372093024,1.3025921583952065,8.6,2.7,1.3953488372093024,1.3953488372093024,1.3025921583952065,"ASHRAE 90.1--1989"]
[null,1998,8.6,1.3953488372093024,1.3953488372093024,8.6,1.3953488372093024,1.3953488372093024,8.6,1.3953488372093024,1.3953488372093024,null,null,null,8.6,2.7,1.3953488372093024,1.3953488372093024,1.3025921583952065,8.6,2.7,1.3953488372093024,1.3953488372093024,1.3025921583952065,8.6,2.7,1.3953488372093024,1.3953488372093024,1.3025921583952065,"ASHRAE 90.1--1989"]
[null,1999,8.6,1.3953488372093024,1.3953488372093024,8.6,1.3953488372093024,1.3953488372093024,8.6,1.3953488372093024,1.3953488372093024,null,null,null,8.6,2.7,1.3953488372093024,1.3953488372093024,1.3025921583952065,8.6,2.7,1.3953488372093024,1.3953488372093024,1.3025921583952065,8.6,2.7,1.3953488372093024,1.3953488372093024,1.3025921583952065,"ASHRAE 90.1--1999"]
[null,2000,8.6,1.3953488372093024,1.3953488372093024,8.6,1.3953488372093024,1.3953488372093024,8.6,1.3953488372093024,1.3953488372093024,null,null,null,8.6,2.7,1.3953488372093024,1.3953488372093024,1.3025921583952065,8.6,2.7,1.3953488372093024,1.3953488372093024,1.3025921583952065,8.6,2.7,1.3953488372093024,1.3953488372093024,1.3025921583952065,"ASHRAE 90.1--1999"]
[null,2001,8.6,1.3953488372093024,1.3953488372093024,8.6,1.3953488372093024,1.3953488372093024,8.6,1.3953488372093024,1.3953488372093024,null,null,null,8.6,2.7,1.3953488372093024,1.3953488372093024,1.3025921583952065,8.6,2.7,1.3953488372093024,1.3953488372093024,1.3025921583952065,8.6,2.7,1.3953488372093024,1.3953488372093024,1.3025921583952065,"ASHRAE 90.1--1999 "]
[null,2002,8.6,1.3953488372093024,1.3953488372093024,8.6,1.3953488372093024,1.3953488372093024,8.6,1.3953488372093024,1.3953488372093024,null,null,null,8.6,2.7,1.3953488372093024,1.3953488372093024,1.3025921583952065,8.6,2.7,1.3953488372093024,1.3953488372093024,1.3025921583952065,8.6,2.7,1.3953488372093024,1.3953488372093024,1.3025921583952065,"ASHRAE 90.1--1999 (as of 10/29/2001)"]
[null,2003,8.6,1.3953488372093024,1.3953488372093024,8.6,1.3953488372093024,1.3953488372093024,8.6,1.3953488372093024,1.3953488372093024,null,null,null,8.6,2.7,1.3953488372093024,1.3953488372093024,1.3025921583952065,8.6,2.7,1.3953488372093024,1.3953488372093024,1.3025921583952065,8.6,2.7,1.3953488372093024,1.3953488372093024,1.3025921583952065,"ASHRAE 90.1--1999 (as of 10/29/2001)"]
[null,2004,8.6,1.3953488372093024,1.3953488372093024,8.6,1.3953488372093024,1.3953488372093024,8.6,1.3953488372093024,1.3953488372093024,null,null,null,8.6,2.7,1.3953488372093024,1.3953488372093024,1.3025921583952065,8.6,2.7,1.3953488372093024,1.3953488372093024,1.3025921583952065,8.6,2.7,1.3953488372093024,1.3953488372093024,1.3025921583952065,"ASHRAE 90.1--2004"]
[null,2005,8.6,1.3953488372093024,1.3953488372093024,8.6,1.3953488372093024,1.3953488372093024,8.6,1.3953488372093024,1.3953488372093024,null,null,null,8.6,2.7,1.3953488372093024,1.3953488372093024,1.3025921583952065,8.6,2.7,1.3953488372093024,1.3953488372093024,1.3025921583952065,8.6,2.7,1.3953488372093024,1.3953488372093024,1.3025921583952065,"ASHRAE 90.1--2004"]
[null,2006,8.6,1.3953488372093024,1.3953488372093024,8.6,1.3953488372093024,1.3953488372093024,8.6,1.3953488372093024,1.3953488372093024,null,null,null,8.6,2.7,1.3953488372093024,1.3953488372093024,1.3025921583952065,8.6,2.7,1.3953488372093024,1.3953488372093024,1.3025921583952065,8.6,2.7,1.3953488372093024,1.3953488372093024,1.3025921583952065,"Federal Standard/ASHRAE 90.1--2004"]
[null,2007,9,1.3333333333333333,1.3333333333333333,8.9,1.348314606741573,1.348314606741573,8.6,1.3953488372093024,1.3953488372093024,null,null,null,9,3,1.3333333333333333,1.3333333333333333,1.1723329425556859,8.9,3,1.348314606741573,1.348314606741573,1.1723329425556859,8.6,2.9,1.3953488372093024,1.3953488372093024,1.2127582164369164,"Federal Standard/ASHRAE 90.1-2007 "]
[null,2008,9,1.3333333333333333,1.3333333333333333,8.9,1.348314606741573,1.348314606741573,8.6,1.3953488372093024,1.3953488372093024,null,null,null,9,3,1.3333333333333333,1.3333333333333333,1.1723329425556859,8.9,3,1.348314606741573,1.348314606741573,1.1723329425556859,8.6,2.9,1.3953488372093024,1.3953488372093024,1.2127582164369164,"Federal Standard/ASHRAE 90.1-2007 "]
[null,2009,9,1.3333333333333333,1.3333333333333333,8.9,1.348314606741573,1.348314606741573,8.6,1.3953488372093024,1.3953488372093024,null,null,null,9,3,1.3333333333333333,1.3333333333333333,1.1723329425556859,8.9,3,1.348314606741573,1.348314606741573,1.1723329425556859,8.6,2.9,1.3953488372093024,1.3953488372093024,1.2127582164369164,"Federal Standard/ASHRAE 90.1-2007"]
[null,2010,9,1.3333333333333333,1.3333333333333333,8.9,1.348314606741573,1.348314606741573,8.6,1.3953488372093024,1.3953488372093024,null,null,null,9,3,1.3333333333333333,1.3333333333333333,1.1723329425556859,8.9,3,1.348314606741573,1.348314606741573,1.1723329425556859,8.6,2.9,1.3953488372093024,1.3953488372093024,1.2127582164369164,"Federal Standard/ASHRAE 90.1-2007 (as of 1/1/2010)"]
[null,2011,9,1.3333333333333333,1.3333333333333333,8.9,1.348314606741573,1.348314606741573,8.6,1.3953488372093024,1.3953488372093024,null,null,null,9,3,1.3333333333333333,1.3333333333333333,1.1723329425556859,8.9,3,1.348314606741573,1.348314606741573,1.1723329425556859,8.6,2.9,1.3953488372093024,1.3953488372093024,1.2127582164369164,"Federal Standard/ASHRAE 90.1-2007 (as of 1/1/2010)"]
[null,2012,9,1.3333333333333333,1.3333333333333333,8.9,1.348314606741573,1.348314606741573,8.6,1.3953488372093024,1.3953488372093024,null,null,null,9,3,1.3333333333333333,1.3333333333333333,1.1723329425556859,8.9,3,1.348314606741573,1.348314606741573,1.1723329425556859,8.6,2.9,1.3953488372093024,1.3953488372093024,1.2127582164369164,"Federal Standard/ASHRAE 90.1-2007 (as of 1/1/2010)"]
[null,2013,9,1.3333333333333333,1.3333333333333333,8.9,1.348314606741573,1.348314606741573,8.6,1.3953488372093024,1.3953488372093024,null,null,null,9,3,1.3333333333333333,1.3333333333333333,1.1723329425556859,8.9,3,1.348314606741573,1.348314606741573,1.1723329425556859,8.6,2.9,1.3953488372093024,1.3953488372093024,1.2127582164369164]
[null,2014,9,1.3333333333333333,1.3333333333333333,8.9,1.348314606741573,1.348314606741573,8.6,1.3953488372093024,1.3953488372093024,null,null,null,9,3,1.3333333333333333,1.3333333333333333,1.1723329425556859,8.9,3,1.348314606741573,1.348314606741573,1.1723329425556859,8.6,2.9,1.3953488372093024,1.3953488372093024,1.2127582164369164]
[null,2015,9,1.3333333333333333,1.3333333333333333,8.9,1.348314606741573,1.348314606741573,8.6,1.3953488372093024,1.3953488372093024,null,null,null,9,3,1.3333333333333333,1.3333333333333333,1.1723329425556859,8.9,3,1.348314606741573,1.348314606741573,1.1723329425556859,8.6,2.9,1.3953488372093024,1.3953488372093024,1.2127582164369164]
[null,2016,9,1.3333333333333333,1.3333333333333333,8.9,1.348314606741573,1.348314606741573,8.6,1.3953488372093024,1.3953488372093024,null,null,null,9,3,1.3333333333333333,1.3333333333333333,1.1723329425556859,8.9,3,1.348314606741573,1.348314606741573,1.1723329425556859,8.6,2.9,1.3953488372093024,1.3953488372093024,1.2127582164369164]
[null,2017,9,1.3333333333333333,1.3333333333333333,8.9,1.348314606741573,1.348314606741573,8.6,1.3953488372093024,1.3953488372093024,null,null,null,9,3,1.3333333333333333,1.3333333333333333,1.1723329425556859,8.9,3,1.348314606741573,1.348314606741573,1.1723329425556859,8.6,2.9,1.3953488372093024,1.3953488372093024,1.2127582164369164]
[null,2018,9,1.3333333333333333,1.3333333333333333,8.9,1.348314606741573,1.348314606741573,8.6,1.3953488372093024,1.3953488372093024,null,null,null,9,3,1.3333333333333333,1.3333333333333333,1.1723329425556859,8.9,3,1.348314606741573,1.348314606741573,1.1723329425556859,8.6,2.9,1.3953488372093024,1.3953488372093024,1.2127582164369164]
[null,2019,9,1.3333333333333333,1.3333333333333333,8.9,1.348314606741573,1.348314606741573,8.6,1.3953488372093024,1.3953488372093024,null,null,null,9,3,1.3333333333333333,1.3333333333333333,1.1723329425556859,8.9,3,1.348314606741573,1.348314606741573,1.1723329425556859,8.6,2.9,1.3953488372093024,1.3953488372093024,1.2127582164369164]
[null,2020,9,1.3333333333333333,1.3333333333333333,8.9,1.348314606741573,1.348314606741573,8.6,1.3953488372093024,1.3953488372093024,null,null,null,9,3,1.3333333333333333,1.3333333333333333,1.1723329425556859,8.9,3,1.348314606741573,1.348314606741573,1.1723329425556859,8.6,2.9,1.3953488372093024,1.3953488372093024,1.2127582164369164]
[null,2021,9,1.3333333333333333,1.3333333333333333,8.9,1.348314606741573,1.348314606741573,8.6,1.3953488372093024,1.3953488372093024,null,null,null,9,3,1.3333333333333333,1.3333333333333333,1.1723329425556859,8.9,3,1.348314606741573,1.348314606741573,1.1723329425556859,8.6,2.9,1.3953488372093024,1.3953488372093024,1.2127582164369164]
[null,2022,9,{"$f":"12/C34","v":1.3333333333333333},{"$f":"12/C34","v":1.3333333333333333},8.9,{"$f":"12/F34","v":1.348314606741573},{"$f":"12/F34","v":1.348314606741573},8.6,{"$f":"12/I34","v":1.3953488372093024},{"$f":"12/I34","v":1.3953488372093024},null,null,null,9,3,{"$f":"12/O34","v":1.3333333333333333},{"$f":"12/O34","v":1.3333333333333333},{"$f":"12/3.412/P34","v":1.1723329425556859},8.9,3,{"$f":"12/T34","v":1.348314606741573},{"$f":"12/T34","v":1.348314606741573},{"$f":"12/3.412/U34","v":1.1723329425556859},8.6,2.9,{"$f":"12/Y34","v":1.3953488372093024},{"$f":"12/Y34","v":1.3953488372093024},{"$f":"12/3.412/Z34","v":1.2127582164369164}]
[null,2023,9,{"$f":"12/C35","v":1.3333333333333333},{"$f":"12/C35","v":1.3333333333333333},8.9,{"$f":"12/F35","v":1.348314606741573},{"$f":"12/F35","v":1.348314606741573},8.6,{"$f":"12/I35","v":1.3953488372093024},{"$f":"12/I35","v":1.3953488372093024},null,null,null,9,3,{"$f":"12/O35","v":1.3333333333333333},{"$f":"12/O35","v":1.3333333333333333},{"$f":"12/3.412/P35","v":1.1723329425556859},8.9,3,{"$f":"12/T35","v":1.348314606741573},{"$f":"12/T35","v":1.348314606741573},{"$f":"12/3.412/U35","v":1.1723329425556859},8.6,2.9,{"$f":"12/Y35","v":1.3953488372093024},{"$f":"12/Y35","v":1.3953488372093024},{"$f":"12/3.412/Z35","v":1.2127582164369164}]
[null,"ARTRM9.2",9,{"$f":"12/C36","v":1.3333333333333333},{"$f":"12/C36","v":1.3333333333333333},8.9,{"$f":"12/F36","v":1.348314606741573},{"$f":"12/F36","v":1.348314606741573},8.6,{"$f":"12/I36","v":1.3953488372093024},{"$f":"12/I36","v":1.3953488372093024},null,null,null,9,3,{"$f":"12/O36","v":1.3333333333333333},{"$f":"12/O36","v":1.3333333333333333},{"$f":"12/3.412/P36","v":1.1723329425556859},8.9,3,{"$f":"12/T36","v":1.348314606741573},{"$f":"12/T36","v":1.348314606741573},{"$f":"12/3.412/U36","v":1.1723329425556859},8.6,2.9,{"$f":"12/Y36","v":1.3953488372093024},{"$f":"12/Y36","v":1.3953488372093024},{"$f":"12/3.412/Z36","v":1.2127582164369164},"Federal Standard/ASHRAE 90.1-2007 (as of 1/1/2010)"]
[null,"CPS",9,{"$f":"12/C37","v":1.3333333333333333},{"$f":"12/C37","v":1.3333333333333333},8.9,{"$f":"12/F37","v":1.348314606741573},{"$f":"12/F37","v":1.348314606741573},8.6,{"$f":"12/I37","v":1.3953488372093024},{"$f":"12/I37","v":1.3953488372093024},null,null,null,9,3,{"$f":"12/O37","v":1.3333333333333333},{"$f":"12/O37","v":1.3333333333333333},{"$f":"12/3.412/P37","v":1.1723329425556859},8.9,3,{"$f":"12/T37","v":1.348314606741573},{"$f":"12/T37","v":1.348314606741573},{"$f":"12/3.412/U37","v":1.1723329425556859},8.6,2.9,{"$f":"12/Y37","v":1.3953488372093024},{"$f":"12/Y37","v":1.3953488372093024},{"$f":"12/3.412/Z37","v":1.2127582164369164},"ASHRAE 90.1--2010"]
[]
["* EER - 95db/75wb outdoor air"]
["** COP - 47db/43wb outdoor air"]

{"sheet":"Geothermal","index":15,"n_rows":37,"n_cols":161,"rows_kept":37,"cut":false,"hidden":true,"merged":[]}
[null,"GeothermalAirConditioner",null,null,null,"GeothermalAirConditioner",null,null,null,"GeothermalAirConditioner",null,null,null,"GeothermalAirConditioner",null,null,null,"GeothermalAirConditioner",null,null,null,"GeothermalAirConditioner",null,null,null,"GeothermalAirConditioner",null,null,null,"GeothermalAirConditioner",null,null,null,"GeothermalAirConditioner",null,null,null,"GeothermalAirConditioner",null,null,null,"GeothermalAirConditioner",null,null,null,"GeothermalAirConditioner",null,null,null,"GeothermalAirConditioner",null,null,null,"GeothermalAirConditioner",null,null,null,"GeothermalAirConditioner",null,null,null,"GeothermalAirConditioner",null,null,null,"GeothermalAirConditioner",null,null,null,"GeothermalAirConditioner",null,null,null,"GeothermalAirConditioner",null,null,null,"GeothermalAirConditioner",null,null,null,null,"GeothermalHeatPump",null,null,null,null,null,"GeothermalHeatPump",null,null,null,null,null,"GeothermalHeatPump",null,null,null,null,null,"GeothermalHeatPump",null,null,null,null,null,"GeothermalHeatPump",null,null,null,null,null,"GeothermalHeatPump",null,null,null,null,null,"GeothermalHeatPump",null,null,null,null,null,"GeothermalHeatPump",null,null,null,null,null,"GeothermalHeatPump",null,null,null,null,null,"GeothermalHeatPump",null,null,null,null,null,"GeothermalHeatPump",null,null,null,null,null,"GeothermalHeatPump",null,null,null,null,null,"GeothermalHeatPump"]
[null,"WaterCooled",null,null,null,"WaterCooled",null,null,null,"WaterCooled",null,null,null,"WaterCooled",null,null,null,"WaterCooled",null,null,null,"WaterCooled",null,null,null,"WaterCooled",null,null,null,"WaterCooled",null,null,null,"WaterCooled",null,null,null,"WaterCooled",null,null,null,"EvaporativelyCooled",null,null,null,"EvaporativelyCooled",null,null,null,"EvaporativelyCooled",null,null,null,"EvaporativelyCooled",null,null,null,"EvaporativelyCooled",null,null,null,"EvaporativelyCooled",null,null,null,"EvaporativelyCooled",null,null,null,"EvaporativelyCooled",null,null,null,"EvaporativelyCooled",null,null,null,"EvaporativelyCooled",null,null,null,null,"WatertoAirWaterLoop",null,null,null,null,null,"WatertoAirWaterLoop",null,null,null,null,null,"WatertoAirWaterLoop",null,null,null,null,null,"WatertoAirGroundWater",null,null,null,null,null,"WatertoAirGroundWater",null,null,null,null,null,"BrinetoAirGroundLoop",null,null,null,null,null,"BrinetoAirGroundLoop",null,null,null,null,null,"WatertoWaterWaterLoop",null,null,null,null,null,"WatertoWaterWaterLoop",null,null,null,null,null,"WatertoWaterGroundWater",null,null,null,null,null,"WatertoWaterGroundWater",null,null,null,null,null,"BrinetoWaterGroundLoop",null,null,null,null,null,"BrinetoWaterGroundLoop"]
[null,"ElecResorNone",null,null,null,"Other",null,null,null,"ElecResorNone",null,null,null,"Other",null,null,null,"ElecResorNone",null,null,null,"Other",null,null,null,"ElecResorNone",null,null,null,"Other",null,null,null,"ElecResorNone",null,null,null,"Other",null,null,null,"ElecResorNone",null,null,null,"Other",null,null,null,"ElecResorNone",null,null,null,"Other",null,null,null,"ElecResorNone",null,null,null,"Other",null,null,null,"ElecResorNone",null,null,null,"Other",null,null,null,"ElecResorNone",null,null,null,"Other"]
[null,"Lessthan65kbtuh",null,null,null,"Lessthan65kbtuh",null,null,null,"65to135kbtuh",null,null,null,"65to135kbtuh",null,null,null,"135to240kbtuh",null,null,null,"135to240kbtuh",null,null,null,"240to760kbtuh",null,null,null,"240to760kbtuh",null,null,null,"Greaterthan760kbtuh",null,null,null,"Greaterthan760kbtuh",null,null,null,"Lessthan65kbtuh",null,null,null,"Lessthan65kbtuh",null,null,null,"65to135kbtuh",null,null,null,"65to135kbtuh",null,null,null,"135to240kbtuh",null,null,null,"135to240kbtuh",null,null,null,"240to760kbtuh",null,null,null,"240to760kbtuh",null,null,null,"Greaterthan760kbtuh",null,null,null,"Greaterthan760kbtuh",null,null,null,null,"Lessthan17kbtuh",null,null,null,null,null,"17to65kbtuh",null,null,null,null,null,"65to135kbtuh",null,null,null,null,null,"Lessthan65kbtuh",null,null,null,null,null,"65to135kbtuh",null,null,null,null,null,"Lessthan65kbtuh",null,null,null,null,null,"65to135kbtuh",null,null,null,null,null,"Lessthan65kbtuh",null,null,null,null,null,"65to135kbtuh",null,null,null,null,null,"Lessthan65kbtuh",null,null,null,null,null,"65to135kbtuh",null,null,null,null,null,"Lessthan65kbtuh",null,null,null,null,null,"65to135kbtuh"]
[null,{"$f":"B1&B2&B3&B4","v":"GeothermalAirConditionerWaterCooledElecResorNoneLessthan65kbtuh"},null,null,null,{"$f":"F1&F2&F3&F4","v":"GeothermalAirConditionerWaterCooledOtherLessthan65kbtuh"},null,null,null,{"$f":"J1&J2&J3&J4","v":"GeothermalAirConditionerWaterCooledElecResorNone65to135kbtuh"},null,null,null,{"$f":"N1&N2&N3&N4","v":"GeothermalAirConditionerWaterCooledOther65to135kbtuh"},null,null,null,{"$f":"R1&R2&R3&R4","v":"GeothermalAirConditionerWaterCooledElecResorNone135to240kbtuh"},null,null,null,{"$f":"V1&V2&V3&V4","v":"GeothermalAirConditionerWaterCooledOther135to240kbtuh"},null,null,null,{"$f":"Z1&Z2&Z3&Z4","v":"GeothermalAirConditionerWaterCooledElecResorNone240to760kbtuh"},null,null,null,{"$f":"AD1&AD2&AD3&AD4","v":"GeothermalAirConditionerWaterCooledOther240to760kbtuh"},null,null,null,{"$f":"AH1&AH2&AH3&AH4","v":"GeothermalAirConditionerWaterCooledElecResorNoneGreaterthan760kbtuh"},null,null,null,{"$f":"AL1&AL2&AL3&AL4","v":"GeothermalAirConditionerWaterCooledOtherGreaterthan760kbtuh"},null,null,null,{"$f":"AP1&AP2&AP3&AP4","v":"GeothermalAirConditionerEvaporativelyCooledElecResorNoneLessthan65kbtuh"},null,null,null,{"$f":"AT1&AT2&AT3&AT4","v":"GeothermalAirConditionerEvaporativelyCooledOtherLessthan65kbtuh"},null,null,null,{"$f":"AX1&AX2&AX3&AX4","v":"GeothermalAirConditionerEvaporativelyCooledElecResorNone65to135kbtuh"},null,null,null,{"$f":"BB1&BB2&BB3&BB4","v":"GeothermalAirConditionerEvaporativelyCooledOther65to135kbtuh"},null,null,null,{"$f":"BF1&BF2&BF3&BF4","v":"GeothermalAirConditionerEvaporativelyCooledElecResorNone135to240kbtuh"},null,null,null,{"$f":"BJ1&BJ2&BJ3&BJ4","v":"GeothermalAirConditionerEvaporativelyCooledOther135to240kbtuh"},null,null,null,{"$f":"BN1&BN2&BN3&BN4","v":"GeothermalAirConditionerEvaporativelyCooledElecResorNone240to760kbtuh"},null,null,null,{"$f":"BR1&BR2&BR3&BR4","v":"GeothermalAirConditionerEvaporativelyCooledOther240to760kbtuh"},null,null,null,{"$f":"BV1&BV2&BV3&BV4","v":"GeothermalAirConditionerEvaporativelyCooledElecResorNoneGreaterthan760kbtuh"},null,null,null,{"$f":"BZ1&BZ2&BZ3&BZ4","v":"GeothermalAirConditionerEvaporativelyCooledOtherGreaterthan760kbtuh"},null,null,null,null,{"$f":"CE1&CE2&CE3&CE4","v":"GeothermalHeatPumpWatertoAirWaterLoopLessthan17kbtuh"},null,null,null,null,null,{"$f":"CK1&CK2&CK3&CK4","v":"GeothermalHeatPumpWatertoAirWaterLoop17to65kbtuh"},null,null,null,null,null,{"$f":"CQ1&CQ2&CQ3&CQ4","v":"GeothermalHeatPumpWatertoAirWaterLoop65to135kbtuh"},null,null,null,null,null,{"$f":"CW1&CW2&CW3&CW4","v":"GeothermalHeatPumpWatertoAirGroundWaterLessthan65kbtuh"},null,null,null,null,null,{"$f":"DC1&DC2&DC3&DC4","v":"GeothermalHeatPumpWatertoAirGroundWater65to135kbtuh"},null,null,null,null,null,{"$f":"DI1&DI2&DI3&DI4","v":"GeothermalHeatPumpBrinetoAirGroundLoopLessthan65kbtuh"},null,null,null,null,null,{"$f":"DO1&DO2&DO3&DO4","v":"GeothermalHeatPumpBrinetoAirGroundLoop65to135kbtuh"},null,null,null,null,null,{"$f":"DU1&DU2&DU3&DU4","v":"GeothermalHeatPumpWatertoWaterWaterLoopLessthan65kbtuh"},null,null,null,null,null,{"$f":"EA1&EA2&EA3&EA4","v":"GeothermalHeatPumpWatertoWaterWaterLoop65to135kbtuh"},null,null,null,null,null,{"$f":"EG1&EG2&EG3&EG4","v":"GeothermalHeatPumpWatertoWaterGroundWaterLessthan65kbtuh"},null,null,null,null,null,{"$f":"EM1&EM2&EM3&EM4","v":"GeothermalHeatPumpWatertoWaterGroundWater65to135kbtuh"},null,null,null,null,null,{"$f":"ES1&ES2&ES3&ES4","v":"GeothermalHeatPumpBrinetoWaterGroundLoopLessthan65kbtuh"},null,null,null,null,null,{"$f":"EY1&EY2&EY3&EY4","v":"GeothermalHeatPumpBrinetoWaterGroundLoop65to135kbtuh"}]
["Manuf. Year","EER","SEER","Full Load","Part Load","EER","SEER","Full Load","Part Load","EER","IEER","Full Load","Part Load","EER","IEER","Full Load","Part Load","EER","SEER","Full Load","Part Load","EER","SEER","Full Load","Part Load","EER","IEER","Full Load","Part Load","EER","IEER","Full Load","Part Load","EER","IEER","Full Load","Part Load","EER","IEER","Full Load","Part Load","EER","SEER","Full Load","Part Load","EER","SEER","Full Load","Part Load","EER","IEER","Full Load","Part Load","EER","IEER","Full Load","Part Load","EER","SEER","Full Load","Part Load","EER","SEER","Full Load","Part Load","EER","IEER","Full Load","Part Load","EER","IEER","Full Load","Part Load","EER","IEER","Full Load","Part Load","EER","IEER","Full Load","Part Load",null,"EER","IEER","COP","Full Load","Part-:Load","Heating","EER","IEER","COP","Full Load","Part-:Load","Heating","EER","IEER","COP","Full Load","Part-:Load","Heating","EER","IEER","COP","Full Load","Part-:Load","Heating","EER","IEER","COP","Full Load","Part-:Load","Heating","EER","IEER","COP","Full Load","Part-:Load","Heating","EER","IEER","COP","Full Load","Part-:Load","Heating","EER","IEER","COP","Full Load","Part-:Load","Heating","EER","IEER","COP","Full Load","Part-:Load","Heating","EER","IEER","COP","Full Load","Part-:Load","Heating","EER","IEER","COP","Full Load","Part-:Load","Heating","EER","IEER","COP","Full Load","Part-:Load","Heating","EER","IEER","COP","Full Load","Part-:Load","Heating"]
[{"$f":"BaselineRow","v":1995},{"$f":"B$37","v":12.1},12.3,{"$f":"12/B7","v":0.99173553719008267},{"$f":"12/C7","v":0.97560975609756095},{"$f":"F$37","v":12.1},12.3,{"$f":"12/F7","v":0.99173553719008267},{"$f":"12/G7","v":0.97560975609756095},{"$f":"J$37","v":12.1},13.9,{"$f":"12/J7","v":0.99173553719008267},{"$f":"12/K7","v":0.86330935251798557},{"$f":"N$37","v":11.9},13.7,{"$f":"12/N7","v":1.0084033613445378},{"$f":"12/O7","v":0.87591240875912413},{"$f":"R$37","v":12.5},13.9,{"$f":"12/R7","v":0.96},{"$f":"12/S7","v":0.86330935251798557},{"$f":"V$37","v":12.3},13.7,{"$f":"12/V7","v":0.97560975609756095},{"$f":"12/W7","v":0.87591240875912413},{"$f":"Z$37","v":12.4},13.6,{"$f":"12/Z7","v":0.96774193548387089},{"$f":"12/AA7","v":0.88235294117647056},{"$f":"AD$37","v":12.2},13.4,{"$f":"12/AD7","v":0.98360655737704927},{"$f":"12/AE7","v":0.89552238805970152},{"$f":"AH$37","v":12.2},13.5,{"$f":"12/AH7","v":0.98360655737704927},{"$f":"12/AI7","v":0.88888888888888884},{"$f":"AL$37","v":12},13.3,{"$f":"12/AL7","v":1},{"$f":"12/AM7","v":0.90225563909774431},{"$f":"AP$37","v":12.1},12.3,{"$f":"12/AP7","v":0.99173553719008267},{"$f":"12/AQ7","v":0.97560975609756095},{"$f":"AT$37","v":12.1},12.3,{"$f":"12/AT7","v":0.99173553719008267},{"$f":"12/AU7","v":0.97560975609756095},{"$f":"AX$37","v":12.1},12.3,{"$f":"12/AX7","v":0.99173553719008267},{"$f":"12/AY7","v":0.97560975609756095},{"$f":"BB$37","v":11.9},12.1,{"$f":"12/BB7","v":1.0084033613445378},{"$f":"12/BC7","v":0.99173553719008267},{"$f":"BF$37","v":12},12.2,{"$f":"12/BF7","v":1},{"$f":"12/BG7","v":0.98360655737704927},{"$f":"BJ$37","v":11.8},12,{"$f":"12/BJ7","v":1.0169491525423728},{"$f":"12/BK7","v":1},{"$f":"BN$37","v":11.9},12.1,{"$f":"12/BN7","v":1.0084033613445378},{"$f":"12/BO7","v":0.99173553719008267},{"$f":"BR$37","v":11.7},11.9,{"$f":"12/BR7","v":1.0256410256410258},{"$f":"12/BS7","v":1.0084033613445378},{"$f":"BV$37","v":11.7},11.9,{"$f":"12/BV7","v":1.0256410256410258},{"$f":"12/BW7","v":1.0084033613445378},{"$f":"BZ$37","v":11.5},11.7,{"$f":"12/BZ7","v":1.0434782608695652},{"$f":"12/CA7","v":1.0256410256410258},null,{"$f":"CE$37","v":12.2},{"$f":"CE7","v":12.2},{"$f":"CG$37","v":4.3},{"$f":"12/CE7","v":0.98360655737704927},{"$f":"12/CF7","v":0.98360655737704927},{"$f":"12/3.412/CG7","v":0.8179067041086181},{"$f":"CK$37","v":13},{"$f":"CK7","v":13},{"$f":"CM$37","v":4.3},{"$f":"12/CK7","v":0.92307692307692313},{"$f":"12/CL7","v":0.92307692307692313},{"$f":"12/3.412/CM7","v":0.8179067041086181},{"$f":"CQ$37","v":13},{"$f":"CQ7","v":13},{"$f":"CS$37","v":4.3},{"$f":"12/CQ7","v":0.92307692307692313},{"$f":"12/CR7","v":0.92307692307692313},{"$f":"12/3.412/CS7","v":0.8179067041086181},{"$f":"CW$37","v":18},{"$f":"CW7","v":18},{"$f":"CY$37","v":3.7},{"$f":"12/CW7","v":0.66666666666666663},{"$f":"12/CX7","v":0.66666666666666663},{"$f":"12/3.412/CY7","v":0.95054022369379931},{"$f":"DC$37","v":18},{"$f":"DC7","v":18},{"$f":"DE$37","v":3.7},{"$f":"12/DC7","v":0.66666666666666663},{"$f":"12/DD7","v":0.66666666666666663},{"$f":"12/3.412/DE7","v":0.95054022369379931},{"$f":"DI$37","v":14.1},{"$f":"DI7","v":14.1},{"$f":"DK$37","v":3.2},{"$f":"12/DI7","v":0.85106382978723405},{"$f":"12/DJ7","v":0.85106382978723405},{"$f":"12/3.412/DK7","v":1.0990621336459554},{"$f":"DO$37","v":14.1},{"$f":"DO7","v":14.1},{"$f":"DQ$37","v":3.2},{"$f":"12/DO7","v":0.85106382978723405},{"$f":"12/DP7","v":0.85106382978723405},{"$f":"12/3.412/DQ7","v":1.0990621336459554},{"$f":"DU$37","v":10.6},{"$f":"DU7","v":10.6},{"$f":"DW$37","v":3.7},{"$f":"12/DU7","v":1.1320754716981132},{"$f":"12/DV7","v":1.1320754716981132},{"$f":"12/3.412/DW7","v":0.95054022369379931},{"$f":"EA$37","v":10.6},{"$f":"EA7","v":10.6},{"$f":"EC$37","v":3.7},{"$f":"12/EA7","v":1.1320754716981132},{"$f":"12/EB7","v":1.1320754716981132},{"$f":"12/3.412/EC7","v":0.95054022369379931},{"$f":"EG$37","v":16.3},{"$f":"EG7","v":16.3},{"$f":"EI$37","v":3.1},{"$f":"12/EG7","v":0.73619631901840488},{"$f":"12/EH7","v":0.73619631901840488},{"$f":"12/3.412/EI7","v":1.1345157508603412},{"$f":"EM$37","v":16.3},{"$f":"EM7","v":16.3},{"$f":"EO$37","v":3.1},{"$f":"12/EM7","v":0.73619631901840488},{"$f":"12/EN7","v":0.73619631901840488},{"$f":"12/3.412/EO7","v":1.1345157508603412},{"$f":"ES$37","v":12.1},{"$f":"ES7","v":12.1},{"$f":"EU$37","v":2.5},{"$f":"12/ES7","v":0.99173553719008267},{"$f":"12/ET7","v":0.99173553719008267},{"$f":"12/3.412/EU7","v":1.4067995310668231},{"$f":"EY$37","v":12.1},{"$f":"EY7","v":12.1},{"$f":"FA$37","v":2.5},{"$f":"12/EY7","v":0.99173553719008267},{"$f":"12/EZ7","v":0.99173553719008267},{"$f":"12/3.412/FA7","v":1.4067995310668231}]
[1996,12.1,12.3,0.99173553719008267,0.97560975609756095,12.1,12.3,0.99173553719008267,0.97560975609756095,12.1,13.9,0.99173553719008267,0.86330935251798557,11.9,13.7,1.0084033613445378,0.87591240875912413,12.5,13.9,0.96,0.86330935251798557,12.3,13.7,0.97560975609756095,0.87591240875912413,12.4,13.6,0.96774193548387089,0.88235294117647056,12.2,13.4,0.98360655737704927,0.89552238805970152,12.2,13.5,0.98360655737704927,0.88888888888888884,12,13.3,1,0.90225563909774431,12.1,12.3,0.99173553719008267,0.97560975609756095,12.1,12.3,0.99173553719008267,0.97560975609756095,12.1,12.3,0.99173553719008267,0.97560975609756095,11.9,12.1,1.0084033613445378,0.99173553719008267,12,12.2,1,0.98360655737704927,11.8,12,1.0169491525423728,1,11.9,12.1,1.0084033613445378,0.99173553719008267,11.7,11.9,1.0256410256410258,1.0084033613445378,11.7,11.9,1.0256410256410258,1.0084033613445378,11.5,11.7,1.0434782608695652,1.0256410256410258,null,12.2,12.2,4.3,0.98360655737704927,0.98360655737704927,0.8179067041086181,13,13,4.3,0.92307692307692313,0.92307692307692313,0.8179067041086181,13,13,4.3,0.92307692307692313,0.92307692307692313,0.8179067041086181,18,18,3.7,0.66666666666666663,0.66666666666666663,0.95054022369379931,18,18,3.7,0.66666666666666663,0.66666666666666663,0.95054022369379931,14.1,14.1,3.2,0.85106382978723405,0.85106382978723405,1.0990621336459554,14.1,14.1,3.2,0.85106382978723405,0.85106382978723405,1.0990621336459554,10.6,10.6,3.7,1.1320754716981132,1.1320754716981132,0.95054022369379931,10.6,10.6,3.7,1.1320754716981132,1.1320754716981132,0.95054022369379931,16.3,16.3,3.1,0.73619631901840488,0.73619631901840488,1.1345157508603412,16.3,16.3,3.1,0.73619631901840488,0.73619631901840488,1.1345157508603412,12.1,12.1,2.5,0.99173553719008267,0.99173553719008267,1.4067995310668231,12.1,12.1,2.5,0.99173553719008267,0.99173553719008267,1.4067995310668231]
[1997,12.1,12.3,0.99173553719008267,0.97560975609756095,12.1,12.3,0.99173553719008267,0.97560975609756095,12.1,13.9,0.99173553719008267,0.86330935251798557,11.9,13.7,1.0084033613445378,0.87591240875912413,12.5,13.9,0.96,0.86330935251798557,12.3,13.7,0.97560975609756095,0.87591240875912413,12.4,13.6,0.96774193548387089,0.88235294117647056,12.2,13.4,0.98360655737704927,0.89552238805970152,12.2,13.5,0.98360655737704927,0.88888888888888884,12,13.3,1,0.90225563909774431,12.1,12.3,0.99173553719008267,0.97560975609756095,12.1,12.3,0.99173553719008267,0.97560975609756095,12.1,12.3,0.99173553719008267,0.97560975609756095,11.9,12.1,1.0084033613445378,0.99173553719008267,12,12.2,1,0.98360655737704927,11.8,12,1.0169491525423728,1,11.9,12.1,1.0084033613445378,0.99173553719008267,11.7,11.9,1.0256410256410258,1.0084033613445378,11.7,11.9,1.0256410256410258,1.0084033613445378,11.5,11.7,1.0434782608695652,1.0256410256410258,null,12.2,12.2,4.3,0.98360655737704927,0.98360655737704927,0.8179067041086181,13,13,4.3,0.92307692307692313,0.92307692307692313,0.8179067041086181,13,13,4.3,0.92307692307692313,0.92307692307692313,0.8179067041086181,18,18,3.7,0.66666666666666663,0.66666666666666663,0.95054022369379931,18,18,3.7,0.66666666666666663,0.66666666666666663,0.95054022369379931,14.1,14.1,3.2,0.85106382978723405,0.85106382978723405,1.0990621336459554,14.1,14.1,3.2,0.85106382978723405,0.85106382978723405,1.0990621336459554,10.6,10.6,3.7,1.1320754716981132,1.1320754716981132,0.95054022369379931,10.6,10.6,3.7,1.1320754716981132,1.1320754716981132,0.95054022369379931,16.3,16.3,3.1,0.73619631901840488,0.73619631901840488,1.1345157508603412,16.3,16.3,3.1,0.73619631901840488,0.73619631901840488,1.1345157508603412,12.1,12.1,2.5,0.99173553719008267,0.99173553719008267,1.4067995310668231,12.1,12.1,2.5,0.99173553719008267,0.99173553719008267,1.4067995310668231]
[1998,12.1,12.3,0.99173553719008267,0.97560975609756095,12.1,12.3,0.99173553719008267,0.97560975609756095,12.1,13.9,0.99173553719008267,0.86330935251798557,11.9,13.7,1.0084033613445378,0.87591240875912413,12.5,13.9,0.96,0.86330935251798557,12.3,13.7,0.97560975609756095,0.87591240875912413,12.4,13.6,0.96774193548387089,0.88235294117647056,12.2,13.4,0.98360655737704927,0.89552238805970152,12.2,13.5,0.98360655737704927,0.88888888888888884,12,13.3,1,0.90225563909774431,12.1,12.3,0.99173553719008267,0.97560975609756095,12.1,12.3,0.99173553719008267,0.97560975609756095,12.1,12.3,0.99173553719008267,0.97560975609756095,11.9,12.1,1.0084033613445378,0.99173553719008267,12,12.2,1,0.98360655737704927,11.8,12,1.0169491525423728,1,11.9,12.1,1.0084033613445378,0.99173553719008267,11.7,11.9,1.0256410256410258,1.0084033613445378,11.7,11.9,1.0256410256410258,1.0084033613445378,11.5,11.7,1.0434782608695652,1.0256410256410258,null,12.2,12.2,4.3,0.98360655737704927,0.98360655737704927,0.8179067041086181,13,13,4.3,0.92307692307692313,0.92307692307692313,0.8179067041086181,13,13,4.3,0.92307692307692313,0.92307692307692313,0.8179067041086181,18,18,3.7,0.66666666666666663,0.66666666666666663,0.95054022369379931,18,18,3.7,0.66666666666666663,0.66666666666666663,0.95054022369379931,14.1,14.1,3.2,0.85106382978723405,0.85106382978723405,1.0990621336459554,14.1,14.1,3.2,0.85106382978723405,0.85106382978723405,1.0990621336459554,10.6,10.6,3.7,1.1320754716981132,1.1320754716981132,0.95054022369379931,10.6,10.6,3.7,1.1320754716981132,1.1320754716981132,0.95054022369379931,16.3,16.3,3.1,0.73619631901840488,0.73619631901840488,1.1345157508603412,16.3,16.3,3.1,0.73619631901840488,0.73619631901840488,1.1345157508603412,12.1,12.1,2.5,0.99173553719008267,0.99173553719008267,1.4067995310668231,12.1,12.1,2.5,0.99173553719008267,0.99173553719008267,1.4067995310668231]
[1999,12.1,12.3,0.99173553719008267,0.97560975609756095,12.1,12.3,0.99173553719008267,0.97560975609756095,12.1,13.9,0.99173553719008267,0.86330935251798557,11.9,13.7,1.0084033613445378,0.87591240875912413,12.5,13.9,0.96,0.86330935251798557,12.3,13.7,0.97560975609756095,0.87591240875912413,12.4,13.6,0.96774193548387089,0.88235294117647056,12.2,13.4,0.98360655737704927,0.89552238805970152,12.2,13.5,0.98360655737704927,0.88888888888888884,12,13.3,1,0.90225563909774431,12.1,12.3,0.99173553719008267,0.97560975609756095,12.1,12.3,0.99173553719008267,0.97560975609756095,12.1,12.3,0.99173553719008267,0.97560975609756095,11.9,12.1,1.0084033613445378,0.99173553719008267,12,12.2,1,0.98360655737704927,11.8,12,1.0169491525423728,1,11.9,12.1,1.0084033613445378,0.99173553719008267,11.7,11.9,1.0256410256410258,1.0084033613445378,11.7,11.9,1.0256410256410258,1.0084033613445378,11.5,11.7,1.0434782608695652,1.0256410256410258,null,12.2,12.2,4.3,0.98360655737704927,0.98360655737704927,0.8179067041086181,13,13,4.3,0.92307692307692313,0.92307692307692313,0.8179067041086181,13,13,4.3,0.92307692307692313,0.92307692307692313,0.8179067041086181,18,18,3.7,0.66666666666666663,0.66666666666666663,0.95054022369379931,18,18,3.7,0.66666666666666663,0.66666666666666663,0.95054022369379931,14.1,14.1,3.2,0.85106382978723405,0.85106382978723405,1.0990621336459554,14.1,14.1,3.2,0.85106382978723405,0.85106382978723405,1.0990621336459554,10.6,10.6,3.7,1.1320754716981132,1.1320754716981132,0.95054022369379931,10.6,10.6,3.7,1.1320754716981132,1.1320754716981132,0.95054022369379931,16.3,16.3,3.1,0.73619631901840488,0.73619631901840488,1.1345157508603412,16.3,16.3,3.1,0.73619631901840488,0.73619631901840488,1.1345157508603412,12.1,12.1,2.5,0.99173553719008267,0.99173553719008267,1.4067995310668231,12.1,12.1,2.5,0.99173553719008267,0.99173553719008267,1.4067995310668231]
[2000,12.1,12.3,0.99173553719008267,0.97560975609756095,12.1,12.3,0.99173553719008267,0.97560975609756095,12.1,13.9,0.99173553719008267,0.86330935251798557,11.9,13.7,1.0084033613445378,0.87591240875912413,12.5,13.9,0.96,0.86330935251798557,12.3,13.7,0.97560975609756095,0.87591240875912413,12.4,13.6,0.96774193548387089,0.88235294117647056,12.2,13.4,0.98360655737704927,0.89552238805970152,12.2,13.5,0.98360655737704927,0.88888888888888884,12,13.3,1,0.90225563909774431,12.1,12.3,0.99173553719008267,0.97560975609756095,12.1,12.3,0.99173553719008267,0.97560975609756095,12.1,12.3,0.99173553719008267,0.97560975609756095,11.9,12.1,1.0084033613445378,0.99173553719008267,12,12.2,1,0.98360655737704927,11.8,12,1.0169491525423728,1,11.9,12.1,1.0084033613445378,0.99173553719008267,11.7,11.9,1.0256410256410258,1.0084033613445378,11.7,11.9,1.0256410256410258,1.0084033613445378,11.5,11.7,1.0434782608695652,1.0256410256410258,null,12.2,12.2,4.3,0.98360655737704927,0.98360655737704927,0.8179067041086181,13,13,4.3,0.92307692307692313,0.92307692307692313,0.8179067041086181,13,13,4.3,0.92307692307692313,0.92307692307692313,0.8179067041086181,18,18,3.7,0.66666666666666663,0.66666666666666663,0.95054022369379931,18,18,3.7,0.66666666666666663,0.66666666666666663,0.95054022369379931,14.1,14.1,3.2,0.85106382978723405,0.85106382978723405,1.0990621336459554,14.1,14.1,3.2,0.85106382978723405,0.85106382978723405,1.0990621336459554,10.6,10.6,3.7,1.1320754716981132,1.1320754716981132,0.95054022369379931,10.6,10.6,3.7,1.1320754716981132,1.1320754716981132,0.95054022369379931,16.3,16.3,3.1,0.73619631901840488,0.73619631901840488,1.1345157508603412,16.3,16.3,3.1,0.73619631901840488,0.73619631901840488,1.1345157508603412,12.1,12.1,2.5,0.99173553719008267,0.99173553719008267,1.4067995310668231,12.1,12.1,2.5,0.99173553719008267,0.99173553719008267,1.4067995310668231]
[2001,12.1,12.3,0.99173553719008267,0.97560975609756095,12.1,12.3,0.99173553719008267,0.97560975609756095,12.1,13.9,0.99173553719008267,0.86330935251798557,11.9,13.7,1.0084033613445378,0.87591240875912413,12.5,13.9,0.96,0.86330935251798557,12.3,13.7,0.97560975609756095,0.87591240875912413,12.4,13.6,0.96774193548387089,0.88235294117647056,12.2,13.4,0.98360655737704927,0.89552238805970152,12.2,13.5,0.98360655737704927,0.88888888888888884,12,13.3,1,0.90225563909774431,12.1,12.3,0.99173553719008267,0.97560975609756095,12.1,12.3,0.99173553719008267,0.97560975609756095,12.1,12.3,0.99173553719008267,0.97560975609756095,11.9,12.1,1.0084033613445378,0.99173553719008267,12,12.2,1,0.98360655737704927,11.8,12,1.0169491525423728,1,11.9,12.1,1.0084033613445378,0.99173553719008267,11.7,11.9,1.0256410256410258,1.0084033613445378,11.7,11.9,1.0256410256410258,1.0084033613445378,11.5,11.7,1.0434782608695652,1.0256410256410258,null,12.2,12.2,4.3,0.98360655737704927,0.98360655737704927,0.8179067041086181,13,13,4.3,0.92307692307692313,0.92307692307692313,0.8179067041086181,13,13,4.3,0.92307692307692313,0.92307692307692313,0.8179067041086181,18,18,3.7,0.66666666666666663,0.66666666666666663,0.95054022369379931,18,18,3.7,0.66666666666666663,0.66666666666666663,0.95054022369379931,14.1,14.1,3.2,0.85106382978723405,0.85106382978723405,1.0990621336459554,14.1,14.1,3.2,0.85106382978723405,0.85106382978723405,1.0990621336459554,10.6,10.6,3.7,1.1320754716981132,1.1320754716981132,0.95054022369379931,10.6,10.6,3.7,1.1320754716981132,1.1320754716981132,0.95054022369379931,16.3,16.3,3.1,0.73619631901840488,0.73619631901840488,1.1345157508603412,16.3,16.3,3.1,0.73619631901840488,0.73619631901840488,1.1345157508603412,12.1,12.1,2.5,0.99173553719008267,0.99173553719008267,1.4067995310668231,12.1,12.1,2.5,0.99173553719008267,0.99173553719008267,1.4067995310668231]
[2002,12.1,12.3,0.99173553719008267,0.97560975609756095,12.1,12.3,0.99173553719008267,0.97560975609756095,12.1,13.9,0.99173553719008267,0.86330935251798557,11.9,13.7,1.0084033613445378,0.87591240875912413,12.5,13.9,0.96,0.86330935251798557,12.3,13.7,0.97560975609756095,0.87591240875912413,12.4,13.6,0.96774193548387089,0.88235294117647056,12.2,13.4,0.98360655737704927,0.89552238805970152,12.2,13.5,0.98360655737704927,0.88888888888888884,12,13.3,1,0.90225563909774431,12.1,12.3,0.99173553719008267,0.97560975609756095,12.1,12.3,0.99173553719008267,0.97560975609756095,12.1,12.3,0.99173553719008267,0.97560975609756095,11.9,12.1,1.0084033613445378,0.99173553719008267,12,12.2,1,0.98360655737704927,11.8,12,1.0169491525423728,1,11.9,12.1,1.0084033613445378,0.99173553719008267,11.7,11.9,1.0256410256410258,1.0084033613445378,11.7,11.9,1.0256410256410258,1.0084033613445378,11.5,11.7,1.0434782608695652,1.0256410256410258,null,12.2,12.2,4.3,0.98360655737704927,0.98360655737704927,0.8179067041086181,13,13,4.3,0.92307692307692313,0.92307692307692313,0.8179067041086181,13,13,4.3,0.92307692307692313,0.92307692307692313,0.8179067041086181,18,18,3.7,0.66666666666666663,0.66666666666666663,0.95054022369379931,18,18,3.7,0.66666666666666663,0.66666666666666663,0.95054022369379931,14.1,14.1,3.2,0.85106382978723405,0.85106382978723405,1.0990621336459554,14.1,14.1,3.2,0.85106382978723405,0.85106382978723405,1.0990621336459554,10.6,10.6,3.7,1.1320754716981132,1.1320754716981132,0.95054022369379931,10.6,10.6,3.7,1.1320754716981132,1.1320754716981132,0.95054022369379931,16.3,16.3,3.1,0.73619631901840488,0.73619631901840488,1.1345157508603412,16.3,16.3,3.1,0.73619631901840488,0.73619631901840488,1.1345157508603412,12.1,12.1,2.5,0.99173553719008267,0.99173553719008267,1.4067995310668231,12.1,12.1,2.5,0.99173553719008267,0.99173553719008267,1.4067995310668231]
[2003,12.1,12.3,0.99173553719008267,0.97560975609756095,12.1,12.3,0.99173553719008267,0.97560975609756095,12.1,13.9,0.99173553719008267,0.86330935251798557,11.9,13.7,1.0084033613445378,0.87591240875912413,12.5,13.9,0.96,0.86330935251798557,12.3,13.7,0.97560975609756095,0.87591240875912413,12.4,13.6,0.96774193548387089,0.88235294117647056,12.2,13.4,0.98360655737704927,0.89552238805970152,12.2,13.5,0.98360655737704927,0.88888888888888884,12,13.3,1,0.90225563909774431,12.1,12.3,0.99173553719008267,0.97560975609756095,12.1,12.3,0.99173553719008267,0.97560975609756095,12.1,12.3,0.99173553719008267,0.97560975609756095,11.9,12.1,1.0084033613445378,0.99173553719008267,12,12.2,1,0.98360655737704927,11.8,12,1.0169491525423728,1,11.9,12.1,1.0084033613445378,0.99173553719008267,11.7,11.9,1.0256410256410258,1.0084033613445378,11.7,11.9,1.0256410256410258,1.0084033613445378,11.5,11.7,1.0434782608695652,1.0256410256410258,null,12.2,12.2,4.3,0.98360655737704927,0.98360655737704927,0.8179067041086181,13,13,4.3,0.92307692307692313,0.92307692307692313,0.8179067041086181,13,13,4.3,0.92307692307692313,0.92307692307692313,0.8179067041086181,18,18,3.7,0.66666666666666663,0.66666666666666663,0.95054022369379931,18,18,3.7,0.66666666666666663,0.66666666666666663,0.95054022369379931,14.1,14.1,3.2,0.85106382978723405,0.85106382978723405,1.0990621336459554,14.1,14.1,3.2,0.85106382978723405,0.85106382978723405,1.0990621336459554,10.6,10.6,3.7,1.1320754716981132,1.1320754716981132,0.95054022369379931,10.6,10.6,3.7,1.1320754716981132,1.1320754716981132,0.95054022369379931,16.3,16.3,3.1,0.73619631901840488,0.73619631901840488,1.1345157508603412,16.3,16.3,3.1,0.73619631901840488,0.73619631901840488,1.1345157508603412,12.1,12.1,2.5,0.99173553719008267,0.99173553719008267,1.4067995310668231,12.1,12.1,2.5,0.99173553719008267,0.99173553719008267,1.4067995310668231]
[2004,12.1,12.3,0.99173553719008267,0.97560975609756095,12.1,12.3,0.99173553719008267,0.97560975609756095,12.1,13.9,0.99173553719008267,0.86330935251798557,11.9,13.7,1.0084033613445378,0.87591240875912413,12.5,13.9,0.96,0.86330935251798557,12.3,13.7,0.97560975609756095,0.87591240875912413,12.4,13.6,0.96774193548387089,0.88235294117647056,12.2,13.4,0.98360655737704927,0.89552238805970152,12.2,13.5,0.98360655737704927,0.88888888888888884,12,13.3,1,0.90225563909774431,12.1,12.3,0.99173553719008267,0.97560975609756095,12.1,12.3,0.99173553719008267,0.97560975609756095,12.1,12.3,0.99173553719008267,0.97560975609756095,11.9,12.1,1.0084033613445378,0.99173553719008267,12,12.2,1,0.98360655737704927,11.8,12,1.0169491525423728,1,11.9,12.1,1.0084033613445378,0.99173553719008267,11.7,11.9,1.0256410256410258,1.0084033613445378,11.7,11.9,1.0256410256410258,1.0084033613445378,11.5,11.7,1.0434782608695652,1.0256410256410258,null,12.2,12.2,4.3,0.98360655737704927,0.98360655737704927,0.8179067041086181,13,13,4.3,0.92307692307692313,0.92307692307692313,0.8179067041086181,13,13,4.3,0.92307692307692313,0.92307692307692313,0.8179067041086181,18,18,3.7,0.66666666666666663,0.66666666666666663,0.95054022369379931,18,18,3.7,0.66666666666666663,0.66666666666666663,0.95054022369379931,14.1,14.1,3.2,0.85106382978723405,0.85106382978723405,1.0990621336459554,14.1,14.1,3.2,0.85106382978723405,0.85106382978723405,1.0990621336459554,10.6,10.6,3.7,1.1320754716981132,1.1320754716981132,0.95054022369379931,10.6,10.6,3.7,1.1320754716981132,1.1320754716981132,0.95054022369379931,16.3,16.3,3.1,0.73619631901840488,0.73619631901840488,1.1345157508603412,16.3,16.3,3.1,0.73619631901840488,0.73619631901840488,1.1345157508603412,12.1,12.1,2.5,0.99173553719008267,0.99173553719008267,1.4067995310668231,12.1,12.1,2.5,0.99173553719008267,0.99173553719008267,1.4067995310668231]
[2005,12.1,12.3,0.99173553719008267,0.97560975609756095,12.1,12.3,0.99173553719008267,0.97560975609756095,12.1,13.9,0.99173553719008267,0.86330935251798557,11.9,13.7,1.0084033613445378,0.87591240875912413,12.5,13.9,0.96,0.86330935251798557,12.3,13.7,0.97560975609756095,0.87591240875912413,12.4,13.6,0.96774193548387089,0.88235294117647056,12.2,13.4,0.98360655737704927,0.89552238805970152,12.2,13.5,0.98360655737704927,0.88888888888888884,12,13.3,1,0.90225563909774431,12.1,12.3,0.99173553719008267,0.97560975609756095,12.1,12.3,0.99173553719008267,0.97560975609756095,12.1,12.3,0.99173553719008267,0.97560975609756095,11.9,12.1,1.0084033613445378,0.99173553719008267,12,12.2,1,0.98360655737704927,11.8,12,1.0169491525423728,1,11.9,12.1,1.0084033613445378,0.99173553719008267,11.7,11.9,1.0256410256410258,1.0084033613445378,11.7,11.9,1.0256410256410258,1.0084033613445378,11.5,11.7,1.0434782608695652,1.0256410256410258,null,12.2,12.2,4.3,0.98360655737704927,0.98360655737704927,0.8179067041086181,13,13,4.3,0.92307692307692313,0.92307692307692313,0.8179067041086181,13,13,4.3,0.92307692307692313,0.92307692307692313,0.8179067041086181,18,18,3.7,0.66666666666666663,0.66666666666666663,0.95054022369379931,18,18,3.7,0.66666666666666663,0.66666666666666663,0.95054022369379931,14.1,14.1,3.2,0.85106382978723405,0.85106382978723405,1.0990621336459554,14.1,14.1,3.2,0.85106382978723405,0.85106382978723405,1.0990621336459554,10.6,10.6,3.7,1.1320754716981132,1.1320754716981132,0.95054022369379931,10.6,10.6,3.7,1.1320754716981132,1.1320754716981132,0.95054022369379931,16.3,16.3,3.1,0.73619631901840488,0.73619631901840488,1.1345157508603412,16.3,16.3,3.1,0.73619631901840488,0.73619631901840488,1.1345157508603412,12.1,12.1,2.5,0.99173553719008267,0.99173553719008267,1.4067995310668231,12.1,12.1,2.5,0.99173553719008267,0.99173553719008267,1.4067995310668231]
[2006,12.1,12.3,0.99173553719008267,0.97560975609756095,12.1,12.3,0.99173553719008267,0.97560975609756095,12.1,13.9,0.99173553719008267,0.86330935251798557,11.9,13.7,1.0084033613445378,0.87591240875912413,12.5,13.9,0.96,0.86330935251798557,12.3,13.7,0.97560975609756095,0.87591240875912413,12.4,13.6,0.96774193548387089,0.88235294117647056,12.2,13.4,0.98360655737704927,0.89552238805970152,12.2,13.5,0.98360655737704927,0.88888888888888884,12,13.3,1,0.90225563909774431,12.1,12.3,0.99173553719008267,0.97560975609756095,12.1,12.3,0.99173553719008267,0.97560975609756095,12.1,12.3,0.99173553719008267,0.97560975609756095,11.9,12.1,1.0084033613445378,0.99173553719008267,12,12.2,1,0.98360655737704927,11.8,12,1.0169491525423728,1,11.9,12.1,1.0084033613445378,0.99173553719008267,11.7,11.9,1.0256410256410258,1.0084033613445378,11.7,11.9,1.0256410256410258,1.0084033613445378,11.5,11.7,1.0434782608695652,1.0256410256410258,null,12.2,12.2,4.3,0.98360655737704927,0.98360655737704927,0.8179067041086181,13,13,4.3,0.92307692307692313,0.92307692307692313,0.8179067041086181,13,13,4.3,0.92307692307692313,0.92307692307692313,0.8179067041086181,18,18,3.7,0.66666666666666663,0.66666666666666663,0.95054022369379931,18,18,3.7,0.66666666666666663,0.66666666666666663,0.95054022369379931,14.1,14.1,3.2,0.85106382978723405,0.85106382978723405,1.0990621336459554,14.1,14.1,3.2,0.85106382978723405,0.85106382978723405,1.0990621336459554,10.6,10.6,3.7,1.1320754716981132,1.1320754716981132,0.95054022369379931,10.6,10.6,3.7,1.1320754716981132,1.1320754716981132,0.95054022369379931,16.3,16.3,3.1,0.73619631901840488,0.73619631901840488,1.1345157508603412,16.3,16.3,3.1,0.73619631901840488,0.73619631901840488,1.1345157508603412,12.1,12.1,2.5,0.99173553719008267,0.99173553719008267,1.4067995310668231,12.1,12.1,2.5,0.99173553719008267,0.99173553719008267,1.4067995310668231]
[2007,12.1,12.3,0.99173553719008267,0.97560975609756095,12.1,12.3,0.99173553719008267,0.97560975609756095,12.1,13.9,0.99173553719008267,0.86330935251798557,11.9,13.7,1.0084033613445378,0.87591240875912413,12.5,13.9,0.96,0.86330935251798557,12.3,13.7,0.97560975609756095,0.87591240875912413,12.4,13.6,0.96774193548387089,0.88235294117647056,12.2,13.4,0.98360655737704927,0.89552238805970152,12.2,13.5,0.98360655737704927,0.88888888888888884,12,13.3,1,0.90225563909774431,12.1,12.3,0.99173553719008267,0.97560975609756095,12.1,12.3,0.99173553719008267,0.97560975609756095,12.1,12.3,0.99173553719008267,0.97560975609756095,11.9,12.1,1.0084033613445378,0.99173553719008267,12,12.2,1,0.98360655737704927,11.8,12,1.0169491525423728,1,11.9,12.1,1.0084033613445378,0.99173553719008267,11.7,11.9,1.0256410256410258,1.0084033613445378,11.7,11.9,1.0256410256410258,1.0084033613445378,11.5,11.7,1.0434782608695652,1.0256410256410258,null,12.2,12.2,4.3,0.98360655737704927,0.98360655737704927,0.8179067041086181,13,13,4.3,0.92307692307692313,0.92307692307692313,0.8179067041086181,13,13,4.3,0.92307692307692313,0.92307692307692313,0.8179067041086181,18,18,3.7,0.66666666666666663,0.66666666666666663,0.95054022369379931,18,18,3.7,0.66666666666666663,0.66666666666666663,0.95054022369379931,14.1,14.1,3.2,0.85106382978723405,0.85106382978723405,1.0990621336459554,14.1,14.1,3.2,0.85106382978723405,0.85106382978723405,1.0990621336459554,10.6,10.6,3.7,1.1320754716981132,1.1320754716981132,0.95054022369379931,10.6,10.6,3.7,1.1320754716981132,1.1320754716981132,0.95054022369379931,16.3,16.3,3.1,0.73619631901840488,0.73619631901840488,1.1345157508603412,16.3,16.3,3.1,0.73619631901840488,0.73619631901840488,1.1345157508603412,12.1,12.1,2.5,0.99173553719008267,0.99173553719008267,1.4067995310668231,12.1,12.1,2.5,0.99173553719008267,0.99173553719008267,1.4067995310668231]
[2008,12.1,12.3,0.99173553719008267,0.97560975609756095,12.1,12.3,0.99173553719008267,0.97560975609756095,12.1,13.9,0.99173553719008267,0.86330935251798557,11.9,13.7,1.0084033613445378,0.87591240875912413,12.5,13.9,0.96,0.86330935251798557,12.3,13.7,0.97560975609756095,0.87591240875912413,12.4,13.6,0.96774193548387089,0.88235294117647056,12.2,13.4,0.98360655737704927,0.89552238805970152,12.2,13.5,0.98360655737704927,0.88888888888888884,12,13.3,1,0.90225563909774431,12.1,12.3,0.99173553719008267,0.97560975609756095,12.1,12.3,0.99173553719008267,0.97560975609756095,12.1,12.3,0.99173553719008267,0.97560975609756095,11.9,12.1,1.0084033613445378,0.99173553719008267,12,12.2,1,0.98360655737704927,11.8,12,1.0169491525423728,1,11.9,12.1,1.0084033613445378,0.99173553719008267,11.7,11.9,1.0256410256410258,1.0084033613445378,11.7,11.9,1.0256410256410258,1.0084033613445378,11.5,11.7,1.0434782608695652,1.0256410256410258,null,12.2,12.2,4.3,0.98360655737704927,0.98360655737704927,0.8179067041086181,13,13,4.3,0.92307692307692313,0.92307692307692313,0.8179067041086181,13,13,4.3,0.92307692307692313,0.92307692307692313,0.8179067041086181,18,18,3.7,0.66666666666666663,0.66666666666666663,0.95054022369379931,18,18,3.7,0.66666666666666663,0.66666666666666663,0.95054022369379931,14.1,14.1,3.2,0.85106382978723405,0.85106382978723405,1.0990621336459554,14.1,14.1,3.2,0.85106382978723405,0.85106382978723405,1.0990621336459554,10.6,10.6,3.7,1.1320754716981132,1.1320754716981132,0.95054022369379931,10.6,10.6,3.7,1.1320754716981132,1.1320754716981132,0.95054022369379931,16.3,16.3,3.1,0.73619631901840488,0.73619631901840488,1.1345157508603412,16.3,16.3,3.1,0.73619631901840488,0.73619631901840488,1.1345157508603412,12.1,12.1,2.5,0.99173553719008267,0.99173553719008267,1.4067995310668231,12.1,12.1,2.5,0.99173553719008267,0.99173553719008267,1.4067995310668231]
[2009,12.1,12.3,0.99173553719008267,0.97560975609756095,12.1,12.3,0.99173553719008267,0.97560975609756095,12.1,13.9,0.99173553719008267,0.86330935251798557,11.9,13.7,1.0084033613445378,0.87591240875912413,12.5,13.9,0.96,0.86330935251798557,12.3,13.7,0.97560975609756095,0.87591240875912413,12.4,13.6,0.96774193548387089,0.88235294117647056,12.2,13.4,0.98360655737704927,0.89552238805970152,12.2,13.5,0.98360655737704927,0.88888888888888884,12,13.3,1,0.90225563909774431,12.1,12.3,0.99173553719008267,0.97560975609756095,12.1,12.3,0.99173553719008267,0.97560975609756095,12.1,12.3,0.99173553719008267,0.97560975609756095,11.9,12.1,1.0084033613445378,0.99173553719008267,12,12.2,1,0.98360655737704927,11.8,12,1.0169491525423728,1,11.9,12.1,1.0084033613445378,0.99173553719008267,11.7,11.9,1.0256410256410258,1.0084033613445378,11.7,11.9,1.0256410256410258,1.0084033613445378,11.5,11.7,1.0434782608695652,1.0256410256410258,null,12.2,12.2,4.3,0.98360655737704927,0.98360655737704927,0.8179067041086181,13,13,4.3,0.92307692307692313,0.92307692307692313,0.8179067041086181,13,13,4.3,0.92307692307692313,0.92307692307692313,0.8179067041086181,18,18,3.7,0.66666666666666663,0.66666666666666663,0.95054022369379931,18,18,3.7,0.66666666666666663,0.66666666666666663,0.95054022369379931,14.1,14.1,3.2,0.85106382978723405,0.85106382978723405,1.0990621336459554,14.1,14.1,3.2,0.85106382978723405,0.85106382978723405,1.0990621336459554,10.6,10.6,3.7,1.1320754716981132,1.1320754716981132,0.95054022369379931,10.6,10.6,3.7,1.1320754716981132,1.1320754716981132,0.95054022369379931,16.3,16.3,3.1,0.73619631901840488,0.73619631901840488,1.1345157508603412,16.3,16.3,3.1,0.73619631901840488,0.73619631901840488,1.1345157508603412,12.1,12.1,2.5,0.99173553719008267,0.99173553719008267,1.4067995310668231,12.1,12.1,2.5,0.99173553719008267,0.99173553719008267,1.4067995310668231]
[2010,12.1,12.3,0.99173553719008267,0.97560975609756095,12.1,12.3,0.99173553719008267,0.97560975609756095,12.1,13.9,0.99173553719008267,0.86330935251798557,11.9,13.7,1.0084033613445378,0.87591240875912413,12.5,13.9,0.96,0.86330935251798557,12.3,13.7,0.97560975609756095,0.87591240875912413,12.4,13.6,0.96774193548387089,0.88235294117647056,12.2,13.4,0.98360655737704927,0.89552238805970152,12.2,13.5,0.98360655737704927,0.88888888888888884,12,13.3,1,0.90225563909774431,12.1,12.3,0.99173553719008267,0.97560975609756095,12.1,12.3,0.99173553719008267,0.97560975609756095,12.1,12.3,0.99173553719008267,0.97560975609756095,11.9,12.1,1.0084033613445378,0.99173553719008267,12,12.2,1,0.98360655737704927,11.8,12,1.0169491525423728,1,11.9,12.1,1.0084033613445378,0.99173553719008267,11.7,11.9,1.0256410256410258,1.0084033613445378,11.7,11.9,1.0256410256410258,1.0084033613445378,11.5,11.7,1.0434782608695652,1.0256410256410258,null,12.2,12.2,4.3,0.98360655737704927,0.98360655737704927,0.8179067041086181,13,13,4.3,0.92307692307692313,0.92307692307692313,0.8179067041086181,13,13,4.3,0.92307692307692313,0.92307692307692313,0.8179067041086181,18,18,3.7,0.66666666666666663,0.66666666666666663,0.95054022369379931,18,18,3.7,0.66666666666666663,0.66666666666666663,0.95054022369379931,14.1,14.1,3.2,0.85106382978723405,0.85106382978723405,1.0990621336459554,14.1,14.1,3.2,0.85106382978723405,0.85106382978723405,1.0990621336459554,10.6,10.6,3.7,1.1320754716981132,1.1320754716981132,0.95054022369379931,10.6,10.6,3.7,1.1320754716981132,1.1320754716981132,0.95054022369379931,16.3,16.3,3.1,0.73619631901840488,0.73619631901840488,1.1345157508603412,16.3,16.3,3.1,0.73619631901840488,0.73619631901840488,1.1345157508603412,12.1,12.1,2.5,0.99173553719008267,0.99173553719008267,1.4067995310668231,12.1,12.1,2.5,0.99173553719008267,0.99173553719008267,1.4067995310668231]
[2011,12.1,12.3,0.99173553719008267,0.97560975609756095,12.1,12.3,0.99173553719008267,0.97560975609756095,12.1,13.9,0.99173553719008267,0.86330935251798557,11.9,13.7,1.0084033613445378,0.87591240875912413,12.5,13.9,0.96,0.86330935251798557,12.3,13.7,0.97560975609756095,0.87591240875912413,12.4,13.6,0.96774193548387089,0.88235294117647056,12.2,13.4,0.98360655737704927,0.89552238805970152,12.2,13.5,0.98360655737704927,0.88888888888888884,12,13.3,1,0.90225563909774431,12.1,12.3,0.99173553719008267,0.97560975609756095,12.1,12.3,0.99173553719008267,0.97560975609756095,12.1,12.3,0.99173553719008267,0.97560975609756095,11.9,12.1,1.0084033613445378,0.99173553719008267,12,12.2,1,0.98360655737704927,11.8,12,1.0169491525423728,1,11.9,12.1,1.0084033613445378,0.99173553719008267,11.7,11.9,1.0256410256410258,1.0084033613445378,11.7,11.9,1.0256410256410258,1.0084033613445378,11.5,11.7,1.0434782608695652,1.0256410256410258,null,12.2,12.2,4.3,0.98360655737704927,0.98360655737704927,0.8179067041086181,13,13,4.3,0.92307692307692313,0.92307692307692313,0.8179067041086181,13,13,4.3,0.92307692307692313,0.92307692307692313,0.8179067041086181,18,18,3.7,0.66666666666666663,0.66666666666666663,0.95054022369379931,18,18,3.7,0.66666666666666663,0.66666666666666663,0.95054022369379931,14.1,14.1,3.2,0.85106382978723405,0.85106382978723405,1.0990621336459554,14.1,14.1,3.2,0.85106382978723405,0.85106382978723405,1.0990621336459554,10.6,10.6,3.7,1.1320754716981132,1.1320754716981132,0.95054022369379931,10.6,10.6,3.7,1.1320754716981132,1.1320754716981132,0.95054022369379931,16.3,16.3,3.1,0.73619631901840488,0.73619631901840488,1.1345157508603412,16.3,16.3,3.1,0.73619631901840488,0.73619631901840488,1.1345157508603412,12.1,12.1,2.5,0.99173553719008267,0.99173553719008267,1.4067995310668231,12.1,12.1,2.5,0.99173553719008267,0.99173553719008267,1.4067995310668231]
[2012,12.1,12.3,0.99173553719008267,0.97560975609756095,12.1,12.3,0.99173553719008267,0.97560975609756095,12.1,13.9,0.99173553719008267,0.86330935251798557,11.9,13.7,1.0084033613445378,0.87591240875912413,12.5,13.9,0.96,0.86330935251798557,12.3,13.7,0.97560975609756095,0.87591240875912413,12.4,13.6,0.96774193548387089,0.88235294117647056,12.2,13.4,0.98360655737704927,0.89552238805970152,12.2,13.5,0.98360655737704927,0.88888888888888884,12,13.3,1,0.90225563909774431,12.1,12.3,0.99173553719008267,0.97560975609756095,12.1,12.3,0.99173553719008267,0.97560975609756095,12.1,12.3,0.99173553719008267,0.97560975609756095,11.9,12.1,1.0084033613445378,0.99173553719008267,12,12.2,1,0.98360655737704927,11.8,12,1.0169491525423728,1,11.9,12.1,1.0084033613445378,0.99173553719008267,11.7,11.9,1.0256410256410258,1.0084033613445378,11.7,11.9,1.0256410256410258,1.0084033613445378,11.5,11.7,1.0434782608695652,1.0256410256410258,null,12.2,12.2,4.3,0.98360655737704927,0.98360655737704927,0.8179067041086181,13,13,4.3,0.92307692307692313,0.92307692307692313,0.8179067041086181,13,13,4.3,0.92307692307692313,0.92307692307692313,0.8179067041086181,18,18,3.7,0.66666666666666663,0.66666666666666663,0.95054022369379931,18,18,3.7,0.66666666666666663,0.66666666666666663,0.95054022369379931,14.1,14.1,3.2,0.85106382978723405,0.85106382978723405,1.0990621336459554,14.1,14.1,3.2,0.85106382978723405,0.85106382978723405,1.0990621336459554,10.6,10.6,3.7,1.1320754716981132,1.1320754716981132,0.95054022369379931,10.6,10.6,3.7,1.1320754716981132,1.1320754716981132,0.95054022369379931,16.3,16.3,3.1,0.73619631901840488,0.73619631901840488,1.1345157508603412,16.3,16.3,3.1,0.73619631901840488,0.73619631901840488,1.1345157508603412,12.1,12.1,2.5,0.99173553719008267,0.99173553719008267,1.4067995310668231,12.1,12.1,2.5,0.99173553719008267,0.99173553719008267,1.4067995310668231]
[2013,12.1,12.3,0.99173553719008267,0.97560975609756095,12.1,12.3,0.99173553719008267,0.97560975609756095,12.1,13.9,0.99173553719008267,0.86330935251798557,11.9,13.7,1.0084033613445378,0.87591240875912413,12.5,13.9,0.96,0.86330935251798557,12.3,13.7,0.97560975609756095,0.87591240875912413,12.4,13.6,0.96774193548387089,0.88235294117647056,12.2,13.4,0.98360655737704927,0.89552238805970152,12.2,13.5,0.98360655737704927,0.88888888888888884,12,13.3,1,0.90225563909774431,12.1,12.3,0.99173553719008267,0.97560975609756095,12.1,12.3,0.99173553719008267,0.97560975609756095,12.1,12.3,0.99173553719008267,0.97560975609756095,11.9,12.1,1.0084033613445378,0.99173553719008267,12,12.2,1,0.98360655737704927,11.8,12,1.0169491525423728,1,11.9,12.1,1.0084033613445378,0.99173553719008267,11.7,11.9,1.0256410256410258,1.0084033613445378,11.7,11.9,1.0256410256410258,1.0084033613445378,11.5,11.7,1.0434782608695652,1.0256410256410258,null,12.2,12.2,4.3,0.98360655737704927,0.98360655737704927,0.8179067041086181,13,13,4.3,0.92307692307692313,0.92307692307692313,0.8179067041086181,13,13,4.3,0.92307692307692313,0.92307692307692313,0.8179067041086181,18,18,3.7,0.66666666666666663,0.66666666666666663,0.95054022369379931,18,18,3.7,0.66666666666666663,0.66666666666666663,0.95054022369379931,14.1,14.1,3.2,0.85106382978723405,0.85106382978723405,1.0990621336459554,14.1,14.1,3.2,0.85106382978723405,0.85106382978723405,1.0990621336459554,10.6,10.6,3.7,1.1320754716981132,1.1320754716981132,0.95054022369379931,10.6,10.6,3.7,1.1320754716981132,1.1320754716981132,0.95054022369379931,16.3,16.3,3.1,0.73619631901840488,0.73619631901840488,1.1345157508603412,16.3,16.3,3.1,0.73619631901840488,0.73619631901840488,1.1345157508603412,12.1,12.1,2.5,0.99173553719008267,0.99173553719008267,1.4067995310668231,12.1,12.1,2.5,0.99173553719008267,0.99173553719008267,1.4067995310668231]
[2014,12.1,12.3,0.99173553719008267,0.97560975609756095,12.1,12.3,0.99173553719008267,0.97560975609756095,12.1,13.9,0.99173553719008267,0.86330935251798557,11.9,13.7,1.0084033613445378,0.87591240875912413,12.5,13.9,0.96,0.86330935251798557,12.3,13.7,0.97560975609756095,0.87591240875912413,12.4,13.6,0.96774193548387089,0.88235294117647056,12.2,13.4,0.98360655737704927,0.89552238805970152,12.2,13.5,0.98360655737704927,0.88888888888888884,12,13.3,1,0.90225563909774431,12.1,12.3,0.99173553719008267,0.97560975609756095,12.1,12.3,0.99173553719008267,0.97560975609756095,12.1,12.3,0.99173553719008267,0.97560975609756095,11.9,12.1,1.0084033613445378,0.99173553719008267,12,12.2,1,0.98360655737704927,11.8,12,1.0169491525423728,1,11.9,12.1,1.0084033613445378,0.99173553719008267,11.7,11.9,1.0256410256410258,1.0084033613445378,11.7,11.9,1.0256410256410258,1.0084033613445378,11.5,11.7,1.0434782608695652,1.0256410256410258,null,12.2,12.2,4.3,0.98360655737704927,0.98360655737704927,0.8179067041086181,13,13,4.3,0.92307692307692313,0.92307692307692313,0.8179067041086181,13,13,4.3,0.92307692307692313,0.92307692307692313,0.8179067041086181,18,18,3.7,0.66666666666666663,0.66666666666666663,0.95054022369379931,18,18,3.7,0.66666666666666663,0.66666666666666663,0.95054022369379931,14.1,14.1,3.2,0.85106382978723405,0.85106382978723405,1.0990621336459554,14.1,14.1,3.2,0.85106382978723405,0.85106382978723405,1.0990621336459554,10.6,10.6,3.7,1.1320754716981132,1.1320754716981132,0.95054022369379931,10.6,10.6,3.7,1.1320754716981132,1.1320754716981132,0.95054022369379931,16.3,16.3,3.1,0.73619631901840488,0.73619631901840488,1.1345157508603412,16.3,16.3,3.1,0.73619631901840488,0.73619631901840488,1.1345157508603412,12.1,12.1,2.5,0.99173553719008267,0.99173553719008267,1.4067995310668231,12.1,12.1,2.5,0.99173553719008267,0.99173553719008267,1.4067995310668231]
[2015,12.1,12.3,0.99173553719008267,0.97560975609756095,12.1,12.3,0.99173553719008267,0.97560975609756095,12.1,13.9,0.99173553719008267,0.86330935251798557,11.9,13.7,1.0084033613445378,0.87591240875912413,12.5,13.9,0.96,0.86330935251798557,12.3,13.7,0.97560975609756095,0.87591240875912413,12.4,13.6,0.96774193548387089,0.88235294117647056,12.2,13.4,0.98360655737704927,0.89552238805970152,12.2,13.5,0.98360655737704927,0.88888888888888884,12,13.3,1,0.90225563909774431,12.1,12.3,0.99173553719008267,0.97560975609756095,12.1,12.3,0.99173553719008267,0.97560975609756095,12.1,12.3,0.99173553719008267,0.97560975609756095,11.9,12.1,1.0084033613445378,0.99173553719008267,12,12.2,1,0.98360655737704927,11.8,12,1.0169491525423728,1,11.9,12.1,1.0084033613445378,0.99173553719008267,11.7,11.9,1.0256410256410258,1.0084033613445378,11.7,11.9,1.0256410256410258,1.0084033613445378,11.5,11.7,1.0434782608695652,1.0256410256410258,null,12.2,12.2,4.3,0.98360655737704927,0.98360655737704927,0.8179067041086181,13,13,4.3,0.92307692307692313,0.92307692307692313,0.8179067041086181,13,13,4.3,0.92307692307692313,0.92307692307692313,0.8179067041086181,18,18,3.7,0.66666666666666663,0.66666666666666663,0.95054022369379931,18,18,3.7,0.66666666666666663,0.66666666666666663,0.95054022369379931,14.1,14.1,3.2,0.85106382978723405,0.85106382978723405,1.0990621336459554,14.1,14.1,3.2,0.85106382978723405,0.85106382978723405,1.0990621336459554,10.6,10.6,3.7,1.1320754716981132,1.1320754716981132,0.95054022369379931,10.6,10.6,3.7,1.1320754716981132,1.1320754716981132,0.95054022369379931,16.3,16.3,3.1,0.73619631901840488,0.73619631901840488,1.1345157508603412,16.3,16.3,3.1,0.73619631901840488,0.73619631901840488,1.1345157508603412,12.1,12.1,2.5,0.99173553719008267,0.99173553719008267,1.4067995310668231,12.1,12.1,2.5,0.99173553719008267,0.99173553719008267,1.4067995310668231]
[2016,12.1,12.3,0.99173553719008267,0.97560975609756095,12.1,12.3,0.99173553719008267,0.97560975609756095,12.1,13.9,0.99173553719008267,0.86330935251798557,11.9,13.7,1.0084033613445378,0.87591240875912413,12.5,13.9,0.96,0.86330935251798557,12.3,13.7,0.97560975609756095,0.87591240875912413,12.4,13.6,0.96774193548387089,0.88235294117647056,12.2,13.4,0.98360655737704927,0.89552238805970152,12.2,13.5,0.98360655737704927,0.88888888888888884,12,13.3,1,0.90225563909774431,12.1,12.3,0.99173553719008267,0.97560975609756095,12.1,12.3,0.99173553719008267,0.97560975609756095,12.1,12.3,0.99173553719008267,0.97560975609756095,11.9,12.1,1.0084033613445378,0.99173553719008267,12,12.2,1,0.98360655737704927,11.8,12,1.0169491525423728,1,11.9,12.1,1.0084033613445378,0.99173553719008267,11.7,11.9,1.0256410256410258,1.0084033613445378,11.7,11.9,1.0256410256410258,1.0084033613445378,11.5,11.7,1.0434782608695652,1.0256410256410258,null,12.2,12.2,4.3,0.98360655737704927,0.98360655737704927,0.8179067041086181,13,13,4.3,0.92307692307692313,0.92307692307692313,0.8179067041086181,13,13,4.3,0.92307692307692313,0.92307692307692313,0.8179067041086181,18,18,3.7,0.66666666666666663,0.66666666666666663,0.95054022369379931,18,18,3.7,0.66666666666666663,0.66666666666666663,0.95054022369379931,14.1,14.1,3.2,0.85106382978723405,0.85106382978723405,1.0990621336459554,14.1,14.1,3.2,0.85106382978723405,0.85106382978723405,1.0990621336459554,10.6,10.6,3.7,1.1320754716981132,1.1320754716981132,0.95054022369379931,10.6,10.6,3.7,1.1320754716981132,1.1320754716981132,0.95054022369379931,16.3,16.3,3.1,0.73619631901840488,0.73619631901840488,1.1345157508603412,16.3,16.3,3.1,0.73619631901840488,0.73619631901840488,1.1345157508603412,12.1,12.1,2.5,0.99173553719008267,0.99173553719008267,1.4067995310668231,12.1,12.1,2.5,0.99173553719008267,0.99173553719008267,1.4067995310668231]
[2017,12.1,12.3,0.99173553719008267,0.97560975609756095,12.1,12.3,0.99173553719008267,0.97560975609756095,12.1,13.9,0.99173553719008267,0.86330935251798557,11.9,13.7,1.0084033613445378,0.87591240875912413,12.5,13.9,0.96,0.86330935251798557,12.3,13.7,0.97560975609756095,0.87591240875912413,12.4,13.6,0.96774193548387089,0.88235294117647056,12.2,13.4,0.98360655737704927,0.89552238805970152,12.2,13.5,0.98360655737704927,0.88888888888888884,12,13.3,1,0.90225563909774431,12.1,12.3,0.99173553719008267,0.97560975609756095,12.1,12.3,0.99173553719008267,0.97560975609756095,12.1,12.3,0.99173553719008267,0.97560975609756095,11.9,12.1,1.0084033613445378,0.99173553719008267,12,12.2,1,0.98360655737704927,11.8,12,1.0169491525423728,1,11.9,12.1,1.0084033613445378,0.99173553719008267,11.7,11.9,1.0256410256410258,1.0084033613445378,11.7,11.9,1.0256410256410258,1.0084033613445378,11.5,11.7,1.0434782608695652,1.0256410256410258,null,12.2,12.2,4.3,0.98360655737704927,0.98360655737704927,0.8179067041086181,13,13,4.3,0.92307692307692313,0.92307692307692313,0.8179067041086181,13,13,4.3,0.92307692307692313,0.92307692307692313,0.8179067041086181,18,18,3.7,0.66666666666666663,0.66666666666666663,0.95054022369379931,18,18,3.7,0.66666666666666663,0.66666666666666663,0.95054022369379931,14.1,14.1,3.2,0.85106382978723405,0.85106382978723405,1.0990621336459554,14.1,14.1,3.2,0.85106382978723405,0.85106382978723405,1.0990621336459554,10.6,10.6,3.7,1.1320754716981132,1.1320754716981132,0.95054022369379931,10.6,10.6,3.7,1.1320754716981132,1.1320754716981132,0.95054022369379931,16.3,16.3,3.1,0.73619631901840488,0.73619631901840488,1.1345157508603412,16.3,16.3,3.1,0.73619631901840488,0.73619631901840488,1.1345157508603412,12.1,12.1,2.5,0.99173553719008267,0.99173553719008267,1.4067995310668231,12.1,12.1,2.5,0.99173553719008267,0.99173553719008267,1.4067995310668231]
[2018,12.1,12.3,0.99173553719008267,0.97560975609756095,12.1,12.3,0.99173553719008267,0.97560975609756095,12.1,13.9,0.99173553719008267,0.86330935251798557,11.9,13.7,1.0084033613445378,0.87591240875912413,12.5,13.9,0.96,0.86330935251798557,12.3,13.7,0.97560975609756095,0.87591240875912413,12.4,13.6,0.96774193548387089,0.88235294117647056,12.2,13.4,0.98360655737704927,0.89552238805970152,12.2,13.5,0.98360655737704927,0.88888888888888884,12,13.3,1,0.90225563909774431,12.1,12.3,0.99173553719008267,0.97560975609756095,12.1,12.3,0.99173553719008267,0.97560975609756095,12.1,12.3,0.99173553719008267,0.97560975609756095,11.9,12.1,1.0084033613445378,0.99173553719008267,12,12.2,1,0.98360655737704927,11.8,12,1.0169491525423728,1,11.9,12.1,1.0084033613445378,0.99173553719008267,11.7,11.9,1.0256410256410258,1.0084033613445378,11.7,11.9,1.0256410256410258,1.0084033613445378,11.5,11.7,1.0434782608695652,1.0256410256410258,null,12.2,12.2,4.3,0.98360655737704927,0.98360655737704927,0.8179067041086181,13,13,4.3,0.92307692307692313,0.92307692307692313,0.8179067041086181,13,13,4.3,0.92307692307692313,0.92307692307692313,0.8179067041086181,18,18,3.7,0.66666666666666663,0.66666666666666663,0.95054022369379931,18,18,3.7,0.66666666666666663,0.66666666666666663,0.95054022369379931,14.1,14.1,3.2,0.85106382978723405,0.85106382978723405,1.0990621336459554,14.1,14.1,3.2,0.85106382978723405,0.85106382978723405,1.0990621336459554,10.6,10.6,3.7,1.1320754716981132,1.1320754716981132,0.95054022369379931,10.6,10.6,3.7,1.1320754716981132,1.1320754716981132,0.95054022369379931,16.3,16.3,3.1,0.73619631901840488,0.73619631901840488,1.1345157508603412,16.3,16.3,3.1,0.73619631901840488,0.73619631901840488,1.1345157508603412,12.1,12.1,2.5,0.99173553719008267,0.99173553719008267,1.4067995310668231,12.1,12.1,2.5,0.99173553719008267,0.99173553719008267,1.4067995310668231]
[2019,12.1,12.3,0.99173553719008267,0.97560975609756095,12.1,12.3,0.99173553719008267,0.97560975609756095,12.1,13.9,0.99173553719008267,0.86330935251798557,11.9,13.7,1.0084033613445378,0.87591240875912413,12.5,13.9,0.96,0.86330935251798557,12.3,13.7,0.97560975609756095,0.87591240875912413,12.4,13.6,0.96774193548387089,0.88235294117647056,12.2,13.4,0.98360655737704927,0.89552238805970152,12.2,13.5,0.98360655737704927,0.88888888888888884,12,13.3,1,0.90225563909774431,12.1,12.3,0.99173553719008267,0.97560975609756095,12.1,12.3,0.99173553719008267,0.97560975609756095,12.1,12.3,0.99173553719008267,0.97560975609756095,11.9,12.1,1.0084033613445378,0.99173553719008267,12,12.2,1,0.98360655737704927,11.8,12,1.0169491525423728,1,11.9,12.1,1.0084033613445378,0.99173553719008267,11.7,11.9,1.0256410256410258,1.0084033613445378,11.7,11.9,1.0256410256410258,1.0084033613445378,11.5,11.7,1.0434782608695652,1.0256410256410258,null,12.2,12.2,4.3,0.98360655737704927,0.98360655737704927,0.8179067041086181,13,13,4.3,0.92307692307692313,0.92307692307692313,0.8179067041086181,13,13,4.3,0.92307692307692313,0.92307692307692313,0.8179067041086181,18,18,3.7,0.66666666666666663,0.66666666666666663,0.95054022369379931,18,18,3.7,0.66666666666666663,0.66666666666666663,0.95054022369379931,14.1,14.1,3.2,0.85106382978723405,0.85106382978723405,1.0990621336459554,14.1,14.1,3.2,0.85106382978723405,0.85106382978723405,1.0990621336459554,10.6,10.6,3.7,1.1320754716981132,1.1320754716981132,0.95054022369379931,10.6,10.6,3.7,1.1320754716981132,1.1320754716981132,0.95054022369379931,16.3,16.3,3.1,0.73619631901840488,0.73619631901840488,1.1345157508603412,16.3,16.3,3.1,0.73619631901840488,0.73619631901840488,1.1345157508603412,12.1,12.1,2.5,0.99173553719008267,0.99173553719008267,1.4067995310668231,12.1,12.1,2.5,0.99173553719008267,0.99173553719008267,1.4067995310668231]
[2020,12.1,12.3,0.99173553719008267,0.97560975609756095,12.1,12.3,0.99173553719008267,0.97560975609756095,12.1,13.9,0.99173553719008267,0.86330935251798557,11.9,13.7,1.0084033613445378,0.87591240875912413,12.5,13.9,0.96,0.86330935251798557,12.3,13.7,0.97560975609756095,0.87591240875912413,12.4,13.6,0.96774193548387089,0.88235294117647056,12.2,13.4,0.98360655737704927,0.89552238805970152,12.2,13.5,0.98360655737704927,0.88888888888888884,12,13.3,1,0.90225563909774431,12.1,12.3,0.99173553719008267,0.97560975609756095,12.1,12.3,0.99173553719008267,0.97560975609756095,12.1,12.3,0.99173553719008267,0.97560975609756095,11.9,12.1,1.0084033613445378,0.99173553719008267,12,12.2,1,0.98360655737704927,11.8,12,1.0169491525423728,1,11.9,12.1,1.0084033613445378,0.99173553719008267,11.7,11.9,1.0256410256410258,1.0084033613445378,11.7,11.9,1.0256410256410258,1.0084033613445378,11.5,11.7,1.0434782608695652,1.0256410256410258,null,12.2,12.2,4.3,0.98360655737704927,0.98360655737704927,{"$f":"12/3.412/CG32","v":0.8179067041086181},13,13,4.3,0.92307692307692313,0.92307692307692313,0.8179067041086181,13,13,4.3,0.92307692307692313,0.92307692307692313,0.8179067041086181,18,18,3.7,0.66666666666666663,0.66666666666666663,0.95054022369379931,18,18,3.7,0.66666666666666663,0.66666666666666663,0.95054022369379931,14.1,14.1,3.2,0.85106382978723405,0.85106382978723405,1.0990621336459554,14.1,14.1,3.2,0.85106382978723405,0.85106382978723405,1.0990621336459554,10.6,10.6,3.7,1.1320754716981132,1.1320754716981132,0.95054022369379931,10.6,10.6,3.7,1.1320754716981132,1.1320754716981132,0.95054022369379931,16.3,16.3,3.1,0.73619631901840488,0.73619631901840488,1.1345157508603412,16.3,16.3,3.1,0.73619631901840488,0.73619631901840488,1.1345157508603412,12.1,12.1,2.5,0.99173553719008267,0.99173553719008267,1.4067995310668231,12.1,12.1,2.5,0.99173553719008267,0.99173553719008267,1.4067995310668231]
[2021,{"$f":"B$37","v":12.1},12.3,{"$f":"12/B33","v":0.99173553719008267},{"$f":"12/C33","v":0.97560975609756095},{"$f":"F$37","v":12.1},12.3,{"$f":"12/F33","v":0.99173553719008267},{"$f":"12/G33","v":0.97560975609756095},{"$f":"J$37","v":12.1},13.9,{"$f":"12/J33","v":0.99173553719008267},{"$f":"12/K33","v":0.86330935251798557},{"$f":"N$37","v":11.9},13.7,{"$f":"12/N33","v":1.0084033613445378},{"$f":"12/O33","v":0.87591240875912413},{"$f":"R$37","v":12.5},13.9,{"$f":"12/R33","v":0.96},{"$f":"12/S33","v":0.86330935251798557},{"$f":"V$37","v":12.3},13.7,{"$f":"12/V33","v":0.97560975609756095},{"$f":"12/W33","v":0.87591240875912413},{"$f":"Z$37","v":12.4},13.6,{"$f":"12/Z33","v":0.96774193548387089},{"$f":"12/AA33","v":0.88235294117647056},{"$f":"AD$37","v":12.2},13.4,{"$f":"12/AD33","v":0.98360655737704927},{"$f":"12/AE33","v":0.89552238805970152},{"$f":"AH$37","v":12.2},13.5,{"$f":"12/AH33","v":0.98360655737704927},{"$f":"12/AI33","v":0.88888888888888884},{"$f":"AL$37","v":12},13.3,{"$f":"12/AL33","v":1},{"$f":"12/AM33","v":0.90225563909774431},{"$f":"AP$37","v":12.1},12.3,{"$f":"12/AP33","v":0.99173553719008267},{"$f":"12/AQ33","v":0.97560975609756095},{"$f":"AT$37","v":12.1},12.3,{"$f":"12/AT33","v":0.99173553719008267},{"$f":"12/AU33","v":0.97560975609756095},{"$f":"AX$37","v":12.1},12.3,{"$f":"12/AX33","v":0.99173553719008267},{"$f":"12/AY33","v":0.97560975609756095},{"$f":"BB$37","v":11.9},12.1,{"$f":"12/BB33","v":1.0084033613445378},{"$f":"12/BC33","v":0.99173553719008267},{"$f":"BF$37","v":12},12.2,{"$f":"12/BF33","v":1},{"$f":"12/BG33","v":0.98360655737704927},{"$f":"BJ$37","v":11.8},12,{"$f":"12/BJ33","v":1.0169491525423728},{"$f":"12/BK33","v":1},{"$f":"BN$37","v":11.9},12.1,{"$f":"12/BN33","v":1.0084033613445378},{"$f":"12/BO33","v":0.99173553719008267},{"$f":"BR$37","v":11.7},11.9,{"$f":"12/BR33","v":1.0256410256410258},{"$f":"12/BS33","v":1.0084033613445378},{"$f":"BV$37","v":11.7},11.9,{"$f":"12/BV33","v":1.0256410256410258},{"$f":"12/BW33","v":1.0084033613445378},{"$f":"BZ$37","v":11.5},11.7,{"$f":"12/BZ33","v":1.0434782608695652},{"$f":"12/CA33","v":1.0256410256410258},null,{"$f":"CE$37","v":12.2},{"$f":"CE33","v":12.2},{"$f":"CG$37","v":4.3},{"$f":"12/CE33","v":0.98360655737704927},{"$f":"12/CF33","v":0.98360655737704927},0.8179067041086181,{"$f":"CK$37","v":13},{"$f":"CK33","v":13},{"$f":"CM$37","v":4.3},{"$f":"12/CK33","v":0.92307692307692313},{"$f":"12/CL33","v":0.92307692307692313},{"$f":"12/3.412/CM33","v":0.8179067041086181},{"$f":"CQ$37","v":13},{"$f":"CQ33","v":13},{"$f":"CS$37","v":4.3},{"$f":"12/CQ33","v":0.92307692307692313},{"$f":"12/CR33","v":0.92307692307692313},{"$f":"12/3.412/CS33","v":0.8179067041086181},{"$f":"CW$37","v":18},{"$f":"CW33","v":18},{"$f":"CY$37","v":3.7},{"$f":"12/CW33","v":0.66666666666666663},{"$f":"12/CX33","v":0.66666666666666663},{"$f":"12/3.412/CY33","v":0.95054022369379931},{"$f":"DC$37","v":18},{"$f":"DC33","v":18},{"$f":"DE$37","v":3.7},{"$f":"12/DC33","v":0.66666666666666663},{"$f":"12/DD33","v":0.66666666666666663},{"$f":"12/3.412/DE33","v":0.95054022369379931},{"$f":"DI$37","v":14.1},{"$f":"DI33","v":14.1},{"$f":"DK$37","v":3.2},{"$f":"12/DI33","v":0.85106382978723405},{"$f":"12/DJ33","v":0.85106382978723405},{"$f":"12/3.412/DK33","v":1.0990621336459554},{"$f":"DO$37","v":14.1},{"$f":"DO33","v":14.1},{"$f":"DQ$37","v":3.2},{"$f":"12/DO33","v":0.85106382978723405},{"$f":"12/DP33","v":0.85106382978723405},{"$f":"12/3.412/DQ33","v":1.0990621336459554},{"$f":"DU$37","v":10.6},{"$f":"DU33","v":10.6},{"$f":"DW$37","v":3.7},{"$f":"12/DU33","v":1.1320754716981132},{"$f":"12/DV33","v":1.1320754716981132},{"$f":"12/3.412/DW33","v":0.95054022369379931},{"$f":"EA$37","v":10.6},{"$f":"EA33","v":10.6},{"$f":"EC$37","v":3.7},{"$f":"12/EA33","v":1.1320754716981132},{"$f":"12/EB33","v":1.1320754716981132},{"$f":"12/3.412/EC33","v":0.95054022369379931},{"$f":"EG$37","v":16.3},{"$f":"EG33","v":16.3},{"$f":"EI$37","v":3.1},{"$f":"12/EG33","v":0.73619631901840488},{"$f":"12/EH33","v":0.73619631901840488},{"$f":"12/3.412/EI33","v":1.1345157508603412},{"$f":"EM$37","v":16.3},{"$f":"EM33","v":16.3},{"$f":"EO$37","v":3.1},{"$f":"12/EM33","v":0.73619631901840488},{"$f":"12/EN33","v":0.73619631901840488},{"$f":"12/3.412/EO33","v":1.1345157508603412},{"$f":"ES$37","v":12.1},{"$f":"ES33","v":12.1},{"$f":"EU$37","v":2.5},{"$f":"12/ES33","v":0.99173553719008267},{"$f":"12/ET33","v":0.99173553719008267},{"$f":"12/3.412/EU33","v":1.4067995310668231},{"$f":"EY$37","v":12.1},{"$f":"EY33","v":12.1},{"$f":"FA$37","v":2.5},{"$f":"12/EY33","v":0.99173553719008267},{"$f":"12/EZ33","v":0.99173553719008267},{"$f":"12/3.412/FA33","v":1.4067995310668231}]
[2022,12.1,12.3,0.99173553719008267,0.97560975609756095,12.1,12.3,0.99173553719008267,0.97560975609756095,12.1,13.9,0.99173553719008267,0.86330935251798557,11.9,13.7,1.0084033613445378,0.87591240875912413,12.5,13.9,0.96,0.86330935251798557,12.3,13.7,0.97560975609756095,0.87591240875912413,12.4,13.6,0.96774193548387089,0.88235294117647056,12.2,13.4,0.98360655737704927,0.89552238805970152,12.2,13.5,0.98360655737704927,0.88888888888888884,12,13.3,1,0.90225563909774431,12.1,12.3,0.99173553719008267,0.97560975609756095,12.1,12.3,0.99173553719008267,0.97560975609756095,12.1,12.3,0.99173553719008267,0.97560975609756095,11.9,12.1,1.0084033613445378,0.99173553719008267,12,12.2,1,0.98360655737704927,11.8,12,1.0169491525423728,1,11.9,12.1,1.0084033613445378,0.99173553719008267,11.7,11.9,1.0256410256410258,1.0084033613445378,11.7,11.9,1.0256410256410258,1.0084033613445378,11.5,11.7,1.0434782608695652,1.0256410256410258,null,12.2,12.2,4.3,0.98360655737704927,0.98360655737704927,{"$f":"12/3.412/CG34","v":0.8179067041086181},13,13,4.3,0.92307692307692313,0.92307692307692313,0.8179067041086181,13,13,4.3,0.92307692307692313,0.92307692307692313,0.8179067041086181,18,18,3.7,0.66666666666666663,0.66666666666666663,0.95054022369379931,18,18,3.7,0.66666666666666663,0.66666666666666663,0.95054022369379931,14.1,14.1,3.2,0.85106382978723405,0.85106382978723405,1.0990621336459554,14.1,14.1,3.2,0.85106382978723405,0.85106382978723405,1.0990621336459554,10.6,10.6,3.7,1.1320754716981132,1.1320754716981132,0.95054022369379931,10.6,10.6,3.7,1.1320754716981132,1.1320754716981132,0.95054022369379931,16.3,16.3,3.1,0.73619631901840488,0.73619631901840488,1.1345157508603412,16.3,16.3,3.1,0.73619631901840488,0.73619631901840488,1.1345157508603412,12.1,12.1,2.5,0.99173553719008267,0.99173553719008267,1.4067995310668231,12.1,12.1,2.5,0.99173553719008267,0.99173553719008267,1.4067995310668231]
[2023,12.1,12.3,0.99173553719008267,0.97560975609756095,12.1,12.3,0.99173553719008267,0.97560975609756095,12.1,13.9,0.99173553719008267,0.86330935251798557,11.9,13.7,1.0084033613445378,0.87591240875912413,12.5,13.9,0.96,0.86330935251798557,12.3,13.7,0.97560975609756095,0.87591240875912413,12.4,13.6,0.96774193548387089,0.88235294117647056,12.2,13.4,0.98360655737704927,0.89552238805970152,12.2,13.5,0.98360655737704927,0.88888888888888884,12,13.3,1,0.90225563909774431,12.1,12.3,0.99173553719008267,0.97560975609756095,12.1,12.3,0.99173553719008267,0.97560975609756095,12.1,12.3,0.99173553719008267,0.97560975609756095,11.9,12.1,1.0084033613445378,0.99173553719008267,12,12.2,1,0.98360655737704927,11.8,12,1.0169491525423728,1,11.9,12.1,1.0084033613445378,0.99173553719008267,11.7,11.9,1.0256410256410258,1.0084033613445378,11.7,11.9,1.0256410256410258,1.0084033613445378,11.5,11.7,1.0434782608695652,1.0256410256410258,null,12.2,12.2,4.3,0.98360655737704927,0.98360655737704927,0.8179067041086181,13,13,4.3,0.92307692307692313,0.92307692307692313,0.8179067041086181,13,13,4.3,0.92307692307692313,0.92307692307692313,0.8179067041086181,18,18,3.7,0.66666666666666663,0.66666666666666663,0.95054022369379931,18,18,3.7,0.66666666666666663,0.66666666666666663,0.95054022369379931,14.1,14.1,3.2,0.85106382978723405,0.85106382978723405,1.0990621336459554,14.1,14.1,3.2,0.85106382978723405,0.85106382978723405,1.0990621336459554,10.6,10.6,3.7,1.1320754716981132,1.1320754716981132,0.95054022369379931,10.6,10.6,3.7,1.1320754716981132,1.1320754716981132,0.95054022369379931,16.3,16.3,3.1,0.73619631901840488,0.73619631901840488,1.1345157508603412,16.3,16.3,3.1,0.73619631901840488,0.73619631901840488,1.1345157508603412,12.1,12.1,2.5,0.99173553719008267,0.99173553719008267,1.4067995310668231,12.1,12.1,2.5,0.99173553719008267,0.99173553719008267,1.4067995310668231]
["ARTRM9.2",12.1,12.3,{"$f":"12/B36","v":0.99173553719008267},0.97560975609756095,12.1,12.3,{"$f":"12/F36","v":0.99173553719008267},0.97560975609756095,12.1,13.9,{"$f":"12/J36","v":0.99173553719008267},0.86330935251798557,12.5,13.9,{"$f":"12/N36","v":0.96},0.86330935251798557,12.5,13.9,{"$f":"12/R36","v":0.96},0.86330935251798557,12.3,13.7,{"$f":"12/V36","v":0.97560975609756095},0.87591240875912413,12.4,13.6,{"$f":"12/Z36","v":0.96774193548387089},0.88235294117647056,12.2,13.4,{"$f":"12/AD36","v":0.98360655737704927},0.89552238805970152,12.4,13.6,{"$f":"12/AH36","v":0.96774193548387089},0.88235294117647056,12.2,13.4,{"$f":"12/AL36","v":0.98360655737704927},0.89552238805970152,12.1,12.3,{"$f":"12/AP36","v":0.99173553719008267},0.97560975609756095,12.1,12.3,{"$f":"12/AT36","v":0.99173553719008267},0.97560975609756095,12.1,13.9,{"$f":"12/AX36","v":0.99173553719008267},0.86330935251798557,12.5,13.9,{"$f":"12/BB36","v":0.96},0.86330935251798557,12.5,13.9,{"$f":"12/BF36","v":0.96},0.86330935251798557,12.3,13.7,{"$f":"12/BJ36","v":0.97560975609756095},0.87591240875912413,12.4,13.6,{"$f":"12/BN36","v":0.96774193548387089},0.88235294117647056,12.2,13.4,{"$f":"12/BR36","v":0.98360655737704927},0.89552238805970152,12.4,13.6,{"$f":"12/BV36","v":0.96774193548387089},0.88235294117647056,12.2,13.4,{"$f":"12/BZ36","v":0.98360655737704927},0.89552238805970152,"ARTRM8 Table 275",11.8,14,{"$f":"8.2/3.412","v":2.4032825322391558},{"$f":"12/CE36","v":1.0169491525423728},0.8571428571428571,1.4634146341463417,{"$f":"CE36","v":11.8},{"$f":"CF36","v":14},2.4032825322391558,{"$f":"12/CK36","v":1.0169491525423728},0.8571428571428571,{"$f":"12/3.412/CM36","v":1.4634146341463417},11,12,3.3,{"$f":"12/CQ36","v":1.0909090909090908},1,{"$f":"12/3.412/CS36","v":1.0657572205051691},{"$f":"$CE36","v":11.8},{"$f":"$CF36","v":14},{"$f":"$CG36","v":2.4032825322391558},{"$f":"12/CW36","v":1.0169491525423728},0.8571428571428571,{"$f":"12/3.412/CY36","v":1.4634146341463417},{"$f":"$CQ36","v":11},{"$f":"$CR36","v":12},{"$f":"$CS36","v":3.3},{"$f":"12/DC36","v":1.0909090909090908},1,{"$f":"12/3.412/DE36","v":1.0657572205051691},{"$f":"$CE36","v":11.8},{"$f":"$CF36","v":14},{"$f":"$CG36","v":2.4032825322391558},{"$f":"12/DI36","v":1.0169491525423728},0.8571428571428571,{"$f":"12/3.412/DK36","v":1.4634146341463417},{"$f":"$CQ36","v":11},{"$f":"$CR36","v":12},{"$f":"$CS36","v":3.3},{"$f":"12/DO36","v":1.0909090909090908},1,{"$f":"12/3.412/DQ36","v":1.0657572205051691},{"$f":"$CE36","v":11.8},{"$f":"$CF36","v":14},{"$f":"$CG36","v":2.4032825322391558},{"$f":"12/DU36","v":1.0169491525423728},0.8571428571428571,{"$f":"12/3.412/DW36","v":1.4634146341463417},{"$f":"$CQ36","v":11},{"$f":"$CR36","v":12},{"$f":"$CS36","v":3.3},{"$f":"12/EA36","v":1.0909090909090908},1,{"$f":"12/3.412/EC36","v":1.0657572205051691},{"$f":"$CE36","v":11.8},{"$f":"$CF36","v":14},{"$f":"$CG36","v":2.4032825322391558},{"$f":"12/EG36","v":1.0169491525423728},0.8571428571428571,{"$f":"12/3.412/EI36","v":1.4634146341463417},{"$f":"$CQ36","v":11},{"$f":"$CR36","v":12},{"$f":"$CS36","v":3.3},{"$f":"12/EM36","v":1.0909090909090908},1,{"$f":"12/3.412/EO36","v":1.0657572205051691},{"$f":"$CE36","v":11.8},{"$f":"$CF36","v":14},{"$f":"$CG36","v":2.4032825322391558},{"$f":"12/ES36","v":1.0169491525423728},0.8571428571428571,{"$f":"12/3.412/EU36","v":1.4634146341463417},{"$f":"$CQ36","v":11},{"$f":"$CR36","v":12},{"$f":"$CS36","v":3.3},{"$f":"12/EY36","v":1.0909090909090908},1,{"$f":"12/3.412/FA36","v":1.0657572205051691},"ARTRM8 Table 275 (Air Cooled Heat Pumps)"]
["CPS",12.1,12.3,{"$f":"12/B37","v":0.99173553719008267},0.97560975609756095,12.1,12.3,0.99173553719008267,0.97560975609756095,12.1,13.9,0.99173553719008267,0.86330935251798557,11.9,13.7,1.0084033613445378,0.87591240875912413,12.5,13.9,0.96,0.86330935251798557,12.3,13.7,0.97560975609756095,0.87591240875912413,12.4,13.6,0.96774193548387089,0.88235294117647056,12.2,13.4,0.98360655737704927,0.89552238805970152,12.2,13.5,0.98360655737704927,0.88888888888888884,12,13.3,1,0.90225563909774431,12.1,12.3,0.99173553719008267,0.97560975609756095,12.1,12.3,0.99173553719008267,0.97560975609756095,12.1,12.3,0.99173553719008267,0.97560975609756095,11.9,12.1,1.0084033613445378,0.99173553719008267,12,12.2,1,0.98360655737704927,11.8,12,1.0169491525423728,1,11.9,12.1,1.0084033613445378,0.99173553719008267,11.7,11.9,1.0256410256410258,1.0084033613445378,11.7,11.9,1.0256410256410258,1.0084033613445378,11.5,11.7,1.0434782608695652,1.0256410256410258,"IECC2015 Table C403.2.3(1)",12.2,{"$f":"CE37","v":12.2},4.3,{"$f":"12/CE37","v":0.98360655737704927},0.98360655737704927,{"$f":"12/3.412/CG37","v":0.8179067041086181},13,{"$f":"CK37","v":13},4.3,{"$f":"12/CK37","v":0.92307692307692313},0.92307692307692313,{"$f":"12/3.412/CM37","v":0.8179067041086181},13,{"$f":"CQ37","v":13},4.3,{"$f":"12/CQ37","v":0.92307692307692313},0.92307692307692313,{"$f":"12/3.412/CS37","v":0.8179067041086181},18,{"$f":"CW37","v":18},3.7,{"$f":"12/CW37","v":0.66666666666666663},0.66666666666666663,{"$f":"12/3.412/CY37","v":0.95054022369379931},18,{"$f":"DC37","v":18},3.7,{"$f":"12/DC37","v":0.66666666666666663},0.66666666666666663,{"$f":"12/3.412/DE37","v":0.95054022369379931},14.1,{"$f":"DI37","v":14.1},3.2,{"$f":"12/DI37","v":0.85106382978723405},0.85106382978723405,{"$f":"12/3.412/DK37","v":1.0990621336459554},14.1,{"$f":"DO37","v":14.1},3.2,{"$f":"12/DO37","v":0.85106382978723405},0.85106382978723405,{"$f":"12/3.412/DQ37","v":1.0990621336459554},10.6,{"$f":"DU37","v":10.6},3.7,{"$f":"12/DU37","v":1.1320754716981132},1.1320754716981132,{"$f":"12/3.412/DW37","v":0.95054022369379931},10.6,{"$f":"EA37","v":10.6},3.7,{"$f":"12/EA37","v":1.1320754716981132},1.1320754716981132,{"$f":"12/3.412/EC37","v":0.95054022369379931},16.3,{"$f":"EG37","v":16.3},3.1,{"$f":"12/EG37","v":0.73619631901840488},0.73619631901840488,{"$f":"12/3.412/EI37","v":1.1345157508603412},16.3,{"$f":"EM37","v":16.3},3.1,{"$f":"12/EM37","v":0.73619631901840488},0.73619631901840488,{"$f":"12/3.412/EO37","v":1.1345157508603412},12.1,{"$f":"ES37","v":12.1},2.5,{"$f":"12/ES37","v":0.99173553719008267},0.99173553719008267,{"$f":"12/3.412/EU37","v":1.4067995310668231},12.1,{"$f":"EY37","v":12.1},2.5,{"$f":"12/EY37","v":0.99173553719008267},0.99173553719008267,{"$f":"12/3.412/FA37","v":1.4067995310668231},"IECC2015 Table C403.2.3(2)"]

{"sheet":"CRAC","index":16,"n_rows":41,"n_cols":73,"rows_kept":41,"cut":false,"hidden":true,"merged":[]}
[null,"ComputerRoomAC",null,null,"ComputerRoomAC",null,null,"ComputerRoomAC",null,null,"ComputerRoomAC",null,null,"ComputerRoomAC",null,null,"ComputerRoomAC",null,null,"ComputerRoomAC",null,null,"ComputerRoomAC",null,null,"ComputerRoomAC",null,null,"ComputerRoomAC",null,null,"ComputerRoomAC",null,null,"ComputerRoomAC",null,null,"ComputerRoomAC",null,null,"ComputerRoomAC",null,null,"ComputerRoomAC",null,null,"ComputerRoomAC",null,null,"ComputerRoomAC",null,null,"ComputerRoomAC",null,null,"ComputerRoomAC",null,null,"ComputerRoomAC",null,null,"ComputerRoomAC",null,null,"ComputerRoomAC",null,null,"ComputerRoomAC",null,null,"ComputerRoomAC"]
[null,"AirCooledDownflow",null,null,"AirCooledDownflow",null,null,"AirCooledDownflow",null,null,"WaterCooledDownflow",null,null,"WaterCooledDownflow",null,null,"WaterCooledDownflow",null,null,"WaterCooledwithFluidEconomizerDownflow",null,null,"WaterCooledwithFluidEconomizerDownflow",null,null,"WaterCooledwithFluidEconomizerDownflow",null,null,"GlycolCooledDownflow",null,null,"GlycolCooledDownflow",null,null,"GlycolCooledDownflow",null,null,"AirCooledUpflow",null,null,"AirCooledUpflow",null,null,"AirCooledUpflow",null,null,"WaterCooledUpflow",null,null,"WaterCooledUpflow",null,null,"WaterCooledUpflow",null,null,"WaterCooledwithFluidEconomizerUpflow",null,null,"WaterCooledwithFluidEconomizerUpflow",null,null,"WaterCooledwithFluidEconomizerUpflow",null,null,"GlycolCooledUpflow",null,null,"GlycolCooledUpflow",null,null,"GlycolCooledUpflow"]
[null,"Lessthan65kbtuh",null,null,"65to240kbtuh",null,null,"GreaterThan240kbtuh",null,null,"Lessthan65kbtuh",null,null,"65to240kbtuh",null,null,"GreaterThan240kbtuh",null,null,"Lessthan65kbtuh",null,null,"65to240kbtuh",null,null,"GreaterThan240kbtuh",null,null,"Lessthan65kbtuh",null,null,"65to240kbtuh",null,null,"GreaterThan240kbtuh",null,null,"Lessthan65kbtuh",null,null,"65to240kbtuh",null,null,"GreaterThan240kbtuh",null,null,"Lessthan65kbtuh",null,null,"65to240kbtuh",null,null,"GreaterThan240kbtuh",null,null,"Lessthan65kbtuh",null,null,"65to240kbtuh",null,null,"GreaterThan240kbtuh",null,null,"Lessthan65kbtuh",null,null,"65to240kbtuh",null,null,"GreaterThan240kbtuh"]
[null,{"$f":"B1&B2&B3","v":"ComputerRoomACAirCooledDownflowLessthan65kbtuh"},null,null,{"$f":"E1&E2&E3","v":"ComputerRoomACAirCooledDownflow65to240kbtuh"},null,null,{"$f":"H1&H2&H3","v":"ComputerRoomACAirCooledDownflowGreaterThan240kbtuh"},null,null,{"$f":"K1&K2&K3","v":"ComputerRoomACWaterCooledDownflowLessthan65kbtuh"},null,null,{"$f":"N1&N2&N3","v":"ComputerRoomACWaterCooledDownflow65to240kbtuh"},null,null,{"$f":"Q1&Q2&Q3","v":"ComputerRoomACWaterCooledDownflowGreaterThan240kbtuh"},null,null,{"$f":"T1&T2&T3","v":"ComputerRoomACWaterCooledwithFluidEconomizerDownflowLessthan65kbtuh"},null,null,{"$f":"W1&W2&W3","v":"ComputerRoomACWaterCooledwithFluidEconomizerDownflow65to240kbtuh"},null,null,{"$f":"Z1&Z2&Z3","v":"ComputerRoomACWaterCooledwithFluidEconomizerDownflowGreaterThan240kbtuh"},null,null,{"$f":"AC1&AC2&AC3","v":"ComputerRoomACGlycolCooledDownflowLessthan65kbtuh"},null,null,{"$f":"AF1&AF2&AF3","v":"ComputerRoomACGlycolCooledDownflow65to240kbtuh"},null,null,{"$f":"AI1&AI2&AI3","v":"ComputerRoomACGlycolCooledDownflowGreaterThan240kbtuh"},null,null,{"$f":"AL1&AL2&AL3","v":"ComputerRoomACAirCooledUpflowLessthan65kbtuh"},null,null,{"$f":"AO1&AO2&AO3","v":"ComputerRoomACAirCooledUpflow65to240kbtuh"},null,null,{"$f":"AR1&AR2&AR3","v":"ComputerRoomACAirCooledUpflowGreaterThan240kbtuh"},null,null,{"$f":"AU1&AU2&AU3","v":"ComputerRoomACWaterCooledUpflowLessthan65kbtuh"},null,null,{"$f":"AX1&AX2&AX3","v":"ComputerRoomACWaterCooledUpflow65to240kbtuh"},null,null,{"$f":"BA1&BA2&BA3","v":"ComputerRoomACWaterCooledUpflowGreaterThan240kbtuh"},null,null,{"$f":"BD1&BD2&BD3","v":"ComputerRoomACWaterCooledwithFluidEconomizerUpflowLessthan65kbtuh"},null,null,{"$f":"BG1&BG2&BG3","v":"ComputerRoomACWaterCooledwithFluidEconomizerUpflow65to240kbtuh"},null,null,{"$f":"BJ1&BJ2&BJ3","v":"ComputerRoomACWaterCooledwithFluidEconomizerUpflowGreaterThan240kbtuh"},null,null,{"$f":"BM1&BM2&BM3","v":"ComputerRoomACGlycolCooledUpflowLessthan65kbtuh"},null,null,{"$f":"BP1&BP2&BP3","v":"ComputerRoomACGlycolCooledUpflow65to240kbtuh"},null,null,{"$f":"BS1&BS2&BS3","v":"ComputerRoomACGlycolCooledUpflowGreaterThan240kbtuh"}]
["Manuf. Year","SCOP","Full Load","Part Load","SCOP","Full Load","Part Load","SCOP","Full Load","Part Load","SCOP","Full Load","Part Load","SCOP","Full Load","Part Load","SCOP","Full Load","Part Load","SCOP","Full Load","Part Load","SCOP","Full Load","Part Load","SCOP","Full Load","Part Load","SCOP","Full Load","Part Load","SCOP","Full Load","Part Load","SCOP","Full Load","Part Load","SCOP","Full Load","Part Load","SCOP","Full Load","Part Load","SCOP","Full Load","Part Load","SCOP","Full Load","Part Load","SCOP","Full Load","Part Load","SCOP","Full Load","Part Load","SCOP","Full Load","Part Load","SCOP","Full Load","Part Load","SCOP","Full Load","Part Load","SCOP","Full Load","Part Load","SCOP","Full Load","Part Load","SCOP","Full Load","Part Load"]
[{"$f":"BaselineRow","v":1995},{"$f":"B$36","v":2.2000000000000002},{"$f":"3.517/B6","v":1.5986363636363634},{"$f":"C6","v":1.5986363636363634},{"$f":"E$36","v":2.1},{"$f":"3.517/E6","v":1.6747619047619047},{"$f":"F6","v":1.6747619047619047},{"$f":"H$36","v":1.9},{"$f":"3.517/H6","v":1.8510526315789475},{"$f":"I6","v":1.8510526315789475},{"$f":"K$36","v":2.6},{"$f":"3.517/K6","v":1.3526923076923076},{"$f":"L6","v":1.3526923076923076},{"$f":"N$36","v":2.5},{"$f":"3.517/N6","v":1.4068000000000001},{"$f":"O6","v":1.4068000000000001},{"$f":"Q$36","v":2.4},{"$f":"3.517/Q6","v":1.4654166666666666},{"$f":"R6","v":1.4654166666666666},{"$f":"T$36","v":2.5499999999999998},{"$f":"3.517/T6","v":1.37921568627451},{"$f":"U6","v":1.37921568627451},{"$f":"W$36","v":2.4500000000000002},{"$f":"3.517/W6","v":1.4355102040816325},{"$f":"X6","v":1.4355102040816325},{"$f":"Z$36","v":2.35},{"$f":"3.517/Z6","v":1.4965957446808509},{"$f":"AA6","v":1.4965957446808509},{"$f":"AC$36","v":2.5},{"$f":"3.517/AC6","v":1.4068000000000001},{"$f":"AD6","v":1.4068000000000001},{"$f":"AF$36","v":2.15},{"$f":"3.517/AF6","v":1.6358139534883722},{"$f":"AG6","v":1.6358139534883722},{"$f":"AI$36","v":2.1},{"$f":"3.517/AI6","v":1.6747619047619047},{"$f":"AJ6","v":1.6747619047619047},{"$f":"AL$36","v":2.09},{"$f":"3.517/AL6","v":1.6827751196172249},{"$f":"AM6","v":1.6827751196172249},{"$f":"AO$36","v":1.99},{"$f":"3.517/AO6","v":1.7673366834170854},{"$f":"AP6","v":1.7673366834170854},{"$f":"AR$36","v":1.79},{"$f":"3.517/AR6","v":1.964804469273743},{"$f":"AS6","v":1.964804469273743},{"$f":"AU$36","v":2.4900000000000002},{"$f":"3.517/AU6","v":1.412449799196787},{"$f":"AV6","v":1.412449799196787},{"$f":"AX$36","v":2.39},{"$f":"3.517/AX6","v":1.4715481171548117},{"$f":"AY6","v":1.4715481171548117},{"$f":"BA$36","v":2.29},{"$f":"3.517/BA6","v":1.5358078602620087},{"$f":"BB6","v":1.5358078602620087},{"$f":"BD$36","v":2.44},{"$f":"3.517/BD6","v":1.4413934426229509},{"$f":"BE6","v":1.4413934426229509},{"$f":"BG$36","v":2.34},{"$f":"3.517/BG6","v":1.502991452991453},{"$f":"BH6","v":1.502991452991453},{"$f":"BJ$36","v":2.2400000000000002},{"$f":"3.517/BJ6","v":1.5700892857142856},{"$f":"BK6","v":1.5700892857142856},{"$f":"BM$36","v":2.39},{"$f":"3.517/BM6","v":1.4715481171548117},{"$f":"BN6","v":1.4715481171548117},{"$f":"BP$36","v":2.04},{"$f":"3.517/BP6","v":1.7240196078431371},{"$f":"BQ6","v":1.7240196078431371},{"$f":"BS$36","v":1.99},{"$f":"3.517/BS6","v":1.7673366834170854},{"$f":"BT6","v":1.7673366834170854}]
[1996,2.2000000000000002,1.5986363636363634,1.5986363636363634,2.1,{"$f":"3.517/E7","v":1.6747619047619047},1.6747619047619047,1.9,{"$f":"3.517/H7","v":1.8510526315789475},1.8510526315789475,2.6,{"$f":"3.517/K7","v":1.3526923076923076},1.3526923076923076,2.5,{"$f":"3.517/N7","v":1.4068000000000001},1.4068000000000001,2.4,{"$f":"3.517/Q7","v":1.4654166666666666},1.4654166666666666,2.5499999999999998,{"$f":"3.517/T7","v":1.37921568627451},1.37921568627451,2.4500000000000002,{"$f":"3.517/W7","v":1.4355102040816325},1.4355102040816325,2.35,{"$f":"3.517/Z7","v":1.4965957446808509},1.4965957446808509,2.5,{"$f":"3.517/AC7","v":1.4068000000000001},1.4068000000000001,2.15,{"$f":"3.517/AF7","v":1.6358139534883722},1.6358139534883722,2.1,{"$f":"3.517/AI7","v":1.6747619047619047},1.6747619047619047,2.09,{"$f":"3.517/AL7","v":1.6827751196172249},1.6827751196172249,1.99,{"$f":"3.517/AO7","v":1.7673366834170854},1.7673366834170854,1.79,{"$f":"3.517/AR7","v":1.964804469273743},1.964804469273743,2.4900000000000002,{"$f":"3.517/AU7","v":1.412449799196787},1.412449799196787,2.39,{"$f":"3.517/AX7","v":1.4715481171548117},1.4715481171548117,2.29,{"$f":"3.517/BA7","v":1.5358078602620087},1.5358078602620087,2.44,{"$f":"3.517/BD7","v":1.4413934426229509},1.4413934426229509,2.34,{"$f":"3.517/BG7","v":1.502991452991453},1.502991452991453,2.2400000000000002,{"$f":"3.517/BJ7","v":1.5700892857142856},1.5700892857142856,2.39,{"$f":"3.517/BM7","v":1.4715481171548117},1.4715481171548117,2.04,{"$f":"3.517/BP7","v":1.7240196078431371},1.7240196078431371,1.99,{"$f":"3.517/BS7","v":1.7673366834170854},1.7673366834170854]
[1997,2.2000000000000002,1.5986363636363634,1.5986363636363634,2.1,{"$f":"3.517/E8","v":1.6747619047619047},1.6747619047619047,1.9,{"$f":"3.517/H8","v":1.8510526315789475},1.8510526315789475,2.6,{"$f":"3.517/K8","v":1.3526923076923076},1.3526923076923076,2.5,{"$f":"3.517/N8","v":1.4068000000000001},1.4068000000000001,2.4,{"$f":"3.517/Q8","v":1.4654166666666666},1.4654166666666666,2.5499999999999998,{"$f":"3.517/T8","v":1.37921568627451},1.37921568627451,2.4500000000000002,{"$f":"3.517/W8","v":1.4355102040816325},1.4355102040816325,2.35,{"$f":"3.517/Z8","v":1.4965957446808509},1.4965957446808509,2.5,{"$f":"3.517/AC8","v":1.4068000000000001},1.4068000000000001,2.15,{"$f":"3.517/AF8","v":1.6358139534883722},1.6358139534883722,2.1,{"$f":"3.517/AI8","v":1.6747619047619047},1.6747619047619047,2.09,{"$f":"3.517/AL8","v":1.6827751196172249},1.6827751196172249,1.99,{"$f":"3.517/AO8","v":1.7673366834170854},1.7673366834170854,1.79,{"$f":"3.517/AR8","v":1.964804469273743},1.964804469273743,2.4900000000000002,{"$f":"3.517/AU8","v":1.412449799196787},1.412449799196787,2.39,{"$f":"3.517/AX8","v":1.4715481171548117},1.4715481171548117,2.29,{"$f":"3.517/BA8","v":1.5358078602620087},1.5358078602620087,2.44,{"$f":"3.517/BD8","v":1.4413934426229509},1.4413934426229509,2.34,{"$f":"3.517/BG8","v":1.502991452991453},1.502991452991453,2.2400000000000002,{"$f":"3.517/BJ8","v":1.5700892857142856},1.5700892857142856,2.39,{"$f":"3.517/BM8","v":1.4715481171548117},1.4715481171548117,2.04,{"$f":"3.517/BP8","v":1.7240196078431371},1.7240196078431371,1.99,{"$f":"3.517/BS8","v":1.7673366834170854},1.7673366834170854]
[1998,2.2000000000000002,1.5986363636363634,1.5986363636363634,2.1,{"$f":"3.517/E9","v":1.6747619047619047},1.6747619047619047,1.9,{"$f":"3.517/H9","v":1.8510526315789475},1.8510526315789475,2.6,{"$f":"3.517/K9","v":1.3526923076923076},1.3526923076923076,2.5,{"$f":"3.517/N9","v":1.4068000000000001},1.4068000000000001,2.4,{"$f":"3.517/Q9","v":1.4654166666666666},1.4654166666666666,2.5499999999999998,{"$f":"3.517/T9","v":1.37921568627451},1.37921568627451,2.4500000000000002,{"$f":"3.517/W9","v":1.4355102040816325},1.4355102040816325,2.35,{"$f":"3.517/Z9","v":1.4965957446808509},1.4965957446808509,2.5,{"$f":"3.517/AC9","v":1.4068000000000001},1.4068000000000001,2.15,{"$f":"3.517/AF9","v":1.6358139534883722},1.6358139534883722,2.1,{"$f":"3.517/AI9","v":1.6747619047619047},1.6747619047619047,2.09,{"$f":"3.517/AL9","v":1.6827751196172249},1.6827751196172249,1.99,{"$f":"3.517/AO9","v":1.7673366834170854},1.7673366834170854,1.79,{"$f":"3.517/AR9","v":1.964804469273743},1.964804469273743,2.4900000000000002,{"$f":"3.517/AU9","v":1.412449799196787},1.412449799196787,2.39,{"$f":"3.517/AX9","v":1.4715481171548117},1.4715481171548117,2.29,{"$f":"3.517/BA9","v":1.5358078602620087},1.5358078602620087,2.44,{"$f":"3.517/BD9","v":1.4413934426229509},1.4413934426229509,2.34,{"$f":"3.517/BG9","v":1.502991452991453},1.502991452991453,2.2400000000000002,{"$f":"3.517/BJ9","v":1.5700892857142856},1.5700892857142856,2.39,{"$f":"3.517/BM9","v":1.4715481171548117},1.4715481171548117,2.04,{"$f":"3.517/BP9","v":1.7240196078431371},1.7240196078431371,1.99,{"$f":"3.517/BS9","v":1.7673366834170854},1.7673366834170854]
[1999,2.2000000000000002,1.5986363636363634,1.5986363636363634,2.1,{"$f":"3.517/E10","v":1.6747619047619047},1.6747619047619047,1.9,{"$f":"3.517/H10","v":1.8510526315789475},1.8510526315789475,2.6,{"$f":"3.517/K10","v":1.3526923076923076},1.3526923076923076,2.5,{"$f":"3.517/N10","v":1.4068000000000001},1.4068000000000001,2.4,{"$f":"3.517/Q10","v":1.4654166666666666},1.4654166666666666,2.5499999999999998,{"$f":"3.517/T10","v":1.37921568627451},1.37921568627451,2.4500000000000002,{"$f":"3.517/W10","v":1.4355102040816325},1.4355102040816325,2.35,{"$f":"3.517/Z10","v":1.4965957446808509},1.4965957446808509,2.5,{"$f":"3.517/AC10","v":1.4068000000000001},1.4068000000000001,2.15,{"$f":"3.517/AF10","v":1.6358139534883722},1.6358139534883722,2.1,{"$f":"3.517/AI10","v":1.6747619047619047},1.6747619047619047,2.09,{"$f":"3.517/AL10","v":1.6827751196172249},1.6827751196172249,1.99,{"$f":"3.517/AO10","v":1.7673366834170854},1.7673366834170854,1.79,{"$f":"3.517/AR10","v":1.964804469273743},1.964804469273743,2.4900000000000002,{"$f":"3.517/AU10","v":1.412449799196787},1.412449799196787,2.39,{"$f":"3.517/AX10","v":1.4715481171548117},1.4715481171548117,2.29,{"$f":"3.517/BA10","v":1.5358078602620087},1.5358078602620087,2.44,{"$f":"3.517/BD10","v":1.4413934426229509},1.4413934426229509,2.34,{"$f":"3.517/BG10","v":1.502991452991453},1.502991452991453,2.2400000000000002,{"$f":"3.517/BJ10","v":1.5700892857142856},1.5700892857142856,2.39,{"$f":"3.517/BM10","v":1.4715481171548117},1.4715481171548117,2.04,{"$f":"3.517/BP10","v":1.7240196078431371},1.7240196078431371,1.99,{"$f":"3.517/BS10","v":1.7673366834170854},1.7673366834170854]
[2000,2.2000000000000002,1.5986363636363634,1.5986363636363634,2.1,{"$f":"3.517/E11","v":1.6747619047619047},1.6747619047619047,1.9,{"$f":"3.517/H11","v":1.8510526315789475},1.8510526315789475,2.6,{"$f":"3.517/K11","v":1.3526923076923076},1.3526923076923076,2.5,{"$f":"3.517/N11","v":1.4068000000000001},1.4068000000000001,2.4,{"$f":"3.517/Q11","v":1.4654166666666666},1.4654166666666666,2.5499999999999998,{"$f":"3.517/T11","v":1.37921568627451},1.37921568627451,2.4500000000000002,{"$f":"3.517/W11","v":1.4355102040816325},1.4355102040816325,2.35,{"$f":"3.517/Z11","v":1.4965957446808509},1.4965957446808509,2.5,{"$f":"3.517/AC11","v":1.4068000000000001},1.4068000000000001,2.15,{"$f":"3.517/AF11","v":1.6358139534883722},1.6358139534883722,2.1,{"$f":"3.517/AI11","v":1.6747619047619047},1.6747619047619047,2.09,{"$f":"3.517/AL11","v":1.6827751196172249},1.6827751196172249,1.99,{"$f":"3.517/AO11","v":1.7673366834170854},1.7673366834170854,1.79,{"$f":"3.517/AR11","v":1.964804469273743},1.964804469273743,2.4900000000000002,{"$f":"3.517/AU11","v":1.412449799196787},1.412449799196787,2.39,{"$f":"3.517/AX11","v":1.4715481171548117},1.4715481171548117,2.29,{"$f":"3.517/BA11","v":1.5358078602620087},1.5358078602620087,2.44,{"$f":"3.517/BD11","v":1.4413934426229509},1.4413934426229509,2.34,{"$f":"3.517/BG11","v":1.502991452991453},1.502991452991453,2.2400000000000002,{"$f":"3.517/BJ11","v":1.5700892857142856},1.5700892857142856,2.39,{"$f":"3.517/BM11","v":1.4715481171548117},1.4715481171548117,2.04,{"$f":"3.517/BP11","v":1.7240196078431371},1.7240196078431371,1.99,{"$f":"3.517/BS11","v":1.7673366834170854},1.7673366834170854]
[2001,2.2000000000000002,1.5986363636363634,1.5986363636363634,2.1,{"$f":"3.517/E12","v":1.6747619047619047},1.6747619047619047,1.9,{"$f":"3.517/H12","v":1.8510526315789475},1.8510526315789475,2.6,{"$f":"3.517/K12","v":1.3526923076923076},1.3526923076923076,2.5,{"$f":"3.517/N12","v":1.4068000000000001},1.4068000000000001,2.4,{"$f":"3.517/Q12","v":1.4654166666666666},1.4654166666666666,2.5499999999999998,{"$f":"3.517/T12","v":1.37921568627451},1.37921568627451,2.4500000000000002,{"$f":"3.517/W12","v":1.4355102040816325},1.4355102040816325,2.35,{"$f":"3.517/Z12","v":1.4965957446808509},1.4965957446808509,2.5,{"$f":"3.517/AC12","v":1.4068000000000001},1.4068000000000001,2.15,{"$f":"3.517/AF12","v":1.6358139534883722},1.6358139534883722,2.1,{"$f":"3.517/AI12","v":1.6747619047619047},1.6747619047619047,2.09,{"$f":"3.517/AL12","v":1.6827751196172249},1.6827751196172249,1.99,{"$f":"3.517/AO12","v":1.7673366834170854},1.7673366834170854,1.79,{"$f":"3.517/AR12","v":1.964804469273743},1.964804469273743,2.4900000000000002,{"$f":"3.517/AU12","v":1.412449799196787},1.412449799196787,2.39,{"$f":"3.517/AX12","v":1.4715481171548117},1.4715481171548117,2.29,{"$f":"3.517/BA12","v":1.5358078602620087},1.5358078602620087,2.44,{"$f":"3.517/BD12","v":1.4413934426229509},1.4413934426229509,2.34,{"$f":"3.517/BG12","v":1.502991452991453},1.502991452991453,2.2400000000000002,{"$f":"3.517/BJ12","v":1.5700892857142856},1.5700892857142856,2.39,{"$f":"3.517/BM12","v":1.4715481171548117},1.4715481171548117,2.04,{"$f":"3.517/BP12","v":1.7240196078431371},1.7240196078431371,1.99,{"$f":"3.517/BS12","v":1.7673366834170854},1.7673366834170854]
[2002,2.2000000000000002,1.5986363636363634,1.5986363636363634,2.1,{"$f":"3.517/E13","v":1.6747619047619047},1.6747619047619047,1.9,{"$f":"3.517/H13","v":1.8510526315789475},1.8510526315789475,2.6,{"$f":"3.517/K13","v":1.3526923076923076},1.3526923076923076,2.5,{"$f":"3.517/N13","v":1.4068000000000001},1.4068000000000001,2.4,{"$f":"3.517/Q13","v":1.4654166666666666},1.4654166666666666,2.5499999999999998,{"$f":"3.517/T13","v":1.37921568627451},1.37921568627451,2.4500000000000002,{"$f":"3.517/W13","v":1.4355102040816325},1.4355102040816325,2.35,{"$f":"3.517/Z13","v":1.4965957446808509},1.4965957446808509,2.5,{"$f":"3.517/AC13","v":1.4068000000000001},1.4068000000000001,2.15,{"$f":"3.517/AF13","v":1.6358139534883722},1.6358139534883722,2.1,{"$f":"3.517/AI13","v":1.6747619047619047},1.6747619047619047,2.09,{"$f":"3.517/AL13","v":1.6827751196172249},1.6827751196172249,1.99,{"$f":"3.517/AO13","v":1.7673366834170854},1.7673366834170854,1.79,{"$f":"3.517/AR13","v":1.964804469273743},1.964804469273743,2.4900000000000002,{"$f":"3.517/AU13","v":1.412449799196787},1.412449799196787,2.39,{"$f":"3.517/AX13","v":1.4715481171548117},1.4715481171548117,2.29,{"$f":"3.517/BA13","v":1.5358078602620087},1.5358078602620087,2.44,{"$f":"3.517/BD13","v":1.4413934426229509},1.4413934426229509,2.34,{"$f":"3.517/BG13","v":1.502991452991453},1.502991452991453,2.2400000000000002,{"$f":"3.517/BJ13","v":1.5700892857142856},1.5700892857142856,2.39,{"$f":"3.517/BM13","v":1.4715481171548117},1.4715481171548117,2.04,{"$f":"3.517/BP13","v":1.7240196078431371},1.7240196078431371,1.99,{"$f":"3.517/BS13","v":1.7673366834170854},1.7673366834170854]
[2003,2.2000000000000002,1.5986363636363634,1.5986363636363634,2.1,{"$f":"3.517/E14","v":1.6747619047619047},1.6747619047619047,1.9,{"$f":"3.517/H14","v":1.8510526315789475},1.8510526315789475,2.6,{"$f":"3.517/K14","v":1.3526923076923076},1.3526923076923076,2.5,{"$f":"3.517/N14","v":1.4068000000000001},1.4068000000000001,2.4,{"$f":"3.517/Q14","v":1.4654166666666666},1.4654166666666666,2.5499999999999998,{"$f":"3.517/T14","v":1.37921568627451},1.37921568627451,2.4500000000000002,{"$f":"3.517/W14","v":1.4355102040816325},1.4355102040816325,2.35,{"$f":"3.517/Z14","v":1.4965957446808509},1.4965957446808509,2.5,{"$f":"3.517/AC14","v":1.4068000000000001},1.4068000000000001,{"$f":"AF$36","v":2.15},{"$f":"3.517/AF14","v":1.6358139534883722},1.6358139534883722,2.1,{"$f":"3.517/AI14","v":1.6747619047619047},1.6747619047619047,2.09,{"$f":"3.517/AL14","v":1.6827751196172249},1.6827751196172249,1.99,{"$f":"3.517/AO14","v":1.7673366834170854},1.7673366834170854,1.79,{"$f":"3.517/AR14","v":1.964804469273743},1.964804469273743,2.4900000000000002,{"$f":"3.517/AU14","v":1.412449799196787},1.412449799196787,2.39,{"$f":"3.517/AX14","v":1.4715481171548117},1.4715481171548117,2.29,{"$f":"3.517/BA14","v":1.5358078602620087},1.5358078602620087,2.44,{"$f":"3.517/BD14","v":1.4413934426229509},1.4413934426229509,2.34,{"$f":"3.517/BG14","v":1.502991452991453},1.502991452991453,2.2400000000000002,{"$f":"3.517/BJ14","v":1.5700892857142856},1.5700892857142856,2.39,{"$f":"3.517/BM14","v":1.4715481171548117},1.4715481171548117,2.04,{"$f":"3.517/BP14","v":1.7240196078431371},1.7240196078431371,1.99,{"$f":"3.517/BS14","v":1.7673366834170854},1.7673366834170854]
[2004,2.2000000000000002,1.5986363636363634,1.5986363636363634,2.1,{"$f":"3.517/E15","v":1.6747619047619047},1.6747619047619047,1.9,{"$f":"3.517/H15","v":1.8510526315789475},1.8510526315789475,2.6,{"$f":"3.517/K15","v":1.3526923076923076},1.3526923076923076,2.5,{"$f":"3.517/N15","v":1.4068000000000001},1.4068000000000001,2.4,{"$f":"3.517/Q15","v":1.4654166666666666},1.4654166666666666,2.5499999999999998,{"$f":"3.517/T15","v":1.37921568627451},1.37921568627451,2.4500000000000002,{"$f":"3.517/W15","v":1.4355102040816325},1.4355102040816325,2.35,{"$f":"3.517/Z15","v":1.4965957446808509},1.4965957446808509,2.5,{"$f":"3.517/AC15","v":1.4068000000000001},1.4068000000000001,2.15,{"$f":"3.517/AF15","v":1.6358139534883722},1.6358139534883722,2.1,{"$f":"3.517/AI15","v":1.6747619047619047},1.6747619047619047,2.09,{"$f":"3.517/AL15","v":1.6827751196172249},1.6827751196172249,1.99,{"$f":"3.517/AO15","v":1.7673366834170854},1.7673366834170854,1.79,{"$f":"3.517/AR15","v":1.964804469273743},1.964804469273743,2.4900000000000002,{"$f":"3.517/AU15","v":1.412449799196787},1.412449799196787,2.39,{"$f":"3.517/AX15","v":1.4715481171548117},1.4715481171548117,2.29,{"$f":"3.517/BA15","v":1.5358078602620087},1.5358078602620087,2.44,{"$f":"3.517/BD15","v":1.4413934426229509},1.4413934426229509,2.34,{"$f":"3.517/BG15","v":1.502991452991453},1.502991452991453,2.2400000000000002,{"$f":"3.517/BJ15","v":1.5700892857142856},1.5700892857142856,2.39,{"$f":"3.517/BM15","v":1.4715481171548117},1.4715481171548117,2.04,{"$f":"3.517/BP15","v":1.7240196078431371},1.7240196078431371,1.99,{"$f":"3.517/BS15","v":1.7673366834170854},1.7673366834170854]
[2005,2.2000000000000002,1.5986363636363634,1.5986363636363634,2.1,{"$f":"3.517/E16","v":1.6747619047619047},1.6747619047619047,1.9,{"$f":"3.517/H16","v":1.8510526315789475},1.8510526315789475,2.6,{"$f":"3.517/K16","v":1.3526923076923076},1.3526923076923076,2.5,{"$f":"3.517/N16","v":1.4068000000000001},1.4068000000000001,2.4,{"$f":"3.517/Q16","v":1.4654166666666666},1.4654166666666666,2.5499999999999998,{"$f":"3.517/T16","v":1.37921568627451},1.37921568627451,2.4500000000000002,{"$f":"3.517/W16","v":1.4355102040816325},1.4355102040816325,2.35,{"$f":"3.517/Z16","v":1.4965957446808509},1.4965957446808509,2.5,{"$f":"3.517/AC16","v":1.4068000000000001},1.4068000000000001,2.15,{"$f":"3.517/AF16","v":1.6358139534883722},1.6358139534883722,2.1,{"$f":"3.517/AI16","v":1.6747619047619047},1.6747619047619047,2.09,{"$f":"3.517/AL16","v":1.6827751196172249},1.6827751196172249,1.99,{"$f":"3.517/AO16","v":1.7673366834170854},1.7673366834170854,1.79,{"$f":"3.517/AR16","v":1.964804469273743},1.964804469273743,2.4900000000000002,{"$f":"3.517/AU16","v":1.412449799196787},1.412449799196787,2.39,{"$f":"3.517/AX16","v":1.4715481171548117},1.4715481171548117,2.29,{"$f":"3.517/BA16","v":1.5358078602620087},1.5358078602620087,2.44,{"$f":"3.517/BD16","v":1.4413934426229509},1.4413934426229509,2.34,{"$f":"3.517/BG16","v":1.502991452991453},1.502991452991453,2.2400000000000002,{"$f":"3.517/BJ16","v":1.5700892857142856},1.5700892857142856,2.39,{"$f":"3.517/BM16","v":1.4715481171548117},1.4715481171548117,2.04,{"$f":"3.517/BP16","v":1.7240196078431371},1.7240196078431371,1.99,{"$f":"3.517/BS16","v":1.7673366834170854},1.7673366834170854]
[2006,2.2000000000000002,1.5986363636363634,1.5986363636363634,2.1,{"$f":"3.517/E17","v":1.6747619047619047},1.6747619047619047,1.9,{"$f":"3.517/H17","v":1.8510526315789475},1.8510526315789475,2.6,{"$f":"3.517/K17","v":1.3526923076923076},1.3526923076923076,2.5,{"$f":"3.517/N17","v":1.4068000000000001},1.4068000000000001,2.4,{"$f":"3.517/Q17","v":1.4654166666666666},1.4654166666666666,2.5499999999999998,{"$f":"3.517/T17","v":1.37921568627451},1.37921568627451,2.4500000000000002,{"$f":"3.517/W17","v":1.4355102040816325},1.4355102040816325,2.35,{"$f":"3.517/Z17","v":1.4965957446808509},1.4965957446808509,2.5,{"$f":"3.517/AC17","v":1.4068000000000001},1.4068000000000001,2.15,{"$f":"3.517/AF17","v":1.6358139534883722},1.6358139534883722,2.1,{"$f":"3.517/AI17","v":1.6747619047619047},1.6747619047619047,2.09,{"$f":"3.517/AL17","v":1.6827751196172249},1.6827751196172249,1.99,{"$f":"3.517/AO17","v":1.7673366834170854},1.7673366834170854,1.79,{"$f":"3.517/AR17","v":1.964804469273743},1.964804469273743,2.4900000000000002,{"$f":"3.517/AU17","v":1.412449799196787},1.412449799196787,2.39,{"$f":"3.517/AX17","v":1.4715481171548117},1.4715481171548117,2.29,{"$f":"3.517/BA17","v":1.5358078602620087},1.5358078602620087,2.44,{"$f":"3.517/BD17","v":1.4413934426229509},1.4413934426229509,2.34,{"$f":"3.517/BG17","v":1.502991452991453},1.502991452991453,2.2400000000000002,{"$f":"3.517/BJ17","v":1.5700892857142856},1.5700892857142856,2.39,{"$f":"3.517/BM17","v":1.4715481171548117},1.4715481171548117,2.04,{"$f":"3.517/BP17","v":1.7240196078431371},1.7240196078431371,1.99,{"$f":"3.517/BS17","v":1.7673366834170854},1.7673366834170854]
[2007,2.2000000000000002,1.5986363636363634,1.5986363636363634,2.1,{"$f":"3.517/E18","v":1.6747619047619047},1.6747619047619047,1.9,{"$f":"3.517/H18","v":1.8510526315789475},1.8510526315789475,2.6,{"$f":"3.517/K18","v":1.3526923076923076},1.3526923076923076,2.5,{"$f":"3.517/N18","v":1.4068000000000001},1.4068000000000001,2.4,{"$f":"3.517/Q18","v":1.4654166666666666},1.4654166666666666,2.5499999999999998,{"$f":"3.517/T18","v":1.37921568627451},1.37921568627451,2.4500000000000002,{"$f":"3.517/W18","v":1.4355102040816325},1.4355102040816325,2.35,{"$f":"3.517/Z18","v":1.4965957446808509},1.4965957446808509,2.5,{"$f":"3.517/AC18","v":1.4068000000000001},1.4068000000000001,2.15,{"$f":"3.517/AF18","v":1.6358139534883722},1.6358139534883722,2.1,{"$f":"3.517/AI18","v":1.6747619047619047},1.6747619047619047,2.09,{"$f":"3.517/AL18","v":1.6827751196172249},1.6827751196172249,1.99,{"$f":"3.517/AO18","v":1.7673366834170854},1.7673366834170854,1.79,{"$f":"3.517/AR18","v":1.964804469273743},1.964804469273743,2.4900000000000002,{"$f":"3.517/AU18","v":1.412449799196787},1.412449799196787,2.39,{"$f":"3.517/AX18","v":1.4715481171548117},1.4715481171548117,2.29,{"$f":"3.517/BA18","v":1.5358078602620087},1.5358078602620087,2.44,{"$f":"3.517/BD18","v":1.4413934426229509},1.4413934426229509,2.34,{"$f":"3.517/BG18","v":1.502991452991453},1.502991452991453,2.2400000000000002,{"$f":"3.517/BJ18","v":1.5700892857142856},1.5700892857142856,2.39,{"$f":"3.517/BM18","v":1.4715481171548117},1.4715481171548117,2.04,{"$f":"3.517/BP18","v":1.7240196078431371},1.7240196078431371,1.99,{"$f":"3.517/BS18","v":1.7673366834170854},1.7673366834170854]
[2008,2.2000000000000002,1.5986363636363634,1.5986363636363634,2.1,{"$f":"3.517/E19","v":1.6747619047619047},1.6747619047619047,1.9,{"$f":"3.517/H19","v":1.8510526315789475},1.8510526315789475,2.6,{"$f":"3.517/K19","v":1.3526923076923076},1.3526923076923076,2.5,{"$f":"3.517/N19","v":1.4068000000000001},1.4068000000000001,2.4,{"$f":"3.517/Q19","v":1.4654166666666666},1.4654166666666666,2.5499999999999998,{"$f":"3.517/T19","v":1.37921568627451},1.37921568627451,2.4500000000000002,{"$f":"3.517/W19","v":1.4355102040816325},1.4355102040816325,2.35,{"$f":"3.517/Z19","v":1.4965957446808509},1.4965957446808509,2.5,{"$f":"3.517/AC19","v":1.4068000000000001},1.4068000000000001,2.15,{"$f":"3.517/AF19","v":1.6358139534883722},1.6358139534883722,2.1,{"$f":"3.517/AI19","v":1.6747619047619047},1.6747619047619047,2.09,{"$f":"3.517/AL19","v":1.6827751196172249},1.6827751196172249,1.99,{"$f":"3.517/AO19","v":1.7673366834170854},1.7673366834170854,1.79,{"$f":"3.517/AR19","v":1.964804469273743},1.964804469273743,2.4900000000000002,{"$f":"3.517/AU19","v":1.412449799196787},1.412449799196787,2.39,{"$f":"3.517/AX19","v":1.4715481171548117},1.4715481171548117,2.29,{"$f":"3.517/BA19","v":1.5358078602620087},1.5358078602620087,2.44,{"$f":"3.517/BD19","v":1.4413934426229509},1.4413934426229509,2.34,{"$f":"3.517/BG19","v":1.502991452991453},1.502991452991453,2.2400000000000002,{"$f":"3.517/BJ19","v":1.5700892857142856},1.5700892857142856,2.39,{"$f":"3.517/BM19","v":1.4715481171548117},1.4715481171548117,2.04,{"$f":"3.517/BP19","v":1.7240196078431371},1.7240196078431371,{"$f":"BS$36","v":1.99},{"$f":"3.517/BS19","v":1.7673366834170854},1.7673366834170854]
[2009,2.2000000000000002,1.5986363636363634,1.5986363636363634,2.1,{"$f":"3.517/E20","v":1.6747619047619047},1.6747619047619047,1.9,{"$f":"3.517/H20","v":1.8510526315789475},1.8510526315789475,2.6,{"$f":"3.517/K20","v":1.3526923076923076},1.3526923076923076,2.5,{"$f":"3.517/N20","v":1.4068000000000001},1.4068000000000001,2.4,{"$f":"3.517/Q20","v":1.4654166666666666},1.4654166666666666,2.5499999999999998,{"$f":"3.517/T20","v":1.37921568627451},1.37921568627451,2.4500000000000002,{"$f":"3.517/W20","v":1.4355102040816325},1.4355102040816325,2.35,{"$f":"3.517/Z20","v":1.4965957446808509},1.4965957446808509,2.5,{"$f":"3.517/AC20","v":1.4068000000000001},1.4068000000000001,2.15,{"$f":"3.517/AF20","v":1.6358139534883722},1.6358139534883722,2.1,{"$f":"3.517/AI20","v":1.6747619047619047},1.6747619047619047,2.09,{"$f":"3.517/AL20","v":1.6827751196172249},1.6827751196172249,1.99,{"$f":"3.517/AO20","v":1.7673366834170854},1.7673366834170854,1.79,{"$f":"3.517/AR20","v":1.964804469273743},1.964804469273743,2.4900000000000002,{"$f":"3.517/AU20","v":1.412449799196787},1.412449799196787,2.39,{"$f":"3.517/AX20","v":1.4715481171548117},1.4715481171548117,2.29,{"$f":"3.517/BA20","v":1.5358078602620087},1.5358078602620087,2.44,{"$f":"3.517/BD20","v":1.4413934426229509},1.4413934426229509,2.34,{"$f":"3.517/BG20","v":1.502991452991453},1.502991452991453,2.2400000000000002,{"$f":"3.517/BJ20","v":1.5700892857142856},1.5700892857142856,2.39,{"$f":"3.517/BM20","v":1.4715481171548117},1.4715481171548117,2.04,{"$f":"3.517/BP20","v":1.7240196078431371},1.7240196078431371,1.99,{"$f":"3.517/BS20","v":1.7673366834170854},1.7673366834170854]
[2010,2.2000000000000002,1.5986363636363634,1.5986363636363634,2.1,{"$f":"3.517/E21","v":1.6747619047619047},1.6747619047619047,1.9,{"$f":"3.517/H21","v":1.8510526315789475},1.8510526315789475,2.6,{"$f":"3.517/K21","v":1.3526923076923076},1.3526923076923076,2.5,{"$f":"3.517/N21","v":1.4068000000000001},1.4068000000000001,2.4,{"$f":"3.517/Q21","v":1.4654166666666666},1.4654166666666666,2.5499999999999998,{"$f":"3.517/T21","v":1.37921568627451},1.37921568627451,2.4500000000000002,{"$f":"3.517/W21","v":1.4355102040816325},1.4355102040816325,2.35,{"$f":"3.517/Z21","v":1.4965957446808509},1.4965957446808509,2.5,{"$f":"3.517/AC21","v":1.4068000000000001},1.4068000000000001,2.15,{"$f":"3.517/AF21","v":1.6358139534883722},1.6358139534883722,2.1,{"$f":"3.517/AI21","v":1.6747619047619047},1.6747619047619047,2.09,{"$f":"3.517/AL21","v":1.6827751196172249},1.6827751196172249,1.99,{"$f":"3.517/AO21","v":1.7673366834170854},1.7673366834170854,1.79,{"$f":"3.517/AR21","v":1.964804469273743},1.964804469273743,2.4900000000000002,{"$f":"3.517/AU21","v":1.412449799196787},1.412449799196787,2.39,{"$f":"3.517/AX21","v":1.4715481171548117},1.4715481171548117,2.29,{"$f":"3.517/BA21","v":1.5358078602620087},1.5358078602620087,2.44,{"$f":"3.517/BD21","v":1.4413934426229509},1.4413934426229509,2.34,{"$f":"3.517/BG21","v":1.502991452991453},1.502991452991453,2.2400000000000002,{"$f":"3.517/BJ21","v":1.5700892857142856},1.5700892857142856,2.39,{"$f":"3.517/BM21","v":1.4715481171548117},1.4715481171548117,2.04,{"$f":"3.517/BP21","v":1.7240196078431371},1.7240196078431371,1.99,{"$f":"3.517/BS21","v":1.7673366834170854},1.7673366834170854]
[2011,2.2000000000000002,1.5986363636363634,1.5986363636363634,2.1,{"$f":"3.517/E22","v":1.6747619047619047},1.6747619047619047,1.9,{"$f":"3.517/H22","v":1.8510526315789475},1.8510526315789475,2.6,{"$f":"3.517/K22","v":1.3526923076923076},1.3526923076923076,2.5,{"$f":"3.517/N22","v":1.4068000000000001},1.4068000000000001,2.4,{"$f":"3.517/Q22","v":1.4654166666666666},1.4654166666666666,2.5499999999999998,{"$f":"3.517/T22","v":1.37921568627451},1.37921568627451,2.4500000000000002,{"$f":"3.517/W22","v":1.4355102040816325},1.4355102040816325,2.35,{"$f":"3.517/Z22","v":1.4965957446808509},1.4965957446808509,2.5,{"$f":"3.517/AC22","v":1.4068000000000001},1.4068000000000001,2.15,{"$f":"3.517/AF22","v":1.6358139534883722},1.6358139534883722,2.1,{"$f":"3.517/AI22","v":1.6747619047619047},1.6747619047619047,2.09,{"$f":"3.517/AL22","v":1.6827751196172249},1.6827751196172249,1.99,{"$f":"3.517/AO22","v":1.7673366834170854},1.7673366834170854,1.79,{"$f":"3.517/AR22","v":1.964804469273743},1.964804469273743,2.4900000000000002,{"$f":"3.517/AU22","v":1.412449799196787},1.412449799196787,2.39,{"$f":"3.517/AX22","v":1.4715481171548117},1.4715481171548117,2.29,{"$f":"3.517/BA22","v":1.5358078602620087},1.5358078602620087,2.44,{"$f":"3.517/BD22","v":1.4413934426229509},1.4413934426229509,2.34,{"$f":"3.517/BG22","v":1.502991452991453},1.502991452991453,2.2400000000000002,{"$f":"3.517/BJ22","v":1.5700892857142856},1.5700892857142856,2.39,{"$f":"3.517/BM22","v":1.4715481171548117},1.4715481171548117,2.04,{"$f":"3.517/BP22","v":1.7240196078431371},1.7240196078431371,1.99,{"$f":"3.517/BS22","v":1.7673366834170854},1.7673366834170854]
[2012,2.2000000000000002,1.5986363636363634,1.5986363636363634,2.1,{"$f":"3.517/E23","v":1.6747619047619047},1.6747619047619047,1.9,{"$f":"3.517/H23","v":1.8510526315789475},1.8510526315789475,2.6,{"$f":"3.517/K23","v":1.3526923076923076},1.3526923076923076,2.5,{"$f":"3.517/N23","v":1.4068000000000001},1.4068000000000001,2.4,{"$f":"3.517/Q23","v":1.4654166666666666},1.4654166666666666,2.5499999999999998,{"$f":"3.517/T23","v":1.37921568627451},1.37921568627451,2.4500000000000002,{"$f":"3.517/W23","v":1.4355102040816325},1.4355102040816325,2.35,{"$f":"3.517/Z23","v":1.4965957446808509},1.4965957446808509,2.5,{"$f":"3.517/AC23","v":1.4068000000000001},1.4068000000000001,2.15,{"$f":"3.517/AF23","v":1.6358139534883722},1.6358139534883722,2.1,{"$f":"3.517/AI23","v":1.6747619047619047},1.6747619047619047,2.09,{"$f":"3.517/AL23","v":1.6827751196172249},1.6827751196172249,1.99,{"$f":"3.517/AO23","v":1.7673366834170854},1.7673366834170854,1.79,{"$f":"3.517/AR23","v":1.964804469273743},1.964804469273743,2.4900000000000002,{"$f":"3.517/AU23","v":1.412449799196787},1.412449799196787,2.39,{"$f":"3.517/AX23","v":1.4715481171548117},1.4715481171548117,2.29,{"$f":"3.517/BA23","v":1.5358078602620087},1.5358078602620087,2.44,{"$f":"3.517/BD23","v":1.4413934426229509},1.4413934426229509,2.34,{"$f":"3.517/BG23","v":1.502991452991453},1.502991452991453,2.2400000000000002,{"$f":"3.517/BJ23","v":1.5700892857142856},1.5700892857142856,2.39,{"$f":"3.517/BM23","v":1.4715481171548117},1.4715481171548117,2.04,{"$f":"3.517/BP23","v":1.7240196078431371},1.7240196078431371,1.99,{"$f":"3.517/BS23","v":1.7673366834170854},1.7673366834170854]
[2013,2.2000000000000002,1.5986363636363634,1.5986363636363634,2.1,{"$f":"3.517/E24","v":1.6747619047619047},1.6747619047619047,1.9,{"$f":"3.517/H24","v":1.8510526315789475},1.8510526315789475,2.6,{"$f":"3.517/K24","v":1.3526923076923076},1.3526923076923076,2.5,{"$f":"3.517/N24","v":1.4068000000000001},1.4068000000000001,2.4,{"$f":"3.517/Q24","v":1.4654166666666666},1.4654166666666666,2.5499999999999998,{"$f":"3.517/T24","v":1.37921568627451},1.37921568627451,2.4500000000000002,{"$f":"3.517/W24","v":1.4355102040816325},1.4355102040816325,2.35,{"$f":"3.517/Z24","v":1.4965957446808509},1.4965957446808509,2.5,{"$f":"3.517/AC24","v":1.4068000000000001},1.4068000000000001,2.15,{"$f":"3.517/AF24","v":1.6358139534883722},1.6358139534883722,2.1,{"$f":"3.517/AI24","v":1.6747619047619047},1.6747619047619047,2.09,{"$f":"3.517/AL24","v":1.6827751196172249},1.6827751196172249,1.99,{"$f":"3.517/AO24","v":1.7673366834170854},1.7673366834170854,1.79,{"$f":"3.517/AR24","v":1.964804469273743},1.964804469273743,2.4900000000000002,{"$f":"3.517/AU24","v":1.412449799196787},1.412449799196787,2.39,{"$f":"3.517/AX24","v":1.4715481171548117},1.4715481171548117,2.29,{"$f":"3.517/BA24","v":1.5358078602620087},1.5358078602620087,2.44,{"$f":"3.517/BD24","v":1.4413934426229509},1.4413934426229509,2.34,{"$f":"3.517/BG24","v":1.502991452991453},1.502991452991453,2.2400000000000002,{"$f":"3.517/BJ24","v":1.5700892857142856},1.5700892857142856,2.39,{"$f":"3.517/BM24","v":1.4715481171548117},1.4715481171548117,2.04,{"$f":"3.517/BP24","v":1.7240196078431371},1.7240196078431371,1.99,{"$f":"3.517/BS24","v":1.7673366834170854},1.7673366834170854]
[2014,2.2000000000000002,1.5986363636363634,1.5986363636363634,2.1,{"$f":"3.517/E25","v":1.6747619047619047},1.6747619047619047,1.9,{"$f":"3.517/H25","v":1.8510526315789475},1.8510526315789475,2.6,{"$f":"3.517/K25","v":1.3526923076923076},1.3526923076923076,2.5,{"$f":"3.517/N25","v":1.4068000000000001},1.4068000000000001,2.4,{"$f":"3.517/Q25","v":1.4654166666666666},1.4654166666666666,2.5499999999999998,{"$f":"3.517/T25","v":1.37921568627451},1.37921568627451,2.4500000000000002,{"$f":"3.517/W25","v":1.4355102040816325},1.4355102040816325,2.35,{"$f":"3.517/Z25","v":1.4965957446808509},1.4965957446808509,2.5,{"$f":"3.517/AC25","v":1.4068000000000001},1.4068000000000001,2.15,{"$f":"3.517/AF25","v":1.6358139534883722},1.6358139534883722,2.1,{"$f":"3.517/AI25","v":1.6747619047619047},1.6747619047619047,{"$f":"AL$36","v":2.09},{"$f":"3.517/AL25","v":1.6827751196172249},1.6827751196172249,{"$f":"AO$36","v":1.99},{"$f":"3.517/AO25","v":1.7673366834170854},1.7673366834170854,{"$f":"AR$36","v":1.79},{"$f":"3.517/AR25","v":1.964804469273743},1.964804469273743,{"$f":"AU$36","v":2.4900000000000002},{"$f":"3.517/AU25","v":1.412449799196787},1.412449799196787,{"$f":"AX$36","v":2.39},{"$f":"3.517/AX25","v":1.4715481171548117},1.4715481171548117,{"$f":"BA$36","v":2.29},{"$f":"3.517/BA25","v":1.5358078602620087},1.5358078602620087,{"$f":"BD$36","v":2.44},{"$f":"3.517/BD25","v":1.4413934426229509},1.4413934426229509,{"$f":"BG$36","v":2.34},{"$f":"3.517/BG25","v":1.502991452991453},1.502991452991453,{"$f":"BJ$36","v":2.2400000000000002},{"$f":"3.517/BJ25","v":1.5700892857142856},1.5700892857142856,{"$f":"BM$36","v":2.39},{"$f":"3.517/BM25","v":1.4715481171548117},1.4715481171548117,{"$f":"BP$36","v":2.04},{"$f":"3.517/BP25","v":1.7240196078431371},1.7240196078431371,{"$f":"BS$36","v":1.99},{"$f":"3.517/BS25","v":1.7673366834170854},1.7673366834170854]
[2015,2.2000000000000002,{"$f":"3.517/B26","v":1.5986363636363634},{"$f":"C26","v":1.5986363636363634},2.1,{"$f":"3.517/E26","v":1.6747619047619047},{"$f":"F26","v":1.6747619047619047},1.9,{"$f":"3.517/H26","v":1.8510526315789475},{"$f":"I26","v":1.8510526315789475},2.6,{"$f":"3.517/K26","v":1.3526923076923076},{"$f":"L26","v":1.3526923076923076},2.5,{"$f":"3.517/N26","v":1.4068000000000001},{"$f":"O26","v":1.4068000000000001},2.4,{"$f":"3.517/Q26","v":1.4654166666666666},{"$f":"R26","v":1.4654166666666666},2.5499999999999998,{"$f":"3.517/T26","v":1.37921568627451},{"$f":"U26","v":1.37921568627451},2.4500000000000002,{"$f":"3.517/W26","v":1.4355102040816325},{"$f":"X26","v":1.4355102040816325},2.35,{"$f":"3.517/Z26","v":1.4965957446808509},{"$f":"AA26","v":1.4965957446808509},2.5,{"$f":"3.517/AC26","v":1.4068000000000001},{"$f":"AD26","v":1.4068000000000001},2.15,{"$f":"3.517/AF26","v":1.6358139534883722},{"$f":"AG26","v":1.6358139534883722},2.1,{"$f":"3.517/AI26","v":1.6747619047619047},{"$f":"AJ26","v":1.6747619047619047},2.09,{"$f":"3.517/AL26","v":1.6827751196172249},{"$f":"AM26","v":1.6827751196172249},1.99,{"$f":"3.517/AO26","v":1.7673366834170854},{"$f":"AP26","v":1.7673366834170854},1.79,{"$f":"3.517/AR26","v":1.964804469273743},{"$f":"AS26","v":1.964804469273743},2.4900000000000002,{"$f":"3.517/AU26","v":1.412449799196787},{"$f":"AV26","v":1.412449799196787},2.39,{"$f":"3.517/AX26","v":1.4715481171548117},{"$f":"AY26","v":1.4715481171548117},2.29,{"$f":"3.517/BA26","v":1.5358078602620087},{"$f":"BB26","v":1.5358078602620087},2.44,{"$f":"3.517/BD26","v":1.4413934426229509},{"$f":"BE26","v":1.4413934426229509},2.34,{"$f":"3.517/BG26","v":1.502991452991453},{"$f":"BH26","v":1.502991452991453},2.2400000000000002,{"$f":"3.517/BJ26","v":1.5700892857142856},{"$f":"BK26","v":1.5700892857142856},2.39,{"$f":"3.517/BM26","v":1.4715481171548117},{"$f":"BN26","v":1.4715481171548117},2.04,{"$f":"3.517/BP26","v":1.7240196078431371},{"$f":"BQ26","v":1.7240196078431371},1.99,{"$f":"3.517/BS26","v":1.7673366834170854},{"$f":"BT26","v":1.7673366834170854}]
[2016,{"$f":"B$36","v":2.2000000000000002},1.5986363636363634,1.5986363636363634,{"$f":"E$36","v":2.1},1.6747619047619047,1.6747619047619047,1.9,1.8510526315789475,1.8510526315789475,2.6,1.3526923076923076,1.3526923076923076,2.5,1.4068000000000001,1.4068000000000001,2.4,1.4654166666666666,1.4654166666666666,2.5499999999999998,1.37921568627451,1.37921568627451,{"$f":"W$36","v":2.4500000000000002},1.4355102040816325,1.4355102040816325,2.35,1.4965957446808509,1.4965957446808509,2.5,1.4068000000000001,1.4068000000000001,2.15,1.6358139534883722,1.6358139534883722,2.1,1.6747619047619047,1.6747619047619047,2.09,1.6827751196172249,1.6827751196172249,1.99,1.7673366834170854,1.7673366834170854,1.79,1.964804469273743,1.964804469273743,2.4900000000000002,1.412449799196787,1.412449799196787,2.39,1.4715481171548117,1.4715481171548117,2.29,1.5358078602620087,1.5358078602620087,2.44,1.4413934426229509,1.4413934426229509,2.34,1.502991452991453,1.502991452991453,2.2400000000000002,1.5700892857142856,1.5700892857142856,2.39,1.4715481171548117,1.4715481171548117,2.04,1.7240196078431371,1.7240196078431371,1.99,1.7673366834170854,1.7673366834170854]
[2017,2.2000000000000002,1.5986363636363634,1.5986363636363634,2.1,1.6747619047619047,1.6747619047619047,1.9,1.8510526315789475,1.8510526315789475,2.6,1.3526923076923076,1.3526923076923076,2.5,1.4068000000000001,1.4068000000000001,2.4,1.4654166666666666,1.4654166666666666,2.5499999999999998,1.37921568627451,1.37921568627451,2.4500000000000002,1.4355102040816325,1.4355102040816325,2.35,1.4965957446808509,1.4965957446808509,2.5,1.4068000000000001,1.4068000000000001,2.15,1.6358139534883722,1.6358139534883722,2.1,1.6747619047619047,1.6747619047619047,2.09,1.6827751196172249,1.6827751196172249,1.99,1.7673366834170854,1.7673366834170854,1.79,1.964804469273743,1.964804469273743,2.4900000000000002,1.412449799196787,1.412449799196787,2.39,1.4715481171548117,1.4715481171548117,2.29,1.5358078602620087,1.5358078602620087,2.44,1.4413934426229509,1.4413934426229509,2.34,1.502991452991453,1.502991452991453,2.2400000000000002,1.5700892857142856,1.5700892857142856,2.39,1.4715481171548117,1.4715481171548117,2.04,1.7240196078431371,1.7240196078431371,1.99,1.7673366834170854,1.7673366834170854]
[2018,2.2000000000000002,1.5986363636363634,1.5986363636363634,2.1,1.6747619047619047,1.6747619047619047,1.9,1.8510526315789475,1.8510526315789475,2.6,1.3526923076923076,1.3526923076923076,2.5,1.4068000000000001,1.4068000000000001,2.4,1.4654166666666666,1.4654166666666666,2.5499999999999998,1.37921568627451,1.37921568627451,2.4500000000000002,1.4355102040816325,1.4355102040816325,2.35,1.4965957446808509,1.4965957446808509,2.5,1.4068000000000001,1.4068000000000001,2.15,1.6358139534883722,1.6358139534883722,2.1,1.6747619047619047,1.6747619047619047,2.09,1.6827751196172249,1.6827751196172249,1.99,1.7673366834170854,1.7673366834170854,1.79,1.964804469273743,1.964804469273743,2.4900000000000002,1.412449799196787,1.412449799196787,2.39,1.4715481171548117,1.4715481171548117,2.29,1.5358078602620087,1.5358078602620087,2.44,1.4413934426229509,1.4413934426229509,2.34,1.502991452991453,1.502991452991453,2.2400000000000002,1.5700892857142856,1.5700892857142856,2.39,1.4715481171548117,1.4715481171548117,2.04,1.7240196078431371,1.7240196078431371,1.99,1.7673366834170854,1.7673366834170854]
[2019,2.2000000000000002,1.5986363636363634,1.5986363636363634,2.1,1.6747619047619047,1.6747619047619047,1.9,1.8510526315789475,1.8510526315789475,2.6,1.3526923076923076,1.3526923076923076,2.5,1.4068000000000001,1.4068000000000001,2.4,1.4654166666666666,1.4654166666666666,2.5499999999999998,1.37921568627451,1.37921568627451,2.4500000000000002,1.4355102040816325,1.4355102040816325,2.35,1.4965957446808509,1.4965957446808509,2.5,1.4068000000000001,1.4068000000000001,2.15,1.6358139534883722,1.6358139534883722,2.1,1.6747619047619047,1.6747619047619047,2.09,1.6827751196172249,1.6827751196172249,1.99,1.7673366834170854,1.7673366834170854,1.79,1.964804469273743,1.964804469273743,2.4900000000000002,1.412449799196787,1.412449799196787,2.39,1.4715481171548117,1.4715481171548117,2.29,1.5358078602620087,1.5358078602620087,2.44,1.4413934426229509,1.4413934426229509,2.34,1.502991452991453,1.502991452991453,2.2400000000000002,1.5700892857142856,1.5700892857142856,2.39,1.4715481171548117,1.4715481171548117,2.04,1.7240196078431371,1.7240196078431371,1.99,1.7673366834170854,1.7673366834170854]
[2020,2.2000000000000002,1.5986363636363634,1.5986363636363634,2.1,1.6747619047619047,1.6747619047619047,1.9,1.8510526315789475,1.8510526315789475,2.6,1.3526923076923076,1.3526923076923076,2.5,1.4068000000000001,1.4068000000000001,2.4,1.4654166666666666,1.4654166666666666,2.5499999999999998,1.37921568627451,1.37921568627451,2.4500000000000002,1.4355102040816325,1.4355102040816325,2.35,1.4965957446808509,1.4965957446808509,2.5,1.4068000000000001,1.4068000000000001,2.15,1.6358139534883722,1.6358139534883722,2.1,1.6747619047619047,1.6747619047619047,2.09,1.6827751196172249,1.6827751196172249,1.99,1.7673366834170854,1.7673366834170854,1.79,1.964804469273743,1.964804469273743,2.4900000000000002,1.412449799196787,1.412449799196787,2.39,1.4715481171548117,1.4715481171548117,2.29,1.5358078602620087,1.5358078602620087,2.44,1.4413934426229509,1.4413934426229509,2.34,1.502991452991453,1.502991452991453,2.2400000000000002,1.5700892857142856,1.5700892857142856,2.39,1.4715481171548117,1.4715481171548117,2.04,1.7240196078431371,1.7240196078431371,1.99,1.7673366834170854,1.7673366834170854]
[2021,2.2000000000000002,{"$f":"3.517/B32","v":1.5986363636363634},{"$f":"C32","v":1.5986363636363634},2.1,{"$f":"3.517/E32","v":1.6747619047619047},{"$f":"F32","v":1.6747619047619047},1.9,{"$f":"3.517/H32","v":1.8510526315789475},{"$f":"I32","v":1.8510526315789475},2.6,{"$f":"3.517/K32","v":1.3526923076923076},{"$f":"L32","v":1.3526923076923076},2.5,{"$f":"3.517/N32","v":1.4068000000000001},{"$f":"O32","v":1.4068000000000001},2.4,{"$f":"3.517/Q32","v":1.4654166666666666},{"$f":"R32","v":1.4654166666666666},2.5499999999999998,{"$f":"3.517/T32","v":1.37921568627451},{"$f":"U32","v":1.37921568627451},2.4500000000000002,{"$f":"3.517/W32","v":1.4355102040816325},{"$f":"X32","v":1.4355102040816325},2.35,{"$f":"3.517/Z32","v":1.4965957446808509},{"$f":"AA32","v":1.4965957446808509},2.5,{"$f":"3.517/AC32","v":1.4068000000000001},{"$f":"AD32","v":1.4068000000000001},2.15,{"$f":"3.517/AF32","v":1.6358139534883722},{"$f":"AG32","v":1.6358139534883722},2.1,{"$f":"3.517/AI32","v":1.6747619047619047},{"$f":"AJ32","v":1.6747619047619047},2.09,{"$f":"3.517/AL32","v":1.6827751196172249},{"$f":"AM32","v":1.6827751196172249},1.99,{"$f":"3.517/AO32","v":1.7673366834170854},{"$f":"AP32","v":1.7673366834170854},1.79,{"$f":"3.517/AR32","v":1.964804469273743},{"$f":"AS32","v":1.964804469273743},2.4900000000000002,{"$f":"3.517/AU32","v":1.412449799196787},{"$f":"AV32","v":1.412449799196787},2.39,{"$f":"3.517/AX32","v":1.4715481171548117},{"$f":"AY32","v":1.4715481171548117},2.29,{"$f":"3.517/BA32","v":1.5358078602620087},{"$f":"BB32","v":1.5358078602620087},2.44,{"$f":"3.517/BD32","v":1.4413934426229509},{"$f":"BE32","v":1.4413934426229509},2.34,{"$f":"3.517/BG32","v":1.502991452991453},{"$f":"BH32","v":1.502991452991453},2.2400000000000002,{"$f":"3.517/BJ32","v":1.5700892857142856},{"$f":"BK32","v":1.5700892857142856},2.39,{"$f":"3.517/BM32","v":1.4715481171548117},{"$f":"BN32","v":1.4715481171548117},2.04,{"$f":"3.517/BP32","v":1.7240196078431371},{"$f":"BQ32","v":1.7240196078431371},1.99,{"$f":"3.517/BS32","v":1.7673366834170854},{"$f":"BT32","v":1.7673366834170854}]
[2022,2.2000000000000002,1.5986363636363634,1.5986363636363634,2.1,1.6747619047619047,1.6747619047619047,1.9,1.8510526315789475,1.8510526315789475,2.6,1.3526923076923076,1.3526923076923076,2.5,1.4068000000000001,1.4068000000000001,2.4,1.4654166666666666,1.4654166666666666,2.5499999999999998,1.37921568627451,1.37921568627451,2.4500000000000002,1.4355102040816325,1.4355102040816325,2.35,1.4965957446808509,1.4965957446808509,2.5,1.4068000000000001,1.4068000000000001,2.15,1.6358139534883722,1.6358139534883722,2.1,1.6747619047619047,1.6747619047619047,2.09,1.6827751196172249,1.6827751196172249,1.99,1.7673366834170854,1.7673366834170854,1.79,1.964804469273743,1.964804469273743,2.4900000000000002,1.412449799196787,1.412449799196787,2.39,1.4715481171548117,1.4715481171548117,2.29,1.5358078602620087,1.5358078602620087,2.44,1.4413934426229509,1.4413934426229509,2.34,1.502991452991453,1.502991452991453,2.2400000000000002,1.5700892857142856,1.5700892857142856,2.39,1.4715481171548117,1.4715481171548117,2.04,1.7240196078431371,1.7240196078431371,1.99,1.7673366834170854,1.7673366834170854]
[2023,2.2000000000000002,1.5986363636363634,1.5986363636363634,2.1,1.6747619047619047,1.6747619047619047,1.9,1.8510526315789475,1.8510526315789475,2.6,1.3526923076923076,1.3526923076923076,2.5,1.4068000000000001,1.4068000000000001,2.4,1.4654166666666666,1.4654166666666666,2.5499999999999998,1.37921568627451,1.37921568627451,2.4500000000000002,1.4355102040816325,1.4355102040816325,2.35,1.4965957446808509,1.4965957446808509,2.5,1.4068000000000001,1.4068000000000001,2.15,1.6358139534883722,1.6358139534883722,2.1,1.6747619047619047,1.6747619047619047,2.09,1.6827751196172249,1.6827751196172249,1.99,1.7673366834170854,1.7673366834170854,1.79,1.964804469273743,1.964804469273743,2.4900000000000002,1.412449799196787,1.412449799196787,2.39,1.4715481171548117,1.4715481171548117,2.29,1.5358078602620087,1.5358078602620087,2.44,1.4413934426229509,1.4413934426229509,2.34,1.502991452991453,1.502991452991453,2.2400000000000002,1.5700892857142856,1.5700892857142856,2.39,1.4715481171548117,1.4715481171548117,2.04,1.7240196078431371,1.7240196078431371,1.99,1.7673366834170854,1.7673366834170854]
["ARTRM9.2"]
["CPS",2.2000000000000002,{"$f":"3.517/B36","v":1.5986363636363634},1.5986363636363634,2.1,{"$f":"3.517/E36","v":1.6747619047619047},1.6747619047619047,1.9,{"$f":"3.517/H36","v":1.8510526315789475},1.8510526315789475,2.6,{"$f":"3.517/K36","v":1.3526923076923076},1.3526923076923076,2.5,{"$f":"3.517/N36","v":1.4068000000000001},1.4068000000000001,2.4,{"$f":"3.517/Q36","v":1.4654166666666666},1.4654166666666666,2.5499999999999998,{"$f":"3.517/T36","v":1.37921568627451},1.37921568627451,2.4500000000000002,{"$f":"3.517/W36","v":1.4355102040816325},1.4355102040816325,2.35,{"$f":"3.517/Z36","v":1.4965957446808509},1.4965957446808509,2.5,{"$f":"3.517/AC36","v":1.4068000000000001},1.4068000000000001,2.15,{"$f":"3.517/AF36","v":1.6358139534883722},1.6358139534883722,2.1,{"$f":"3.517/AI36","v":1.6747619047619047},1.6747619047619047,2.09,{"$f":"3.517/AL36","v":1.6827751196172249},1.6827751196172249,1.99,{"$f":"3.517/AO36","v":1.7673366834170854},1.7673366834170854,1.79,{"$f":"3.517/AR36","v":1.964804469273743},1.964804469273743,2.4900000000000002,{"$f":"3.517/AU36","v":1.412449799196787},1.412449799196787,2.39,{"$f":"3.517/AX36","v":1.4715481171548117},1.4715481171548117,2.29,{"$f":"3.517/BA36","v":1.5358078602620087},1.5358078602620087,2.44,{"$f":"3.517/BD36","v":1.4413934426229509},1.4413934426229509,2.34,{"$f":"3.517/BG36","v":1.502991452991453},1.502991452991453,2.2400000000000002,{"$f":"3.517/BJ36","v":1.5700892857142856},1.5700892857142856,2.39,{"$f":"3.517/BM36","v":1.4715481171548117},1.4715481171548117,2.04,{"$f":"3.517/BP36","v":1.7240196078431371},1.7240196078431371,1.99,{"$f":"3.517/BS36","v":1.7673366834170854},1.7673366834170854]
[]
[null,"SCOP conversion test:"]
[null,"Capacity",null,"efficiency",null,"EFLH","Energy"]
[null,20000,"btuh",2.2000000000000002,"SCOP",2000,{"$f":"(B40/D40)*F40/3412","v":5328.7861025258444}]
[null,{"$f":"B40/12000","v":1.6666666666666667},"ton",{"$f":"3.517/D40","v":1.5986363636363634},"kW/ton",2000,{"$f":"B41*D41*F41","v":5328.7878787878781}]

{"sheet":"Equipment Lookups","index":17,"n_rows":71,"n_cols":74,"rows_kept":71,"cut":false,"hidden":true,"merged":[]}
[]
[null,null,null,null,null,null,null,null,null,"kBtuh",null,0,6000,7000,8000,11000,14000,15000,17000,20000,25000,45000,65000,135000,240000,760000]
[null,"ReplacementType",null,"ManufYear",null,"LAEquipment Type",null,"WaterCooledChiller",null,"Tons",null,null,null,null,null,null,null,null,null,null,null,null,null,null,null,null,75,150,300,400,600,null,null,null,"RUL"]
[null,"Early Retirement",null,"Unknown",null,"Air Cooled Chiller",null,"Screw/Scroll/Reciprocating",null,"kbtuh to use",1,{"$f":"IF(L2=0,L3*12000,L2)","v":0},6000,7000,{"$f":"IF(O2=0,O3*12000,O2)","v":8000},11000,{"$f":"IF(Q2=0,Q3*12000,Q2)","v":14000},15000,{"$f":"IF(S2=0,S3*12000,S2)","v":17000},{"$f":"IF(T2=0,T3*12000,T2)","v":20000},25000,45000,{"$f":"IF(W2=0,W3*12000,W2)","v":65000},135000,240000,760000,900000,{"$f":"IF(AB2=0,AB3*12000,AB2)","v":1800000},{"$f":"IF(AC2=0,AC3*12000,AC2)","v":3600000},4800000,7200000,"Assumed Age","New Eq Type for TX EFLH","EUL",1,2,3,4,5,6,7,8,9,10,11,12,13,14,15,16,17,18,19,20,21,22,23,24,25,26,27,28,29,30,31,32,33,34,35,36,37,38,39,40]
[null,"New Construction",null,{"$f":"\"<=\"&(D6-1)","v":"<=1995"},null,"Water Cooled Chiller",null,"Centrifugal",null,"AirCooledChillerCentrifugal",{"$f":"K4+1","v":2},"Lessthan150tons","Lessthan150tons","Lessthan150tons","Lessthan150tons","Lessthan150tons","Lessthan150tons","Lessthan150tons","Lessthan150tons","Lessthan150tons","Lessthan150tons","Lessthan150tons","Lessthan150tons","Lessthan150tons","Lessthan150tons","Lessthan150tons","Lessthan150tons","Greaterthan150tons","Greaterthan150tons","Greaterthan150tons","Greaterthan150tons",25,"Air Cooled Chiller",25,23.9,22.9,21.9,20.9,19.899999999999999,18.899999999999999,17.899999999999999,16.899999999999999,15.9,14.9,13.9,12.9,11.9,10.9,10.1,9.3000000000000007,8.6999999999999993,8.1,7.5,7.1,6.6,6.3,5.9,5.6,5.4,5,4,3,2,1,0,0,0,0,0,0,0,0,0,0]
[null,"Replace on Burnout",null,{"$f":"D7-1","v":1996},null,"Unitary Air Conditioner",null,null,null,"AirCooledChillerScrewScrollReciprocating",{"$f":"K5+1","v":3},"Lessthan150tons","Lessthan150tons","Lessthan150tons","Lessthan150tons","Lessthan150tons","Lessthan150tons","Lessthan150tons","Lessthan150tons","Lessthan150tons","Lessthan150tons","Lessthan150tons","Lessthan150tons","Lessthan150tons","Lessthan150tons","Lessthan150tons","Lessthan150tons","Greaterthan150tons","Greaterthan150tons","Greaterthan150tons","Greaterthan150tons",20,"Air Cooled Chiller",20,18.7,17.7,16.7,15.7,14.7,13.7,12.7,11.8,10.9,10,9.1,8.3000000000000007,7.5,6.8,6.2,5.5,5,4.5,4,3.6,3,2,1,0,0,0,0,0,0,0,0,0,0,0,0,0,0,0,0,0]
[null,null,null,1997,null,"Unitary Heat Pump",null,"AirCooledChiller",null,"WaterCooledChillerCentrifugal",4,"Lessthan150tons","Lessthan150tons","Lessthan150tons","Lessthan150tons","Lessthan150tons","Lessthan150tons","Lessthan150tons","Lessthan150tons","Lessthan150tons","Lessthan150tons","Lessthan150tons","Lessthan150tons","Lessthan150tons","Lessthan150tons","Lessthan150tons","Lessthan150tons","150to300tons","300to400tons","400to600tons","Greaterthan600tons",25,"Water Cooled Chiller",25,23.9,22.9,21.9,20.9,19.899999999999999,18.899999999999999,17.899999999999999,16.899999999999999,15.9,14.9,13.9,12.9,11.9,10.9,10.1,9.3000000000000007,8.6999999999999993,8.1,7.5,7.1,6.6,6.3,5.9,5.6,5.4,5,4,3,2,1,0,0,0,0,0,0,0,0,0,0]
[null,null,null,1998,null,"Packaged Terminal Air Conditioner",null,"Screw/Scroll/Reciprocating",null,"WaterCooledChillerScrewScrollReciprocating",5,"Lessthan75tons","Lessthan75tons","Lessthan75tons","Lessthan75tons","Lessthan75tons","Lessthan75tons","Lessthan75tons","Lessthan75tons","Lessthan75tons","Lessthan75tons","Lessthan75tons","Lessthan75tons","Lessthan75tons","Lessthan75tons","Lessthan75tons","75to150tons","150to300tons","300to600tons","300to600tons","Greaterthan600tons",20,"Water Cooled Chiller",20,18.7,17.7,16.7,15.7,14.7,13.7,12.7,11.8,10.9,10,9.1,8.3000000000000007,7.5,6.8,6.2,5.5,5,4.5,4,3.6,3,2,1,0,0,0,0,0,0,0,0,0,0,0,0,0,0,0,0,0]
[null,null,null,1999,null,"Packaged Terminal Heat Pump",null,"Centrifugal",null,"UnitaryAirConditioner",6,"Lessthan45kbtuh","Lessthan45kbtuh","Lessthan45kbtuh","Lessthan45kbtuh","Lessthan45kbtuh","Lessthan45kbtuh","Lessthan45kbtuh","Lessthan45kbtuh","Lessthan45kbtuh","Lessthan45kbtuh","45to65kbtuh","65to135kbtuh","135to240kbtuh","240to760kbtuh","Greaterthan760kbtuh","Greaterthan760kbtuh","Greaterthan760kbtuh","Greaterthan760kbtuh","Greaterthan760kbtuh","Greaterthan760kbtuh",15,"DX",15,14,13,12,11,10,9.1,8.1999999999999993,7.3,6.5,5.7,5,4.4000000000000004,3.8,3.3,2.8,2,1,0,0,0,0,0,0,0,0,0,0,0,0,0,0,0,0,0,0,0,0,0,0,0]
[null,null,null,2000,null,"Room Air Conditioner",null,null,null,"UnitaryAirConditionerSplit",7,"Lessthan45kbtuh","Lessthan45kbtuh","Lessthan45kbtuh","Lessthan45kbtuh","Lessthan45kbtuh","Lessthan45kbtuh","Lessthan45kbtuh","Lessthan45kbtuh","Lessthan45kbtuh","Lessthan45kbtuh","45to65kbtuh","65to135kbtuh","135to240kbtuh","240to760kbtuh","Greaterthan760kbtuh","Greaterthan760kbtuh","Greaterthan760kbtuh","Greaterthan760kbtuh","Greaterthan760kbtuh","Greaterthan760kbtuh",15,"DX",15,14,13,12,11,10,9.1,8.1999999999999993,7.3,6.5,5.7,5,4.4000000000000004,3.8,3.3,2.8,2,1,0,0,0,0,0,0,0,0,0,0,0,0,0,0,0,0,0,0,0,0,0,0,0]
[null,null,null,2001,null,"VRF Air Conditioner",null,"RoomAirConditioner",null,"UnitaryAirConditionerPackaged",8,"Lessthan45kbtuh","Lessthan45kbtuh","Lessthan45kbtuh","Lessthan45kbtuh","Lessthan45kbtuh","Lessthan45kbtuh","Lessthan45kbtuh","Lessthan45kbtuh","Lessthan45kbtuh","Lessthan45kbtuh","45to65kbtuh","65to135kbtuh","135to240kbtuh","240to760kbtuh","Greaterthan760kbtuh","Greaterthan760kbtuh","Greaterthan760kbtuh","Greaterthan760kbtuh","Greaterthan760kbtuh","Greaterthan760kbtuh",15,"DX",15,14,13,12,11,10,9.1,8.1999999999999993,7.3,6.5,5.7,5,4.4000000000000004,3.8,3.3,2.8,2,1,0,0,0,0,0,0,0,0,0,0,0,0,0,0,0,0,0,0,0,0,0,0,0]
[null,null,null,2002,null,"VRF Heat Pump",null,"Without Reverse Cycle / With Louvered Sides",null,"UnitaryHeatPump",9,"Lessthan45kbtuh","Lessthan45kbtuh","Lessthan45kbtuh","Lessthan45kbtuh","Lessthan45kbtuh","Lessthan45kbtuh","Lessthan45kbtuh","Lessthan45kbtuh","Lessthan45kbtuh","Lessthan45kbtuh","45to65kbtuh","65to135kbtuh","135to240kbtuh","240to760kbtuh","Greaterthan760kbtuh","Greaterthan760kbtuh","Greaterthan760kbtuh","Greaterthan760kbtuh","Greaterthan760kbtuh","Greaterthan760kbtuh",15,"DX",15,14,13,12,11,10,9.1,8.1999999999999993,7.3,6.5,5.7,5,4.4000000000000004,3.8,3.3,2.8,2,1,0,0,0,0,0,0,0,0,0,0,0,0,0,0,0,0,0,0,0,0,0,0,0]
[null,null,null,2003,null,"Single Package Vertical Air Conditioner",null,"Without Reverse Cycle / Without Louvered Sides",null,"UnitaryHeatPumpSplit",10,"Lessthan45kbtuh","Lessthan45kbtuh","Lessthan45kbtuh","Lessthan45kbtuh","Lessthan45kbtuh","Lessthan45kbtuh","Lessthan45kbtuh","Lessthan45kbtuh","Lessthan45kbtuh","Lessthan45kbtuh","45to65kbtuh","65to135kbtuh","135to240kbtuh","Greaterthan240kbtuh","Greaterthan240kbtuh","Greaterthan240kbtuh","Greaterthan240kbtuh","Greaterthan240kbtuh","Greaterthan240kbtuh","Greaterthan240kbtuh",15,"DX",15,14,13,12,11,10,9.1,8.1999999999999993,7.3,6.5,5.7,5,4.4000000000000004,3.8,3.3,2.8,2,1,0,0,0,0,0,0,0,0,0,0,0,0,0,0,0,0,0,0,0,0,0,0,0]
[null,null,null,2004,null,"Single Package Vertical Heat Pump",null,"With Reverse Cycle / With Louvered Sides",null,"UnitaryHeatPumpPackaged",11,"Lessthan45kbtuh","Lessthan45kbtuh","Lessthan45kbtuh","Lessthan45kbtuh","Lessthan45kbtuh","Lessthan45kbtuh","Lessthan45kbtuh","Lessthan45kbtuh","Lessthan45kbtuh","Lessthan45kbtuh","45to65kbtuh","65to135kbtuh","135to240kbtuh","Greaterthan240kbtuh","Greaterthan240kbtuh","Greaterthan240kbtuh","Greaterthan240kbtuh","Greaterthan240kbtuh","Greaterthan240kbtuh","Greaterthan240kbtuh",15,"DX",15,14,13,12,11,10,9.1,8.1999999999999993,7.3,6.5,5.7,5,4.4000000000000004,3.8,3.3,2.8,2,1,0,0,0,0,0,0,0,0,0,0,0,0,0,0,0,0,0,0,0,0,0,0,0]
[null,null,null,2005,null,null,null,"With Reverse Cycle / Without Louvered Sides",null,"RoomAirConditionerWithoutReverseCycleWithLouveredSides",12,"Lessthan8ktbuh","Lessthan8ktbuh","Lessthan8ktbuh","8to14kbtuh","8to14kbtuh","14to20kbtuh","14to20kbtuh","14to20kbtuh","20to25kbtuh","Greaterthan25kbtuh","Greaterthan25kbtuh",null,null,null,null,null,null,null,null,null,9,"PTRoom",9,14,13,12,11,5.5,4.5,4,3,2.8,2.2000000000000002,1.8,1.5,1.3,1,2.8,2,1,0,0,0,0,0,0,0,0,0,0,0,0,0,0,0,0,0,0,0,0,0,0,0]
[null,null,null,2006,null,"MSEquipmentType",null,"Casement Only",null,"RoomAirConditionerWithoutReverseCycleWithoutLouveredSides",13,"Lessthan8ktbuh","Lessthan8ktbuh","Lessthan8ktbuh","8to11kbtuh","11to14kbtuh","14to20kbtuh","14to20kbtuh","14to20kbtuh","Greaterthan20kbtuh","Greaterthan20kbtuh","Greaterthan20kbtuh",null,null,null,null,null,null,null,null,null,9,"PTRoom",9,14,13,12,11,10,9.1,8.1999999999999993,7.3,6.5,5.7,5,4.4000000000000004,3.8,3.3,2.8,2,1,0,0,0,0,0,0,0,0,0,0,0,0,0,0,0,0,0,0,0,0,0,0,0]
[null,null,null,2007,null,"Air Cooled Chiller",null,"Casement Slider",null,"RoomAirConditionerWithReverseCycleWithLouveredSides",14,"Lessthan20kbtuh","Lessthan20kbtuh","Lessthan20kbtuh","Lessthan20kbtuh","Lessthan20kbtuh","Lessthan20kbtuh","Lessthan20kbtuh","Lessthan20kbtuh","Greaterthan20kbtuh","Greaterthan20kbtuh","Greaterthan20kbtuh",null,null,null,null,null,null,null,null,null,9,"PTRoom",9,14,13,12,11,10,9.1,8.1999999999999993,7.3,6.5,5.7,5,4.4000000000000004,3.8,3.3,2.8,2,1,0,0,0,0,0,0,0,0,0,0,0,0,0,0,0,0,0,0,0,0,0,0,0]
[null,null,null,2008,null,"Water Cooled Chiller",null,null,null,"RoomAirConditionerWithReverseCycleWithoutLouveredSides",15,"Lessthan14kbtuh","Lessthan14kbtuh","Lessthan14kbtuh","Lessthan14kbtuh","Lessthan14kbtuh","Greaterthan14kbtuh","Greaterthan14kbtuh","Greaterthan14kbtuh","Greaterthan14kbtuh","Greaterthan14kbtuh","Greaterthan14kbtuh",null,null,null,null,null,null,null,null,null,9,"PTRoom",9,14,13,12,11,10,9.1,8.1999999999999993,7.3,6.5,5.7,5,4.4000000000000004,3.8,3.3,2.8,2,1,0,0,0,0,0,0,0,0,0,0,0,0,0,0,0,0,0,0,0,0,0,0,0]
[null,null,null,2009,null,"Unitary Air Conditioner",null,"PackagedTerminalAirConditioner",null,"RoomAirConditionerCasementOnly",16,"All","All","All","All","All","All","All","All","All","All","All","All","All","All","All","All","All","All","All","All",9,"PTRoom",9,14,13,12,11,10,9.1,8.1999999999999993,7.3,6.5,5.7,5,4.4000000000000004,3.8,3.3,2.8,2,1,0,0,0,0,0,0,0,0,0,0,0,0,0,0,0,0,0,0,0,0,0,0,0]
[null,null,null,2010,null,"Unitary Heat Pump",null,"Standard Size",null,"RoomAirConditionerCasementSlider",17,"All","All","All","All","All","All","All","All","All","All","All","All","All","All","All","All","All","All","All","All",9,"PTRoom",9,14,13,12,11,10,9.1,8.1999999999999993,7.3,6.5,5.7,5,4.4000000000000004,3.8,3.3,2.8,2,1,0,0,0,0,0,0,0,0,0,0,0,0,0,0,0,0,0,0,0,0,0,0,0]
[null,null,null,2011,null,"Packaged Terminal Air Conditioner",null,"Non Standard Size",null,"SinglePackageVerticalAirConditioner",18,"Lessthan65kbtuh","Lessthan65kbtuh","Lessthan65kbtuh","Lessthan65kbtuh","Lessthan65kbtuh","Lessthan65kbtuh","Lessthan65kbtuh","Lessthan65kbtuh","Lessthan65kbtuh","Lessthan65kbtuh","Lessthan65kbtuh","65to135kbtuh","135to240kbtuh",null,null,null,null,null,null,null,15,"DX",15,14,13,12,11,10,9.1,8.1999999999999993,7.3,6.5,5.7,5,4.4000000000000004,3.8,3.3,2.8,2,1,0,0,0,0,0,0,0,0,0,0,0,0,0,0,0,0,0,0,0,0,0,0,0]
[null,null,null,2012,null,"Packaged Terminal Heat Pump",null,null,null,"SinglePackageVerticalHeatPump",19,"Lessthan65kbtuh","Lessthan65kbtuh","Lessthan65kbtuh","Lessthan65kbtuh","Lessthan65kbtuh","Lessthan65kbtuh","Lessthan65kbtuh","Lessthan65kbtuh","Lessthan65kbtuh","Lessthan65kbtuh","Lessthan65kbtuh","65to135kbtuh","135to240kbtuh",null,null,null,null,null,null,null,15,"DX",15,14,13,12,11,10,9.1,8.1999999999999993,7.3,6.5,5.7,5,4.4000000000000004,3.8,3.3,2.8,2,1,0,0,0,0,0,0,0,0,0,0,0,0,0,0,0,0,0,0,0,0,0,0,0]
[null,null,null,2013,null,"Room Air Conditioner",null,"PackagedTerminalHeatPump",null,"VRFAirConditioner",20,"Lessthan65kbtuh","Lessthan65kbtuh","Lessthan65kbtuh","Lessthan65kbtuh","Lessthan65kbtuh","Lessthan65kbtuh","Lessthan65kbtuh","Lessthan65kbtuh","Lessthan65kbtuh","Lessthan65kbtuh","Lessthan65kbtuh","65to135kbtuh","135to240kbtuh","Greaterthan240kbtuh","Greaterthan240kbtuh","Greaterthan240kbtuh","Greaterthan240kbtuh","Greaterthan240kbtuh","Greaterthan240kbtuh","Greaterthan240kbtuh",15,"DX",15,14,13,12,11,10,9.1,8.1999999999999993,7.3,6.5,5.7,5,4.4000000000000004,3.8,3.3,2.8,2,1,0,0,0,0,0,0,0,0,0,0,0,0,0,0,0,0,0,0,0,0,0,0,0]
[null,null,null,2014,null,"VRF Air Conditioner",null,"Standard Size",null,"VRFHeatPump",21,"Lessthan65kbtuh","Lessthan65kbtuh","Lessthan65kbtuh","Lessthan65kbtuh","Lessthan65kbtuh","Lessthan65kbtuh","Lessthan65kbtuh","Lessthan65kbtuh","Lessthan65kbtuh","Lessthan65kbtuh","Lessthan65kbtuh",null,null,null,null,null,null,null,null,null,15,"DX",15,14,13,12,11,10,9.1,8.1999999999999993,7.3,6.5,5.7,5,4.4000000000000004,3.8,3.3,2.8,2,1,0,0,0,0,0,0,0,0,0,0,0,0,0,0,0,0,0,0,0,0,0,0,0]
[null,null,null,2015,null,"VRF Heat Pump",null,"Non Standard Size",null,"VRFHeatPumpwithHeatRecovery",22,null,null,null,null,null,null,null,null,null,null,null,"65to135kbtuh","135to240kbtuh","Greaterthan240kbtuh","Greaterthan240kbtuh","Greaterthan240kbtuh","Greaterthan240kbtuh","Greaterthan240kbtuh","Greaterthan240kbtuh","Greaterthan240kbtuh",15,"DX",15,14,13,12,11,10,9.1,8.1999999999999993,7.3,6.5,5.7,5,4.4000000000000004,3.8,3.3,2.8,2,1,0,0,0,0,0,0,0,0,0,0,0,0,0,0,0,0,0,0,0,0,0,0,0]
[null,null,null,2016,null,"Single Package Vertical Air Conditioner",null,null,null,"VRFHeatPumpwithoutHeatRecovery",23,null,null,null,null,null,null,null,null,null,null,null,"65to135kbtuh","135to240kbtuh","Greaterthan240kbtuh","Greaterthan240kbtuh","Greaterthan240kbtuh","Greaterthan240kbtuh","Greaterthan240kbtuh","Greaterthan240kbtuh","Greaterthan240kbtuh",15,"DX",15,14,13,12,11,10,9.1,8.1999999999999993,7.3,6.5,5.7,5,4.4000000000000004,3.8,3.3,2.8,2,1,0,0,0,0,0,0,0,0,0,0,0,0,0,0,0,0,0,0,0,0,0,0,0]
[null,null,null,2017,null,"Single Package Vertical Heat Pump",null,"VRFHeatPump",null,"PackagedTerminalAirConditionerStandardSize",24,"Lessthan7kbtuh","Lessthan7kbtuh","7kbtuhto15kbtuh","7kbtuhto15kbtuh","7kbtuhto15kbtuh","7kbtuhto15kbtuh","Greaterthan15kbtuh","Greaterthan15kbtuh","Greaterthan15kbtuh","Greaterthan15kbtuh","Greaterthan15kbtuh","Greaterthan15kbtuh",null,null,null,null,null,null,null,null,15,"PTRoom",15,14,13,12,11,10,9.1,8.1999999999999993,7.3,6.5,5.7,5,4.4000000000000004,3.8,3.3,2.8,2,1,0,0,0,0,0,0,0,0,0,0,0,0,0,0,0,0,0,0,0,0,0,0,0]
[null,null,null,2018,null,null,null,"without Heat Recovery",null,"PackagedTerminalAirConditionerNonStandardSize",25,"Lessthan7kbtuh","Lessthan7kbtuh","7kbtuhto15kbtuh","7kbtuhto15kbtuh","7kbtuhto15kbtuh","7kbtuhto15kbtuh","Greaterthan15kbtuh","Greaterthan15kbtuh","Greaterthan15kbtuh","Greaterthan15kbtuh","Greaterthan15kbtuh","Greaterthan15kbtuh",null,null,null,null,null,null,null,null,15,"PTRoom",15,14,13,12,11,10,9.1,8.1999999999999993,7.3,6.5,5.7,5,4.4000000000000004,3.8,3.3,2.8,2,1,0,0,0,0,0,0,0,0,0,0,0,0,0,0,0,0,0,0,0,0,0,0,0]
[null,null,null,2019,null,"OKEquipmentType",null,"with Heat Recovery",null,"PackagedTerminalHeatPumpStandardSize",26,"Lessthan7kbtuh","Lessthan7kbtuh","7kbtuhto15kbtuh","7kbtuhto15kbtuh","7kbtuhto15kbtuh","7kbtuhto15kbtuh","Greaterthan15kbtuh","Greaterthan15kbtuh","Greaterthan15kbtuh","Greaterthan15kbtuh","Greaterthan15kbtuh","Greaterthan15kbtuh",null,null,null,null,null,null,null,null,15,"PTRoom",15,14,13,12,11,10,9.1,8.1999999999999993,7.3,6.5,5.7,5,4.4000000000000004,3.8,3.3,2.8,2,1,0,0,0,0,0,0,0,0,0,0,0,0,0,0,0,0,0,0,0,0,0,0,0]
[null,null,null,2020,null,"Air Cooled Chiller",null,null,null,"PackagedTerminalHeatPumpNonStandardSize",27,"Lessthan7kbtuh","Lessthan7kbtuh","7kbtuhto15kbtuh","7kbtuhto15kbtuh","7kbtuhto15kbtuh","7kbtuhto15kbtuh","Greaterthan15kbtuh","Greaterthan15kbtuh","Greaterthan15kbtuh","Greaterthan15kbtuh","Greaterthan15kbtuh","Greaterthan15kbtuh",null,null,null,null,null,null,null,null,15,"PTRoom",15,14,13,12,11,10,9.1,8.1999999999999993,7.3,6.5,5.7,5,4.4000000000000004,3.8,3.3,2.8,2,1,0,0,0,0,0,0,0,0,0,0,0,0,0,0,0,0,0,0,0,0,0,0,0]
[null,null,null,2021,null,"Water Cooled Chiller",null,"GeothermalAirConditioner",null,"GeothermalAirConditionerWaterCooled",28,"Lessthan65kbtuh","Lessthan65kbtuh","Lessthan65kbtuh","Lessthan65kbtuh","Lessthan65kbtuh","Lessthan65kbtuh","Lessthan65kbtuh","Lessthan65kbtuh","Lessthan65kbtuh","Lessthan65kbtuh","Lessthan65kbtuh","65to135kbtuh","135to240kbtuh","240to760kbtuh","Greaterthan760kbtuh","Greaterthan760kbtuh","Greaterthan760kbtuh","Greaterthan760kbtuh","Greaterthan760kbtuh","Greaterthan760kbtuh",15,"DX",15,0,0,0,0,0,0,0,0,0,0,0,0,0,0,0,0,0,0,0,0,0,0,0,0,0,0,0,0,0,0,0,0,0,0,0,0,0,0,0,0]
[null,null,null,{"$f":"D33-1","v":2022},null,"Unitary Air Conditioner",null,"Water Cooled",null,"GeothermalAirConditionerEvaporativelyCooled",29,"Lessthan65kbtuh","Lessthan65kbtuh","Lessthan65kbtuh","Lessthan65kbtuh","Lessthan65kbtuh","Lessthan65kbtuh","Lessthan65kbtuh","Lessthan65kbtuh","Lessthan65kbtuh","Lessthan65kbtuh","Lessthan65kbtuh","65to135kbtuh","135to240kbtuh","240to760kbtuh","Greaterthan760kbtuh","Greaterthan760kbtuh","Greaterthan760kbtuh","Greaterthan760kbtuh","Greaterthan760kbtuh","Greaterthan760kbtuh",15,"DX",15,0,0,0,0,0,0,0,0,0,0,0,0,0,0,0,0,0,0,0,0,0,0,0,0,0,0,0,0,0,0,0,0,0,0,0,0,0,0,0,0]
[null,null,null,{"$f":"ProgramYear-1","v":2023},null,"Unitary Heat Pump",null,"Evaporatively Cooled",null,"GeothermalHeatPumpWatertoAirWaterLoop",30,"Lessthan17kbtuh","Lessthan17kbtuh","Lessthan17kbtuh","Lessthan17kbtuh","Lessthan17kbtuh","Lessthan17kbtuh","Lessthan17kbtuh","17to65kbtuh","17to65kbtuh","17to65kbtuh","17to65kbtuh","65to135kbtuh",null,null,null,null,null,null,null,null,15,"DX",15,0,0,0,0,0,0,0,0,0,0,0,0,0,0,0,0,0,0,0,0,0,0,0,0,0,0,0,0,0,0,0,0,0,0,0,0,0,0,0,0]
[null,null,null,null,null,"Packaged Terminal Air Conditioner",null,null,null,"GeothermalHeatPumpWatertoAirGroundWater",31,"Lessthan65kbtuh","Lessthan65kbtuh","Lessthan65kbtuh","Lessthan65kbtuh","Lessthan65kbtuh","Lessthan65kbtuh","Lessthan65kbtuh","Lessthan65kbtuh","Lessthan65kbtuh","Lessthan65kbtuh","Lessthan65kbtuh","65to135kbtuh",null,null,null,null,null,null,null,null,15,"DX",15,0,0,0,0,0,0,0,0,0,0,0,0,0,0,0,0,0,0,0,0,0,0,0,0,0,0,0,0,0,0,0,0,0,0,0,0,0,0,0,0]
[null,null,null,null,null,"Packaged Terminal Heat Pump",null,"GeothermalHeatPump",null,"GeothermalHeatPumpBrinetoAirGroundLoop",32,"Lessthan65kbtuh","Lessthan65kbtuh","Lessthan65kbtuh","Lessthan65kbtuh","Lessthan65kbtuh","Lessthan65kbtuh","Lessthan65kbtuh","Lessthan65kbtuh","Lessthan65kbtuh","Lessthan65kbtuh","Lessthan65kbtuh","65to135kbtuh",null,null,null,null,null,null,null,null,15,"DX",15,0,0,0,0,0,0,0,0,0,0,0,0,0,0,0,0,0,0,0,0,0,0,0,0,0,0,0,0,0,0,0,0,0,0,0,0,0,0,0,0]
[null,null,null,null,null,"Geothermal Air Conditioner",null,"Water to Air / Water Loop",null,"GeothermalHeatPumpWatertoWaterWaterLoop",33,"Lessthan65kbtuh","Lessthan65kbtuh","Lessthan65kbtuh","Lessthan65kbtuh","Lessthan65kbtuh","Lessthan65kbtuh","Lessthan65kbtuh","Lessthan65kbtuh","Lessthan65kbtuh","Lessthan65kbtuh","Lessthan65kbtuh","65to135kbtuh",null,null,null,null,null,null,null,null,15,"DX",15,0,0,0,0,0,0,0,0,0,0,0,0,0,0,0,0,0,0,0,0,0,0,0,0,0,0,0,0,0,0,0,0,0,0,0,0,0,0,0,0]
[null,null,null,null,null,"Geothermal Heat Pump",null,"Water to Air / Ground Water",null,"GeothermalHeatPumpWatertoWaterGroundWater",34,"Lessthan65kbtuh","Lessthan65kbtuh","Lessthan65kbtuh","Lessthan65kbtuh","Lessthan65kbtuh","Lessthan65kbtuh","Lessthan65kbtuh","Lessthan65kbtuh","Lessthan65kbtuh","Lessthan65kbtuh","Lessthan65kbtuh","65to135kbtuh",null,null,null,null,null,null,null,null,15,"DX",15,0,0,0,0,0,0,0,0,0,0,0,0,0,0,0,0,0,0,0,0,0,0,0,0,0,0,0,0,0,0,0,0,0,0,0,0,0,0,0,0]
[null,null,null,null,null,null,null,"Brine to Air / Ground Loop",null,"GeothermalHeatPumpBrinetoWaterGroundLoop",35,"Lessthan65kbtuh","Lessthan65kbtuh","Lessthan65kbtuh","Lessthan65kbtuh","Lessthan65kbtuh","Lessthan65kbtuh","Lessthan65kbtuh","Lessthan65kbtuh","Lessthan65kbtuh","Lessthan65kbtuh","Lessthan65kbtuh","65to135kbtuh",null,null,null,null,null,null,null,null,15,"DX",15,0,0,0,0,0,0,0,0,0,0,0,0,0,0,0,0,0,0,0,0,0,0,0,0,0,0,0,0,0,0,0,0,0,0,0,0,0,0,0,0]
[null,null,null,null,null,null,null,"Water to Water / Water Loop",null,"ComputerRoomACAirCooledDownflow",36,"Lessthan65kbtuh","Lessthan65kbtuh","Lessthan65kbtuh","Lessthan65kbtuh","Lessthan65kbtuh","Lessthan65kbtuh","Lessthan65kbtuh","Lessthan65kbtuh","Lessthan65kbtuh","Lessthan65kbtuh","Lessthan65kbtuh","65to240kbtuh","65to240kbtuh","Greaterthan240kbtuh",null,null,null,null,null,null,15,"DX",15,0,0,0,0,0,0,0,0,0,0,0,0,0,0,0,0,0,0,0,0,0,0,0,0,0,0,0,0,0,0,0,0,0,0,0,0,0,0,0,0]
[null,null,null,null,null,null,null,"Water to Water / Ground Water",null,"ComputerRoomACAirCooledUpflow",37,"Lessthan65kbtuh","Lessthan65kbtuh","Lessthan65kbtuh","Lessthan65kbtuh","Lessthan65kbtuh","Lessthan65kbtuh","Lessthan65kbtuh","Lessthan65kbtuh","Lessthan65kbtuh","Lessthan65kbtuh","Lessthan65kbtuh","65to240kbtuh","65to240kbtuh","Greaterthan240kbtuh",null,null,null,null,null,null,15,"DX",15,0,0,0,0,0,0,0,0,0,0,0,0,0,0,0,0,0,0,0,0,0,0,0,0,0,0,0,0,0,0,0,0,0,0,0,0,0,0,0,0]
[null,null,null,null,null,null,null,"Brine to Water / Ground Loop",null,"ComputerRoomACWaterCooledDownflow",38,"Lessthan65kbtuh","Lessthan65kbtuh","Lessthan65kbtuh","Lessthan65kbtuh","Lessthan65kbtuh","Lessthan65kbtuh","Lessthan65kbtuh","Lessthan65kbtuh","Lessthan65kbtuh","Lessthan65kbtuh","Lessthan65kbtuh","65to240kbtuh","65to240kbtuh","Greaterthan240kbtuh",null,null,null,null,null,null,15,"DX",15,0,0,0,0,0,0,0,0,0,0,0,0,0,0,0,0,0,0,0,0,0,0,0,0,0,0,0,0,0,0,0,0,0,0,0,0,0,0,0,0]
[null,null,null,null,null,null,null,null,null,"ComputerRoomACWaterCooledUpflow",39,"Lessthan65kbtuh","Lessthan65kbtuh","Lessthan65kbtuh","Lessthan65kbtuh","Lessthan65kbtuh","Lessthan65kbtuh","Lessthan65kbtuh","Lessthan65kbtuh","Lessthan65kbtuh","Lessthan65kbtuh","Lessthan65kbtuh","65to240kbtuh","65to240kbtuh","Greaterthan240kbtuh",null,null,null,null,null,null,15,"DX",15,0,0,0,0,0,0,0,0,0,0,0,0,0,0,0,0,0,0,0,0,0,0,0,0,0,0,0,0,0,0,0,0,0,0,0,0,0,0,0,0]
[null,null,null,null,null,null,null,"GeothermalAirConditionerHeatingType",null,"ComputerRoomACWaterCooledwithFluidEconomizerDownflow",40,"Lessthan65kbtuh","Lessthan65kbtuh","Lessthan65kbtuh","Lessthan65kbtuh","Lessthan65kbtuh","Lessthan65kbtuh","Lessthan65kbtuh","Lessthan65kbtuh","Lessthan65kbtuh","Lessthan65kbtuh","Lessthan65kbtuh","65to240kbtuh","65to240kbtuh","Greaterthan240kbtuh",null,null,null,null,null,null,15,"DX",15,0,0,0,0,0,0,0,0,0,0,0,0,0,0,0,0,0,0,0,0,0,0,0,0,0,0,0,0,0,0,0,0,0,0,0,0,0,0,0,0]
[null,null,null,null,null,null,null,"Elec Res or None",null,"ComputerRoomACWaterCooledwithFluidEconomizerUpflow",41,"Lessthan65kbtuh","Lessthan65kbtuh","Lessthan65kbtuh","Lessthan65kbtuh","Lessthan65kbtuh","Lessthan65kbtuh","Lessthan65kbtuh","Lessthan65kbtuh","Lessthan65kbtuh","Lessthan65kbtuh","Lessthan65kbtuh","65to240kbtuh","65to240kbtuh","Greaterthan240kbtuh",null,null,null,null,null,null,15,"DX",15,0,0,0,0,0,0,0,0,0,0,0,0,0,0,0,0,0,0,0,0,0,0,0,0,0,0,0,0,0,0,0,0,0,0,0,0,0,0,0,0]
[null,null,null,null,null,null,null,"Other",null,"ComputerRoomACGlycolCooledDownflow",42,"Lessthan65kbtuh","Lessthan65kbtuh","Lessthan65kbtuh","Lessthan65kbtuh","Lessthan65kbtuh","Lessthan65kbtuh","Lessthan65kbtuh","Lessthan65kbtuh","Lessthan65kbtuh","Lessthan65kbtuh","Lessthan65kbtuh","65to240kbtuh","65to240kbtuh","Greaterthan240kbtuh",null,null,null,null,null,null,15,"DX",15,0,0,0,0,0,0,0,0,0,0,0,0,0,0,0,0,0,0,0,0,0,0,0,0,0,0,0,0,0,0,0,0,0,0,0,0,0,0,0,0]
[null,null,null,null,null,null,null,null,null,"ComputerRoomACGlycolCooledUpflow",43,"Lessthan65kbtuh","Lessthan65kbtuh","Lessthan65kbtuh","Lessthan65kbtuh","Lessthan65kbtuh","Lessthan65kbtuh","Lessthan65kbtuh","Lessthan65kbtuh","Lessthan65kbtuh","Lessthan65kbtuh","Lessthan65kbtuh","65to240kbtuh","65to240kbtuh","Greaterthan240kbtuh",null,null,null,null,null,null,15,"DX",15,0,0,0,0,0,0,0,0,0,0,0,0,0,0,0,0,0,0,0,0,0,0,0,0,0,0,0,0,0,0,0,0,0,0,0,0,0,0,0,0]
[null,null,null,null,null,null,null,"UnitaryAirConditioner"]
[null,null,null,null,null,null,null,"Split"]
[null,null,null,null,null,null,null,"Packaged"]
[]
[null,null,null,null,null,null,null,"UnitaryHeatPump"]
[null,null,null,null,null,null,null,"Split",null,"DSMT RTID & EM Lookup Table",null,"TXCPS EnergyCommercial & IndustrialPROD",null,"TXCPS EnergyCommercial & IndustrialUAT",null,"TXCPS EnergySchools & InstitutionsPROD",null,"TXCPS EnergySchools & InstitutionsUAT",null,"TXCPS EnergySmall BusinessPROD",null,"TXCPS EnergySmall BusinessUAT",null,"OKOklahoma Gas & ElectricLarge C&IPROD",null,"OKOklahoma Gas & ElectricLarge C&IUAT",null,"OKOklahoma Gas & ElectricSchools & GovtPROD",null,"OKOklahoma Gas & ElectricSchools & GovtUAT",null,"OKOklahoma Gas & ElectricSmall BusinessPROD",null,"OKOklahoma Gas & ElectricSmall BusinessUAT",null,"AROklahoma Gas & ElectricSmall BusinessPROD",null,"AROklahoma Gas & ElectricSmall BusinessUAT",null,"AROklahoma Gas & ElectricCommercial Standard Offer ProgramPROD",null,"AROklahoma Gas & ElectricCommercial Standard Offer ProgramUAT"]
[null,null,null,null,null,null,null,"Packaged",null,"Equipment Type:",null,"EligibleMeasure","RecordType","EligibleMeasure","RecordType","EligibleMeasure","RecordType","EligibleMeasure","RecordType","EligibleMeasure","RecordType","EligibleMeasure","RecordType","EligibleMeasure","RecordType","EligibleMeasure","RecordType","EligibleMeasure","RecordType","EligibleMeasure","RecordType","EligibleMeasure","RecordType","EligibleMeasure","RecordType","EligibleMeasure","RecordType","EligibleMeasure","RecordType","EligibleMeasure","RecordType","EligibleMeasure","RecordType"]
[null,null,null,null,null,null,null,null,null,"Air Cooled Chiller",null,"a1r3u0000069BuYAAU","0123u000000aP62AAE","a1r79000000A5lH","012790000004Q0IAAU","a1r3u0000069DASAA2","0123u000000aP62AAE","a1r79000000A6X3AAK","012790000004Q0IAAU",null,null,null,null,"a1r6A000000RmnmQAC","0126A000000BLEeQAO","a1r6A000000RmnmQAC","0126A000000BLEeQAO","a1r6A000000RmnkQAC","0126A000000BLEiQAO","a1r6A000000RmnkQAC","0126A000000BLEiQAO"]
[null,null,null,null,null,null,null,"UnitaryAirConditionerHeatingType",null,"Water Cooled Chiller",null,"a1r3u0000069BuQAAU","0123u000000aP62AAE","a1r79000000A5kd","012790000004Q0IAAU","a1r3u0000069DAUAA2","0123u000000aP62AAE","a1r79000000A6XDAA0","012790000004Q0IAAU",null,null,null,null,"a1r6A000000Rmn9QAC","0126A000000BLG9QAO","a1r6A000000Rmn9QAC","0126A000000BLG9QAO","a1r6A000000RmnAQAS","0126A000000BLGDQA4","a1r6A000000RmnAQAS","0126A000000BLGDQA4"]
[null,null,null,null,null,null,null,"Elec Res or None",null,"Unitary Air Conditioner",null,"a1r3u0000069BuPAAU","0123u000000aP63AAE","a1r79000000A5kY","012790000004Q0JAAU","a1r3u0000069DB2AAM","0123u000000aP63AAE","a1r79000000A6X8AAK","012790000004Q0JAAU",null,null,null,null,"a1r6A000000Rmn0QAC","0126A000000BLFwQAO","a1r6A000000Rmn0QAC","0126A000000BLFwQAO","a1r6A000000Rmn3QAC","0126A000000BLFxQAO","a1r6A000000Rmn3QAC","0126A000000BLFxQAO"]
[null,null,null,null,null,null,null,"Other",null,"Unitary Heat Pump",null,"a1r3u0000069BuNAAU","0123u000000aP63AAE","a1r79000000A5kO","012790000004Q0JAAU","a1r3u0000069DB4AAM","0123u000000aP63AAE","a1r79000000A6XIAA0","012790000004Q0JAAU",null,null,null,null,"a1r6A000000Rmn1QAC","0126A000000BLFzQAO","a1r6A000000Rmn1QAC","0126A000000BLFzQAO","a1r6A000000Rmn4QAC","0126A000000BLG0QAO","a1r6A000000Rmn4QAC","0126A000000BLG0QAO"]
[null,null,null,null,null,null,null,null,null,"Packaged Terminal Air Conditioner",null,"a1r3u0000069BuVAAU","0123u000000aP64AAE","a1r79000000A5l2","012790000004Q0PAAU","a1r3u0000069DBVAA2","0123u000000aP64AAE","a1r79000000A6Y1AAK","012790000004Q0PAAU",null,null,null,null,"a1r6A000000Rmn2QAC","0126A000000BLFXQA4","a1r6A000000Rmn2QAC","0126A000000BLFXQA4","a1r6A000000Rmn5QAC","0126A000000BLFYQA4","a1r6A000000Rmn5QAC","0126A000000BLFYQA4"]
[null,null,null,null,null,null,null,"UnitaryHeatPumpHeatingType",null,"Packaged Terminal Heat Pump",null,"a1r3u0000069BuOAAU","0123u000000aP64AAE","a1r79000000A5kT","012790000004Q0PAAU","a1r3u0000069DBXAA2","0123u000000aP64AAE","a1r79000000A6WZAA0","012790000004Q0PAAU",null,null,null,null,"a1r6A000000RmnhQAC","0126A000000BLFaQAO","a1r6A000000RmnhQAC","0126A000000BLFaQAO","a1r6A000000RmneQAC","0126A000000BLFbQAO","a1r6A000000RmneQAC","0126A000000BLFbQAO"]
[null,null,null,null,null,null,null,"Elec Res or None",null,"Room Air Conditioner",null,"a1r3u0000069BuLAAU","0123u000000aP64AAE","a1r79000000A5kE","012790000004Q0PAAU","a1r3u0000069DBdAAM","0123u000000aP64AAE","a1r79000000A6WeAAK","012790000004Q0PAAU"]
[null,null,null,null,null,null,null,"Other",null,"VRF Air Conditioner",null,"a1r3u0000069BuPAAU","0123u000000aP63AAE","a1r79000000A5kY","012790000004Q0JAAU","a1r3u0000069DB2AAM","0123u000000aP63AAE","a1r79000000A6X8AAK","012790000004Q0JAAU"]
[null,null,null,null,null,null,null,null,null,"VRF Heat Pump",null,"a1r3u0000069BuNAAU","0123u000000aP63AAE","a1r79000000A5kO","012790000004Q0JAAU","a1r3u0000069DB4AAM","0123u000000aP63AAE","a1r79000000A6XIAA0","012790000004Q0JAAU"]
[null,null,null,null,null,null,null,"ComputerRoomAC",null,"Computer Room AC",null,"a1r3u0000069BuPAAU","0123u000000aP63AAE","a1r79000000A5kY","012790000004Q0JAAU","a1r3u0000069DB2AAM","0123u000000aP63AAE","a1r79000000A6X8AAK","012790000004Q0JAAU"]
[null,null,null,null,null,null,null,"Air Cooled / Downflow",null,"Single Package Vertical Air Conditioner",null,"a1r3u0000069BuPAAU","0123u000000aP63AAE","a1r79000000A5kY","012790000004Q0JAAU","a1r3u0000069DB2AAM","0123u000000aP63AAE","a1r79000000A6X8AAK","012790000004Q0JAAU"]
[null,null,null,null,null,null,null,"Air Cooled / Upflow",null,"Single Package Vertical Heat Pump",null,"a1r3u0000069BuNAAU","0123u000000aP63AAE","a1r79000000A5kO","012790000004Q0JAAU","a1r3u0000069DB4AAM","0123u000000aP63AAE","a1r79000000A6XIAA0","012790000004Q0JAAU"]
[null,null,null,null,null,null,null,"Water Cooled / Downflow",null,"Geothermal Air Conditioner",null,"a1r3u0000069BuPAAU","0123u000000aP63AAE","a1r79000000A5kY","012790000004Q0JAAU","a1r3u0000069DB2AAM","0123u000000aP63AAE","a1r79000000A6X8AAK","012790000004Q0JAAU"]
[null,null,null,null,null,null,null,"Water Cooled / Upflow",null,"Geothermal Heat Pump",null,"a1r3u0000069BuNAAU","0123u000000aP63AAE","a1r79000000A5kO","012790000004Q0JAAU","a1r3u0000069DB4AAM","0123u000000aP63AAE","a1r79000000A6XIAA0","012790000004Q0JAAU"]
[null,null,null,null,null,null,null,"Water Cooled with Fluid Economizer / Downflow"]
[null,null,null,null,null,null,null,"Water Cooled with Fluid Economizer / Upflow"]
[null,null,null,null,null,null,null,"Glycol Cooled / Downflow"]
[null,null,null,null,null,null,null,"Glycol Cooled / Upflow"]

{"sheet":"County to Zone","index":18,"n_rows":257,"n_cols":8,"rows_kept":257,"cut":false,"hidden":true,"merged":[]}
["AR",null,null,"OK",null,null,"TX"]
["County","Zone",null,"County","Zone",null,"County","Zone"]
["Arkansas",6,null,"Adair",8,null,"Anderson",2]
["Ashley",6,null,"Alfalfa",9,null,"Andrews",2]
["Baxter",9,null,"Atoka",7,null,"Angelina",2]
["Benton",9,null,"Beaver",9,null,"Aransas",4]
["Boone",9,null,"Beckham",8,null,"Archer",2]
["Bradley",6,null,"Blaine",8,null,"Armstrong",1]
["Calhoun",6,null,"Bryan",7,null,"Atascosa",3]
["Carroll",9,null,"Caddo",8,null,"Austin",3]
["Chicot",6,null,"Canadian",8,null,"Bailey",1]
["Clark",6,null,"Carter",6,null,"Bandera",2]
["Clay",8,null,"Cherokee",8,null,"Bastrop",3]
["Cleburne",8,null,"Choctaw",6,null,"Baylor",2]
["Cleveland",6,null,"Cimarron",9,null,"Bee",3]
["Columbia",6,null,"Cleveland",7,null,"Bell",2]
["Conway",7,null,"Coal",7,null,"Bexar",3]
["Craighead",8,null,"Comanche",7,null,"Blanco",2]
["Crawford",8,null,"Cotton",7,null,"Borden",2]
["Crittenden",7,null,"Craig",9,null,"Bosque",2]
["Cross",7,null,"Creek",8,null,"Bowie",2]
["Dallas",6,null,"Cluster",8,null,"Brazoria",3]
["Desha",6,null,"Deleware",8,null,"Brazos",3]
["Drew",6,null,"Dewey",9,null,"Brewster",2]
["Faulkner",7,null,"Ellis",9,null,"Briscoe",1]
["Franklin",8,null,"Garfield",8,null,"Brooks",4]
["Fulton",8,null,"Garvin",7,null,"Brown",2]
["Garland",7,null,"Grady",7,null,"Burleson",3]
["Grant",6,null,"Grant",9,null,"Burnet",2]
["Greene",8,null,"Greer",7,null,"Caldwell",3]
["Hempstead",7,null,"Harmon",7,null,"Calhoun",4]
["Hot Spring",7,null,"Harper",9,null,"Callahan",2]
["Howard",7,null,"Haskell",7,null,"Cameron",4]
["Independence",8,null,"Hughes",7,null,"Camp",2]
["Izard",8,null,"Jackson",7,null,"Carson",1]
["Jackson",8,null,"Jefferson",6,null,"Cass",2]
["Jefferson",6,null,"Johnston",6,null,"Castro",1]
["Johnson",8,null,"Kay",9,null,"Chambers",3]
["Lafayette",6,null,"Kingfisher",8,null,"Cherokee",2]
["Lawrence",8,null,"Kiowa",7,null,"Childress",1]
["Lee",7,null,"Latimer",7,null,"Clay",2]
["Lincoln",6,null,"Le Flore",7,null,"Cochran",1]
["Little River",6,null,"Lincoln",7,null,"Coke",2]
["Logan",7,null,"Logan",8,null,"Coleman",2]
["Lonoke",7,null,"Love",6,null,"Collin",2]
["Madison",9,null,"Major",9,null,"Collingsworth",1]
["Marion",9,null,"Marshall",6,null,"Colorado",3]
["Miller",6,null,"Mayes",8,null,"Comal",3]
["Mississippi",8,null,"McClain",7,null,"Comanche",2]
["Monroe",7,null,"McCurtain",7,null,"Concho",2]
["Montgomery",8,null,"McIntosh",7,null,"Cooke",2]
["Nevada",6,null,"Murray",7,null,"Coryell",2]
["Newton",9,null,"Muskogee",7,null,"Cottle",1]
["Ouachita",6,null,"Noble",8,null,"Crane",2]
["Perry",7,null,"Nowata",9,null,"Crockett",2]
["Phillips",7,null,"Okfuskee",7,null,"Crosby",1]
["Pike",7,null,"Oklahoma",8,null,"Culberson",2]
["Poinsett",8,null,"Okmulgee",8,null,"Dallam",1]
["Polk",8,null,"Osage",8,null,"Dallas",2]
["Pope",8,null,"Ottawa",9,null,"Dawson",2]
["Prairie",7,null,"Pawnee",8,null,"De Witt",3]
["Pulaski",7,null,"Payne",8,null,"Deaf Smith",1]
["Randolph",8,null,"Pittsburg",7,null,"Delta",2]
["Saline",7,null,"Pontotoc",7,null,"Denton",2]
["Scott",7,null,"Pottawatomie",7,null,"Dickens",1]
["Searcy",9,null,"Pushmataha",6,null,"Dimmit",3]
["Sebastian",8,null,"Roger Mills",9,null,"Donley",1]
["Sevier",7,null,"Rogers",9,null,"Duval",4]
["Sharp",8,null,"Seminole",7,null,"Eastland",2]
["St. Francis",7,null,"Sequoyah",7,null,"Ector",2]
["Stone",9,null,"Stephens",7,null,"Edwards",2]
["Union",6,null,"Texas",9,null,"El Paso",5]
["Van Buren",8,null,"Tillman",7,null,"Ellis",2]
["Washington",9,null,"Tulsa",8,null,"Erath",2]
["White",7,null,"Wagoner",8,null,"Falls",2]
["Woodruff",7,null,"Washington",9,null,"Fannin",2]
["Yell",7,null,"Washita",8,null,"Fayette",3]
[null,null,null,"Woods",9,null,"Fisher",2]
[null,null,null,"Woodward",9,null,"Floyd",1]
[null,null,null,null,null,null,"Foard",1]
[null,null,null,null,null,null,"Fort Bend",3]
[null,null,null,null,null,null,"Franklin",2]
[null,null,null,null,null,null,"Freestone",2]
[null,null,null,null,null,null,"Frio",3]
[null,null,null,null,null,null,"Gaines",1]
[null,null,null,null,null,null,"Galveston",3]
[null,null,null,null,null,null,"Garza",1]
[null,null,null,null,null,null,"Gillespie",2]
[null,null,null,null,null,null,"Glasscock",2]
[null,null,null,null,null,null,"Goliad",3]
[null,null,null,null,null,null,"Gonzales",3]
[null,null,null,null,null,null,"Gray",1]
[null,null,null,null,null,null,"Grayson",2]
[null,null,null,null,null,null,"Gregg",2]
[null,null,null,null,null,null,"Grimes",3]
[null,null,null,null,null,null,"Guadalupe",3]
[null,null,null,null,null,null,"Hale",1]
[null,null,null,null,null,null,"Hall",1]
[null,null,null,null,null,null,"Hamilton",2]
[null,null,null,null,null,null,"Hansford",1]
[null,null,null,null,null,null,"Hardeman",1]
[null,null,null,null,null,null,"Hardin",3]
[null,null,null,null,null,null,"Harris",3]
[null,null,null,null,null,null,"Harrison",2]
[null,null,null,null,null,null,"Hartley",1]
[null,null,null,null,null,null,"Haskell",2]
[null,null,null,null,null,null,"Hays",2]
[null,null,null,null,null,null,"Hemphill",1]
[null,null,null,null,null,null,"Henderson",2]
[null,null,null,null,null,null,"Hidalgo",4]
[null,null,null,null,null,null,"Hill",2]
[null,null,null,null,null,null,"Hockley",1]
[null,null,null,null,null,null,"Hood",2]
[null,null,null,null,null,null,"Hopkins",2]
[null,null,null,null,null,null,"Houston",3]
[null,null,null,null,null,null,"Howard",2]
[null,null,null,null,null,null,"Hudspeth",5]
[null,null,null,null,null,null,"Hunt",2]
[null,null,null,null,null,null,"Hutchinson",1]
[null,null,null,null,null,null,"Irion",2]
[null,null,null,null,null,null,"Jack",2]
[null,null,null,null,null,null,"Jackson",3]
[null,null,null,null,null,null,"Jasper",2]
[null,null,null,null,null,null,"Jeff Davis",2]
[null,null,null,null,null,null,"Jefferson",3]
[null,null,null,null,null,null,"Jim Hogg",4]
[null,null,null,null,null,null,"Jim Wells",4]
[null,null,null,null,null,null,"Johnson",2]
[null,null,null,null,null,null,"Jones",2]
[null,null,null,null,null,null,"Karnes",3]
[null,null,null,null,null,null,"Kaufman",2]
[null,null,null,null,null,null,"Kendall",2]
[null,null,null,null,null,null,"Kenedy",4]
[null,null,null,null,null,null,"Kent",1]
[null,null,null,null,null,null,"Kerr",2]
[null,null,null,null,null,null,"Kimble",2]
[null,null,null,null,null,null,"King",1]
[null,null,null,null,null,null,"Kinney",3]
[null,null,null,null,null,null,"Kleberg",4]
[null,null,null,null,null,null,"Knox",1]
[null,null,null,null,null,null,"La Salle",3]
[null,null,null,null,null,null,"Lamar",2]
[null,null,null,null,null,null,"Lamb",1]
[null,null,null,null,null,null,"Lampasas",2]
[null,null,null,null,null,null,"Lavaca",3]
[null,null,null,null,null,null,"Lee",3]
[null,null,null,null,null,null,"Leon",2]
[null,null,null,null,null,null,"Liberty",3]
[null,null,null,null,null,null,"Limestone",2]
[null,null,null,null,null,null,"Lipscomb",1]
[null,null,null,null,null,null,"Live Oak",3]
[null,null,null,null,null,null,"Llano",2]
[null,null,null,null,null,null,"Loving",2]
[null,null,null,null,null,null,"Lubbock",1]
[null,null,null,null,null,null,"Lynn",1]
[null,null,null,null,null,null,"Madison",2]
[null,null,null,null,null,null,"Marion",2]
[null,null,null,null,null,null,"Martin",2]
[null,null,null,null,null,null,"Mason",2]
[null,null,null,null,null,null,"Matagorda",3]
[null,null,null,null,null,null,"Maverick",3]
[null,null,null,null,null,null,"McCulloch",2]
[null,null,null,null,null,null,"McLennan",2]
[null,null,null,null,null,null,"McMullen",3]
[null,null,null,null,null,null,"Medina",3]
[null,null,null,null,null,null,"Menard",2]
[null,null,null,null,null,null,"Midland",2]
[null,null,null,null,null,null,"Milam",3]
[null,null,null,null,null,null,"Mills",2]
[null,null,null,null,null,null,"Mitchell",2]
[null,null,null,null,null,null,"Montague",2]
[null,null,null,null,null,null,"Montgomery",3]
[null,null,null,null,null,null,"Moore",1]
[null,null,null,null,null,null,"Morris",2]
[null,null,null,null,null,null,"Motley",1]
[null,null,null,null,null,null,"N/A"]
[null,null,null,null,null,null,"Nacogdoches",2]
[null,null,null,null,null,null,"Navarro",2]
[null,null,null,null,null,null,"Newton",2]
[null,null,null,null,null,null,"Nolan",2]
[null,null,null,null,null,null,"Nueces",4]
[null,null,null,null,null,null,"Ochiltree",1]
[null,null,null,null,null,null,"Oldham",1]
[null,null,null,null,null,null,"Orange",3]
[null,null,null,null,null,null,"Palo Pinto",2]
[null,null,null,null,null,null,"Panola",2]
[null,null,null,null,null,null,"Parker",2]
[null,null,null,null,null,null,"Parmer",1]
[null,null,null,null,null,null,"Pecos",2]
[null,null,null,null,null,null,"Polk",3]
[null,null,null,null,null,null,"Potter",1]
[null,null,null,null,null,null,"Presidio",2]
[null,null,null,null,null,null,"Rains",2]
[null,null,null,null,null,null,"Randall",1]
[null,null,null,null,null,null,"Reagan",2]
[null,null,null,null,null,null,"Real",2]
[null,null,null,null,null,null,"Red River",2]
[null,null,null,null,null,null,"Reeves",2]
[null,null,null,null,null,null,"Refugio",4]
[null,null,null,null,null,null,"Roberts",1]
[null,null,null,null,null,null,"Robertson",2]
[null,null,null,null,null,null,"Rockwall",2]
[null,null,null,null,null,null,"Runnels",2]
[null,null,null,null,null,null,"Rusk",2]
[null,null,null,null,null,null,"Sabine",2]
[null,null,null,null,null,null,"San Augustine",2]
[null,null,null,null,null,null,"San Jacinto",3]
[null,null,null,null,null,null,"San Patricio",4]
[null,null,null,null,null,null,"San Saba",2]
[null,null,null,null,null,null,"Schleicher",2]
[null,null,null,null,null,null,"Scurry",2]
[null,null,null,null,null,null,"Shackelford",2]
[null,null,null,null,null,null,"Shelby",2]
[null,null,null,null,null,null,"Sherman",1]
[null,null,null,null,null,null,"Smith",2]
[null,null,null,null,null,null,"Somervell",2]
[null,null,null,null,null,null,"Starr",4]
[null,null,null,null,null,null,"Stephens",2]
[null,null,null,null,null,null,"Sterling",2]
[null,null,null,null,null,null,"Stonewall",1]
[null,null,null,null,null,null,"Sutton",2]
[null,null,null,null,null,null,"Swisher",1]
[null,null,null,null,null,null,"Tarrant",2]
[null,null,null,null,null,null,"Taylor",2]
[null,null,null,null,null,null,"Terrell",2]
[null,null,null,null,null,null,"Terry",1]
[null,null,null,null,null,null,"Throckmorton",2]
[null,null,null,null,null,null,"Titus",2]
[null,null,null,null,null,null,"Tom Green",2]
[null,null,null,null,null,null,"Travis",2]
[null,null,null,null,null,null,"Trinity",3]
[null,null,null,null,null,null,"Tyler",3]
[null,null,null,null,null,null,"Upshur",2]
[null,null,null,null,null,null,"Upton",2]
[null,null,null,null,null,null,"Uvalde",3]
[null,null,null,null,null,null,"Val Verde",3]
[null,null,null,null,null,null,"Van Zandt",2]
[null,null,null,null,null,null,"Victoria",3]
[null,null,null,null,null,null,"Walker",3]
[null,null,null,null,null,null,"Waller",3]
[null,null,null,null,null,null,"Ward",2]
[null,null,null,null,null,null,"Washington",3]
[null,null,null,null,null,null,"Webb",4]
[null,null,null,null,null,null,"Wharton",3]
[null,null,null,null,null,null,"Wheeler",1]
[null,null,null,null,null,null,"Wichita",2]
[null,null,null,null,null,null,"Wilbarger",1]
[null,null,null,null,null,null,"Willacy",4]
[null,null,null,null,null,null,"Williamson",2]
[null,null,null,null,null,null,"Wilson",3]
[null,null,null,null,null,null,"Winkler",2]
[null,null,null,null,null,null,"Wise",2]
[null,null,null,null,null,null,"Wood",2]
[null,null,null,null,null,null,"Yoakum",1]
[null,null,null,null,null,null,"Young",2]
[null,null,null,null,null,null,"Zapata",4]
[null,null,null,null,null,null,"Zavala",3]

{"sheet":"EFLH","index":19,"n_rows":60,"n_cols":37,"rows_kept":60,"cut":false,"hidden":true,"merged":[]}
[null,"Zone",{"$f":"VLOOKUP('Project Info'!D8,INDIRECT(D1),2,FALSE)","v":{"$error":"#REF!"}},{"$f":"'Project Info'!D7&\"ZONE\"","v":"ZONE"}]
[null,"OK EFLH Table - Zone 6",null,null,null,null,"AR EFLH Table - Zone 6",null,null,null,null,null,"TX EFLH Table - San Antonio","Air Cooled Chiller","Water Cooled Chiller","DX","PTRoom","Air Cooled Chiller","Water Cooled Chiller","DX","PTRoom","Air Cooled Chiller","Water Cooled Chiller","DX","PTRoom","DX","PTRoom"]
[null,"Building Type","Cooling EFLH","Heating EFLH","CF",null,"Building Type","Cooling EFLH","Heating EFLH","CF",null,null,"Building Type","CFAir Cooled Chiller","CFWater Cooled Chiller","CFDX","CFPTRoom","NCPAir Cooled Chiller","NCPWater Cooled Chiller","NCPDX","NCPPTRoom","EFLHcAir Cooled Chiller","EFLHcWater Cooled Chiller","EFLHcDX","EFLHcPTRoom","EFLHhDX","EFLHhPTRoom","Column1"]
[null,"Assembly",2017,615,0.82,null,"Assembly",2017,615,0.82,null,null,"Data Center",0,0,1.05,0,0,0,1.07,0,0,0,4022,0,107,0,"TXEqDataCenter",null,null,"Unitary Air Conditioner","Unitary Heat Pump","Computer Room AC","Single Package Vertical Air Conditioner","Single Package Vertical Heat Pump"]
[null,"College/University",1698,674,0.84,null,"College/University",1698,674,0.84,null,null,"Education (College/University)",0.84,0.52,1.08,0,0.89,0.72,1.1200000000000001,0,2173,3894,2101,0,251,0,"TXEqEducationCollegeUniversity","Air Cooled Chiller","Water Cooled Chiller","Unitary Air Conditioner","Unitary Heat Pump","Single Package Vertical Air Conditioner","Single Package Vertical Heat Pump"]
[null,"Fast Food Restaurant",1393,287,0.78,null,"Fast Food Restaurant",1393,287,0.78,null,null,"Education (Primary School)",0.55000000000000004,0.57999999999999996,1.06,0.85,0.6,0.63,1.1000000000000001,0.88,915,1716,1633,1330,251,86,"TXEqEducationPrimarySchool","Air Cooled Chiller","Water Cooled Chiller","Unitary Air Conditioner","Unitary Heat Pump","Packaged Terminal Air Conditioner","Packaged Terminal Heat Pump","Room Air Conditioner","Single Package Vertical Air Conditioner","Single Package Vertical Heat Pump"]
[null,"Full Menu Restaurant",1819,178,0.85,null,"Full Menu Restaurant",1819,178,0.85,null,null,"Education (Secondary School)",0.84,0.52,1.08,0.86,0.89,0.72,1.1200000000000001,0.9,1477,2647,1429,1163,281,96,"TXEqEducationSecondarySchool","Air Cooled Chiller","Water Cooled Chiller","Unitary Air Conditioner","Unitary Heat Pump","Packaged Terminal Air Conditioner","Packaged Terminal Heat Pump","Room Air Conditioner","Single Package Vertical Air Conditioner","Single Package Vertical Heat Pump"]
[null,"Grocery Store",1594,692,0.9,null,"Grocery Store",1594,692,0.9,null,null,"Food Sales (Convenience)",0,0,1.03,0.82,0,0,1.1299999999999999,0.9,0,0,2307,1878,230,120,"TXEqFoodSalesConvenience","","","Unitary Air Conditioner","Unitary Heat Pump","Packaged Terminal Air Conditioner","Packaged Terminal Heat Pump","Room Air Conditioner","Single Package Vertical Air Conditioner","Single Package Vertical Heat Pump"]
[null,"Health Clinic",1627,641,0.85,null,"Health Clinic",1627,641,0.85,null,null,"Food Sales (Supermarket)",0,0,0.61,0,0,0,0.65,0,0,0,829,0,230,0,"TXEqFoodSalesSupermarket","","","Unitary Air Conditioner","Unitary Heat Pump","Single Package Vertical Air Conditioner","Single Package Vertical Heat Pump"]
[null,"Lodging",1434,391,0.77,null,"Lodging",1434,391,0.77,null,null,"Food Service (Full Service Restaurant)",0,0,1.06,0.85,0,0,1.1299999999999999,0.9,0,0,2249,1831,542,185,"TXEqFoodServiceFullServiceRestaurant","","","Unitary Air Conditioner","Unitary Heat Pump","Packaged Terminal Air Conditioner","Packaged Terminal Heat Pump","Room Air Conditioner","Single Package Vertical Air Conditioner","Single Package Vertical Heat Pump"]
[null,"Large Office (>30k SqFt)",2387,816,0.84,null,"Large Office (>30k SqFt)",2387,816,0.84,null,null,"Food Service (24-hr Full Service Rest.)",0,0,1.07,0.86,0,0,1.1399999999999999,0.91,0,0,2548,2075,680,232,"TXEqFoodService24hrFullServiceRest","","","Unitary Air Conditioner","Unitary Heat Pump","Packaged Terminal Air Conditioner","Packaged Terminal Heat Pump","Room Air Conditioner","Single Package Vertical Air Conditioner","Single Package Vertical Heat Pump"]
[null,"Small Office (<=30k SqFt)",1696,351,0.84,null,"Small Office (<=30k SqFt)",1696,351,0.84,null,null,"Food Service (Quick Service Restaurant)",0,0,1.03,0.82,0,0,1.1299999999999999,0.9,0,0,1996,1625,405,138,"TXEqFoodServiceQuickServiceRestaurant","","","Unitary Air Conditioner","Unitary Heat Pump","Packaged Terminal Air Conditioner","Packaged Terminal Heat Pump","Room Air Conditioner","Single Package Vertical Air Conditioner","Single Package Vertical Heat Pump"]
[null,"Religious Worship",1799,575,0.82,null,"Religious Worship",1799,575,0.82,null,null,"Food Service (24-hr Quick Service Rest.)",0,0,1.06,0.85,0,0,1.1299999999999999,0.9,0,0,2311,1882,599,205,"TXEqFoodService24hrQuickServiceRest","","","Unitary Air Conditioner","Unitary Heat Pump","Packaged Terminal Air Conditioner","Packaged Terminal Heat Pump","Room Air Conditioner","Single Package Vertical Air Conditioner","Single Package Vertical Heat Pump"]
[null,"Retail",1560,781,0.88,null,"Retail",1560,781,0.88,null,null,"Healthcare (Hospital)",0.85,0.73,0.94,0,0.89,0.85,0.98,0,3115,4015,3534,0,223,0,"TXEqHealthcareHospital","Air Cooled Chiller","Water Cooled Chiller","Unitary Air Conditioner","Unitary Heat Pump","Single Package Vertical Air Conditioner","Single Package Vertical Heat Pump"]
[null,"School",1494,777,0.71,null,"School",1494,777,0.71,null,null,"Healthcare (Outpatient)",0,0,0.86,0,0,0,0.9,0,0,0,2925,0,223,0,"TXEqHealthcareOutpatient",null,null,"Unitary Air Conditioner","Unitary Heat Pump","Single Package Vertical Air Conditioner","Single Package Vertical Heat Pump"]
[null,null,null,null,null,null,null,null,null,null,null,null,"Large Multifamily (Midrise Apartment)",0.63,0.61,1.05,0,0.66,0.69,1.0900000000000001,0,1378,2528,2429,0,147,0,"TXEqLargeMultifamilyMidriseApartment","Air Cooled Chiller","Water Cooled Chiller","Unitary Air Conditioner","Unitary Heat Pump","Single Package Vertical Air Conditioner","Single Package Vertical Heat Pump"]
[null,"OK EFLH Table - Zone 7",null,null,null,null,"AR EFLH Table - Zone 7",null,null,null,null,null,"Lodging (Large Hotel)",0.61,0.68,0.72,0.57999999999999996,0.98,1,0.76,0.61,2595,3180,2600,2117,307,105,"TXEqLodgingLargeHotel","Air Cooled Chiller","Water Cooled Chiller","Unitary Air Conditioner","Unitary Heat Pump","Packaged Terminal Air Conditioner","Packaged Terminal Heat Pump","Room Air Conditioner","Single Package Vertical Air Conditioner","Single Package Vertical Heat Pump"]
[null,"Building Type","Cooling EFLH","Heating EFLH","CF",null,"Building Type","Cooling EFLH","Heating EFLH","CF",null,null,"Lodging (Nursing Home)",0.63,0.61,1.05,0.84,0.66,0.69,1.0900000000000001,0.87,1400,2568,2467,2009,147,33,"TXEqLodgingNursingHome","Air Cooled Chiller","Water Cooled Chiller","Unitary Air Conditioner","Unitary Heat Pump","Packaged Terminal Air Conditioner","Packaged Terminal Heat Pump","Room Air Conditioner","Single Package Vertical Air Conditioner","Single Package Vertical Heat Pump"]
[null,"Assembly",1723,854,0.82,null,"Assembly",1723,854,0.82,null,null,"Lodging (Small Hotel)",0,0,0.68,0.54,0,0,0.71,0.56999999999999995,0,0,2421,1971,147,50,"TXEqLodgingSmallHotel","","","Unitary Air Conditioner","Unitary Heat Pump","Packaged Terminal Air Conditioner","Packaged Terminal Heat Pump","Room Air Conditioner","Single Package Vertical Air Conditioner","Single Package Vertical Heat Pump"]
[null,"College/University",1450,936,0.84,null,"College/University",1450,936,0.84,null,null,"Mercantile (Stand Alone)",0.77,0.68,1,0,0.82,0.76,1.04,0,1184,1652,1554,0,230,0,"TXEqMercantileStandAlone","Air Cooled Chiller","Water Cooled Chiller","Unitary Air Conditioner","Unitary Heat Pump","Single Package Vertical Air Conditioner","Single Package Vertical Heat Pump"]
[null,"Fast Food Restaurant",1199,439,0.78,null,"Fast Food Restaurant",1199,439,0.78,null,null,"Mercantile (24-hr Stand Alone)",0.81,0.71,1.03,0,0.86,0.79,1.06,0,1642,2488,2059,0,276,0,"TXEqMercantile24hrStandAlone","Air Cooled Chiller","Water Cooled Chiller","Unitary Air Conditioner","Unitary Heat Pump","Single Package Vertical Air Conditioner","Single Package Vertical Heat Pump"]
[null,"Full Menu Restaurant",1661,321,0.85,null,"Full Menu Restaurant",1661,321,0.85,null,null,"Mercantile (Strip Mall)",0,0,0.97,0.78,0,0,1.02,0.82,0,0,1467,1194,247,84,"TXEqMercantileStripMall","","","Unitary Air Conditioner","Unitary Heat Pump","Packaged Terminal Air Conditioner","Packaged Terminal Heat Pump","Room Air Conditioner","Single Package Vertical Air Conditioner","Single Package Vertical Heat Pump"]
[null,"Grocery Store",1361,941,0.9,null,"Grocery Store",1361,941,0.9,null,null,"Office (Large)",0.98,0.69,1.07,0,1.06,0.73,1.0900000000000001,0,2009,2401,2866,0,175,0,"TXEqOfficeLarge","Air Cooled Chiller","Water Cooled Chiller","Unitary Air Conditioner","Unitary Heat Pump","Single Package Vertical Air Conditioner","Single Package Vertical Heat Pump"]
[null,"Health Clinic",1379,878,0.85,null,"Health Clinic",1379,878,0.85,null,null,"Office (Medium)",0,0,0.83,0,0,0,0.9,0,0,0,1523,0,107,0,"TXEqOfficeMedium",null,null,"Unitary Air Conditioner","Unitary Heat Pump","Single Package Vertical Air Conditioner","Single Package Vertical Heat Pump"]
[null,"Lodging",1258,589,0.77,null,"Lodging",1258,589,0.77,null,null,"Office (Small)",0,0,1,0.8,0,0,1.05,0.84,0,0,1598,1301,147,50,"TXEqOfficeSmall","","","Unitary Air Conditioner","Unitary Heat Pump","Packaged Terminal Air Conditioner","Packaged Terminal Heat Pump","Room Air Conditioner","Single Package Vertical Air Conditioner","Single Package Vertical Heat Pump"]
[null,"Large Office (>30k SqFt)",2112,1020,0.84,null,"Large Office (>30k SqFt)",2112,1020,0.84,null,null,"Public Assembly",0.55000000000000004,0.57999999999999996,1.06,0,0.6,0.63,1.1000000000000001,0,1231,2307,2196,0,107,0,"TXEqPublicAssembly","Air Cooled Chiller","Water Cooled Chiller","Unitary Air Conditioner","Unitary Heat Pump","Single Package Vertical Air Conditioner","Single Package Vertical Heat Pump"]
[null,"Small Office (<=30k SqFt)",1486,534,0.84,null,"Small Office (<=30k SqFt)",1486,534,0.84,null,null,"Religious Worship",0.77,0.68,0.68,0,0.82,0.76,0.71,0,713,994,602,0,107,0,"TXEqReligiousWorship","Air Cooled Chiller","Water Cooled Chiller","Unitary Air Conditioner","Unitary Heat Pump","Single Package Vertical Air Conditioner","Single Package Vertical Heat Pump"]
[null,"Religious Worship",1537,798,0.82,null,"Religious Worship",1537,798,0.82,null,null,"Service",0,0,1.06,0,0,0,1.1299999999999999,0,0,0,1742,0,107,0,"TXEqService",null,null,"Unitary Air Conditioner","Unitary Heat Pump","Single Package Vertical Air Conditioner","Single Package Vertical Heat Pump"]
[null,"Retail",1291,1043,0.88,null,"Retail",1291,1043,0.88,null,null,"Warehouse",0,0,0.92,0,0,0,1.05,0,0,0,718,0,107,0,"TXEqWarehouse",null,null,"Unitary Air Conditioner","Unitary Heat Pump","Single Package Vertical Air Conditioner","Single Package Vertical Heat Pump"]
[null,"School",1233,1030,0.71,null,"School",1233,1030,0.71,null,null,"Other",0.55000000000000004,0.57999999999999996,0.61,0,0.6,0.63,0.65,0,713,994,602,0,107,0,"TXEqOther","Air Cooled Chiller","Water Cooled Chiller","Unitary Air Conditioner","Unitary Heat Pump","Single Package Vertical Air Conditioner","Single Package Vertical Heat Pump"]
[null,null,null,null,null,null,null,null,null,null,null,null,null,null,null,null,null,null,null,null,null,null,null,null,null,null,null,{"$f":"\"TXEq\"&SUBSTITUTE(SUBSTITUTE(SUBSTITUTE(SUBSTITUTE(SUBSTITUTE(SUBSTITUTE(TX_EFLHSanAntonio[[#This Row],[Building Type]],\" \",\"\"),\"(\",\"\"),\")\",\"\"),\"/\",\"\"),\".\",\"\"),\"-\",\"\")","v":{"$error":"#VALUE!"}}]
[null,"OK EFLH Table - Zone 8",null,null,null,null,"AR EFLH Table - Zone 8"]
[null,"Building Type","Cooling EFLH","Heating EFLH","CF",null,"Building Type","Cooling EFLH","Heating EFLH","CF"]
[null,"Assembly",1632,915,0.82,null,"Assembly",1632,915,0.82]
[null,"College/University",1374,1002,0.84,null,"College/University",1374,1002,0.84]
[null,"Fast Food Restaurant",1170,472,0.78,null,"Fast Food Restaurant",1170,472,0.78]
[null,"Full Menu Restaurant",1640,362,0.85,null,"Full Menu Restaurant",1640,362,0.85]
[null,"Grocery Store",1300,1001,0.9,null,"Grocery Store",1300,1001,0.9]
[null,"Health Clinic",1368,915,0.85,null,"Health Clinic",1368,915,0.85]
[null,"Lodging",1274,637,0.77,null,"Lodging",1274,637,0.77]
[null,"Large Office (>30k SqFt)",1957,1060,0.84,null,"Large Office (>30k SqFt)",1957,1060,0.84]
[null,"Small Office (<=30k SqFt)",1448,564,0.84,null,"Small Office (<=30k SqFt)",1448,564,0.84]
[null,"Religious Worship",1456,854,0.82,null,"Religious Worship",1456,854,0.82]
[null,"Retail",1214,1133,0.88,null,"Retail",1214,1133,0.88]
[null,"School",1183,1094,0.71,null,"School",1183,1094,0.71]
[]
[null,"OK EFLH Table - Zone 9",null,null,null,null,"AR EFLH Table - Zone 9"]
[null,"Building Type","Cooling EFLH","Heating EFLH","CF",null,"Building Type","Cooling EFLH","Heating EFLH","CF"]
[null,"Assembly",1287,1032,0.82,null,"Assembly",1287,1032,0.82]
[null,"College/University",1083,1130,0.84,null,"College/University",1083,1130,0.84]
[null,"Fast Food Restaurant",968,549,0.78,null,"Fast Food Restaurant",968,549,0.78]
[null,"Full Menu Restaurant",1512,438,0.85,null,"Full Menu Restaurant",1512,438,0.85]
[null,"Grocery Store",1030,1129,0.9,null,"Grocery Store",1030,1129,0.9]
[null,"Health Clinic",1144,1045,0.85,null,"Health Clinic",1144,1045,0.85]
[null,"Lodging",1144,722,0.77,null,"Lodging",1144,722,0.77]
[null,"Large Office (>30k SqFt)",1588,1157,0.84,null,"Large Office (>30k SqFt)",1588,1157,0.84]
[null,"Small Office (<=30k SqFt)",1207,644,0.84,null,"Small Office (<=30k SqFt)",1207,644,0.84]
[null,"Religious Worship",1148,963,0.82,null,"Religious Worship",1148,963,0.82]
[null,"Retail",965,1287,0.88,null,"Retail",965,1287,0.88]
[null,"School",932,1236,0.71,null,"School",932,1236,0.71]

{"sheet":"Utility Admin","index":20,"n_rows":53,"n_cols":60,"rows_kept":53,"cut":false,"hidden":true,"merged":[]}
[null,null,null,null,null,null,null,null,null,null,null,null,null,null,null,"$/NCP",null,null,null,null,null,null,null,null,null,null,null,null,null,null,"$/kW",null,null,null,null,null,null,null,null,null,null,null,null,null,null,"$/kWh"]
[{"$f":"'Project Info'!D7","v":0},{"$f":"'Project Info'!I7","v":0},{"$f":"A2&B2","v":"00"},{"$f":"INDEX('Utility Admin'!D4:D22,MATCH($C$2,'Utility Admin'!$C$4:$C$22,0))","v":{"$error":"#N/A"}},{"$f":"'Project Info'!I8","v":0},{"$f":"C2&E2","v":"000"},{"$f":"INDEX('Utility Admin'!G4:G22,MATCH($F$2,'Utility Admin'!$F$4:$F$22,0))","v":{"$error":"#N/A"}},{"$f":"INDEX('Utility Admin'!H4:H22,MATCH($F$2,'Utility Admin'!$F$4:$F$22,0))","v":{"$error":"#N/A"}},{"$f":"INDEX('Utility Admin'!I4:I22,MATCH($F$2,'Utility Admin'!$F$4:$F$22,0))","v":{"$error":"#N/A"}},{"$f":"INDEX('Utility Admin'!J4:J22,MATCH($F$2,'Utility Admin'!$F$4:$F$22,0))","v":{"$error":"#N/A"}},{"$f":"INDEX('Utility Admin'!K4:K22,MATCH($F$2,'Utility Admin'!$F$4:$F$22,0))","v":{"$error":"#N/A"}},{"$f":"INDEX('Utility Admin'!L4:L22,MATCH($F$2,'Utility Admin'!$F$4:$F$22,0))","v":{"$error":"#N/A"}},{"$f":"INDEX('Utility Admin'!M4:M22,MATCH($F$2,'Utility Admin'!$F$4:$F$22,0))","v":{"$error":"#N/A"}},{"$f":"INDEX('Utility Admin'!N4:N22,MATCH($F$2,'Utility Admin'!$F$4:$F$22,0))","v":{"$error":"#N/A"}},{"$f":"INDEX('Utility Admin'!O4:O22,MATCH($F$2,'Utility Admin'!$F$4:$F$22,0))","v":{"$error":"#N/A"}},{"$f":"INDEX('Utility Admin'!P4:P22,MATCH($F$2,'Utility Admin'!$F$4:$F$22,0))","v":{"$error":"#N/A"}},{"$f":"INDEX('Utility Admin'!Q4:Q22,MATCH($F$2,'Utility Admin'!$F$4:$F$22,0))","v":{"$error":"#N/A"}},{"$f":"INDEX('Utility Admin'!R4:R22,MATCH($F$2,'Utility Admin'!$F$4:$F$22,0))","v":{"$error":"#N/A"}},{"$f":"INDEX('Utility Admin'!S4:S22,MATCH($F$2,'Utility Admin'!$F$4:$F$22,0))","v":{"$error":"#N/A"}},{"$f":"INDEX('Utility Admin'!T4:T22,MATCH($F$2,'Utility Admin'!$F$4:$F$22,0))","v":{"$error":"#N/A"}},{"$f":"INDEX('Utility Admin'!U4:U22,MATCH($F$2,'Utility Admin'!$F$4:$F$22,0))","v":{"$error":"#N/A"}},{"$f":"INDEX('Utility Admin'!V4:V22,MATCH($F$2,'Utility Admin'!$F$4:$F$22,0))","v":{"$error":"#N/A"}},{"$f":"INDEX('Utility Admin'!W4:W22,MATCH($F$2,'Utility Admin'!$F$4:$F$22,0))","v":{"$error":"#N/A"}},{"$f":"INDEX('Utility Admin'!X4:X22,MATCH($F$2,'Utility Admin'!$F$4:$F$22,0))","v":{"$error":"#N/A"}},{"$f":"INDEX('Utility Admin'!Y4:Y22,MATCH($F$2,'Utility Admin'!$F$4:$F$22,0))","v":{"$error":"#N/A"}},{"$f":"INDEX('Utility Admin'!Z4:Z22,MATCH($F$2,'Utility Admin'!$F$4:$F$22,0))","v":{"$error":"#N/A"}},{"$f":"INDEX('Utility Admin'!AA4:AA22,MATCH($F$2,'Utility Admin'!$F$4:$F$22,0))","v":{"$error":"#N/A"}},{"$f":"INDEX('Utility Admin'!AB4:AB22,MATCH($F$2,'Utility Admin'!$F$4:$F$22,0))","v":{"$error":"#N/A"}},{"$f":"INDEX('Utility Admin'!AC4:AC22,MATCH($F$2,'Utility Admin'!$F$4:$F$22,0))","v":{"$error":"#N/A"}},{"$f":"INDEX('Utility Admin'!AD4:AD22,MATCH($F$2,'Utility Admin'!$F$4:$F$22,0))","v":{"$error":"#N/A"}},{"$f":"INDEX('Utility Admin'!AE4:AE22,MATCH($F$2,'Utility Admin'!$F$4:$F$22,0))","v":{"$error":"#N/A"}},{"$f":"INDEX('Utility Admin'!AF4:AF22,MATCH($F$2,'Utility Admin'!$F$4:$F$22,0))","v":{"$error":"#N/A"}},{"$f":"INDEX('Utility Admin'!AG4:AG22,MATCH($F$2,'Utility Admin'!$F$4:$F$22,0))","v":{"$error":"#N/A"}},{"$f":"INDEX('Utility Admin'!AH4:AH22,MATCH($F$2,'Utility Admin'!$F$4:$F$22,0))","v":{"$error":"#N/A"}},{"$f":"INDEX('Utility Admin'!AI4:AI22,MATCH($F$2,'Utility Admin'!$F$4:$F$22,0))","v":{"$error":"#N/A"}},{"$f":"INDEX('Utility Admin'!AJ4:AJ22,MATCH($F$2,'Utility Admin'!$F$4:$F$22,0))","v":{"$error":"#N/A"}},{"$f":"INDEX('Utility Admin'!AK4:AK22,MATCH($F$2,'Utility Admin'!$F$4:$F$22,0))","v":{"$error":"#N/A"}},{"$f":"INDEX('Utility Admin'!AL4:AL22,MATCH($F$2,'Utility Admin'!$F$4:$F$22,0))","v":{"$error":"#N/A"}},{"$f":"INDEX('Utility Admin'!AM4:AM22,MATCH($F$2,'Utility Admin'!$F$4:$F$22,0))","v":{"$error":"#N/A"}},{"$f":"INDEX('Utility Admin'!AN4:AN22,MATCH($F$2,'Utility Admin'!$F$4:$F$22,0))","v":{"$error":"#N/A"}},{"$f":"INDEX('Utility Admin'!AO4:AO22,MATCH($F$2,'Utility Admin'!$F$4:$F$22,0))","v":{"$error":"#N/A"}},{"$f":"INDEX('Utility Admin'!AP4:AP22,MATCH($F$2,'Utility Admin'!$F$4:$F$22,0))","v":{"$error":"#N/A"}},{"$f":"INDEX('Utility Admin'!AQ4:AQ22,MATCH($F$2,'Utility Admin'!$F$4:$F$22,0))","v":{"$error":"#N/A"}},{"$f":"INDEX('Utility Admin'!AR4:AR22,MATCH($F$2,'Utility Admin'!$F$4:$F$22,0))","v":{"$error":"#N/A"}},{"$f":"INDEX('Utility Admin'!AS4:AS22,MATCH($F$2,'Utility Admin'!$F$4:$F$22,0))","v":{"$error":"#N/A"}},{"$f":"INDEX('Utility Admin'!AT4:AT22,MATCH($F$2,'Utility Admin'!$F$4:$F$22,0))","v":{"$error":"#N/A"}},{"$f":"INDEX('Utility Admin'!AU4:AU22,MATCH($F$2,'Utility Admin'!$F$4:$F$22,0))","v":{"$error":"#N/A"}},{"$f":"INDEX('Utility Admin'!AV4:AV22,MATCH($F$2,'Utility Admin'!$F$4:$F$22,0))","v":{"$error":"#N/A"}},{"$f":"INDEX('Utility Admin'!AW4:AW22,MATCH($F$2,'Utility Admin'!$F$4:$F$22,0))","v":{"$error":"#N/A"}},{"$f":"INDEX('Utility Admin'!AX4:AX22,MATCH($F$2,'Utility Admin'!$F$4:$F$22,0))","v":{"$error":"#N/A"}},{"$f":"INDEX('Utility Admin'!AY4:AY22,MATCH($F$2,'Utility Admin'!$F$4:$F$22,0))","v":{"$error":"#N/A"}},{"$f":"INDEX('Utility Admin'!AZ4:AZ22,MATCH($F$2,'Utility Admin'!$F$4:$F$22,0))","v":{"$error":"#N/A"}},{"$f":"INDEX('Utility Admin'!BA4:BA22,MATCH($F$2,'Utility Admin'!$F$4:$F$22,0))","v":{"$error":"#N/A"}},{"$f":"INDEX('Utility Admin'!BB4:BB22,MATCH($F$2,'Utility Admin'!$F$4:$F$22,0))","v":{"$error":"#N/A"}},{"$f":"INDEX('Utility Admin'!BC4:BC22,MATCH($F$2,'Utility Admin'!$F$4:$F$22,0))","v":{"$error":"#N/A"}},{"$f":"INDEX('Utility Admin'!BD4:BD22,MATCH($F$2,'Utility Admin'!$F$4:$F$22,0))","v":{"$error":"#N/A"}},{"$f":"INDEX('Utility Admin'!BE4:BE22,MATCH($F$2,'Utility Admin'!$F$4:$F$22,0))","v":{"$error":"#N/A"}},{"$f":"INDEX('Utility Admin'!BF4:BF22,MATCH($F$2,'Utility Admin'!$F$4:$F$22,0))","v":{"$error":"#N/A"}},{"$f":"INDEX('Utility Admin'!BG4:BG22,MATCH($F$2,'Utility Admin'!$F$4:$F$22,0))","v":{"$error":"#N/A"}},{"$f":"INDEX('Utility Admin'!BH4:BH22,MATCH($F$2,'Utility Admin'!$F$4:$F$22,0))","v":{"$error":"#N/A"}}]
["State","Utilities",null,null,null,null,"Abs Cap","% Cap",null,"Early Retirement?","TRM","ACkW","ACkWh","discount","escalation","Air Cooled Chiller","Water Cooled Chiller","Unitary Air Conditioner","Unitary Heat Pump","Packaged Terminal Air Conditioner","Packaged Terminal Heat Pump","Room Air Conditioner","Room Heat Pump","VRF Air Conditioner","VRF Heat Pump","Single Package Vertical Air Conditioner","Single Package Vertical Heat Pump","Computer Room AC","Geothermal Air Conditioner","Geothermal Heat Pump","Air Cooled Chiller","Water Cooled Chiller","Unitary Air Conditioner","Unitary Heat Pump","Packaged Terminal Air Conditioner","Packaged Terminal Heat Pump","Room Air Conditioner","Room Heat Pump","VRF Air Conditioner","VRF Heat Pump","Single Package Vertical Air Conditioner","Single Package Vertical Heat Pump","Computer Room AC","Geothermal Air Conditioner","Geothermal Heat Pump","Air Cooled Chiller","Water Cooled Chiller","Unitary Air Conditioner","Unitary Heat Pump","Packaged Terminal Air Conditioner","Packaged Terminal Heat Pump","Room Air Conditioner","Room Heat Pump","VRF Air Conditioner","VRF Heat Pump","Single Package Vertical Air Conditioner","Single Package Vertical Heat Pump","Computer Room AC","Geothermal Air Conditioner","Geothermal Heat Pump"]
["LA","CLECO",{"$f":"A4&B4","v":"LACLECO"},"CLECO","Large C&I",{"$f":"C4&E4","v":"LACLECOLarge C&I"},25000,1,{"$f":"IF('Project Info'!$D$17=\"\",G4,MIN(H4*'Project Info'!$D$17,G4))","v":25000},"ERNo","ARTRM3",null,null,null,null,null,null,null,null,null,null,null,null,null,null,null,null,null,null,null,null,null,null,null,null,null,null,null,null,null,null,null,null,null,null,0.15,0.15,0.15,0.15,0.15,0.15,0.15,0.15,0.15,0.15,0.15,0.15]
["LA","CLECO","LACLECO","CLECO","Small Business","LACLECOSmall Business",25000,1,{"$f":"IF('Project Info'!$D$17=\"\",G5,MIN(H5*'Project Info'!$D$17,G5))","v":25000},"ERNo","ARTRM3",null,null,null,null,null,null,null,null,null,null,null,null,null,null,null,null,null,null,null,null,null,null,null,null,null,null,null,null,null,null,null,null,null,null,0.16,0.16,0.16,0.16,0.16,0.16,0.16,0.16,0.16,0.16,0.16,0.16]
["LA","Entergy Gulf States","LAEntergy Gulf States","EGSL","Large C&I","LAEntergy Gulf StatesLarge C&I",25000,1,{"$f":"IF('Project Info'!$D$17=\"\",G6,MIN(H6*'Project Info'!$D$17,G6))","v":25000},"ERNo","ARTRM3",null,null,null,null,null,null,null,null,null,null,null,null,null,null,null,null,null,null,null,null,null,null,null,null,null,null,null,null,null,null,null,null,null,null,0.15,0.15,0.15,0.15,0.15,0.15,0.15,0.15,0.15,0.15,0.15,0.15]
["LA","Entergy Gulf States",{"$f":"A7&B7","v":"LAEntergy Gulf States"},"EGSL","Small Business","LAEntergy Gulf StatesSmall Business",25000,1,{"$f":"IF('Project Info'!$D$17=\"\",G7,MIN(H7*'Project Info'!$D$17,G7))","v":25000},"ERNo","ARTRM3",null,null,null,null,null,null,null,null,null,null,null,null,null,null,null,null,null,null,null,null,null,null,null,null,null,null,null,null,null,null,null,null,null,null,0.16,0.16,0.16,0.16,0.16,0.16,0.16,0.16,0.16,0.16,0.16,0.16]
["LA","Entergy Louisiana","LAEntergy Louisiana","ELL","Large C&I","LAEntergy LouisianaLarge C&I",25000,1,{"$f":"IF('Project Info'!$D$17=\"\",G8,MIN(H8*'Project Info'!$D$17,G8))","v":25000},"ERNo","ARTRM3",null,null,null,null,null,null,null,null,null,null,null,null,null,null,null,null,null,null,null,null,null,null,null,null,null,null,null,null,null,null,null,null,null,null,0.15,0.15,0.15,0.15,0.15,0.15,0.15,0.15,0.15,0.15,0.15,0.15]
["LA","Entergy Louisiana",{"$f":"A9&B9","v":"LAEntergy Louisiana"},"ELL","Small Business","LAEntergy LouisianaSmall Business",25000,1,{"$f":"IF('Project Info'!$D$17=\"\",G9,MIN(H9*'Project Info'!$D$17,G9))","v":25000},"ERNo","ARTRM3",null,null,null,null,null,null,null,null,null,null,null,null,null,null,null,null,null,null,null,null,null,null,null,null,null,null,null,null,null,null,null,null,null,null,0.16,0.16,0.16,0.16,0.16,0.16,0.16,0.16,0.16,0.16,0.16,0.16]
["LA","Entergy New Orleans","LAEntergy New Orleans","ENO","Large C&I","LAEntergy New OrleansLarge C&I",50000,1,{"$f":"IF('Project Info'!$D$17=\"\",G10,MIN(H10*'Project Info'!$D$17,G10))","v":50000},"ERNo","ARTRM3",null,null,null,null,null,null,null,null,null,null,null,null,null,null,null,null,null,null,null,null,null,null,null,null,null,null,null,null,null,null,null,null,null,null,0.12,0.12,0.12,0.12,0.12,0.12,0.12,0.12,0.12,0.12,0.12,0.12]
["LA","Entergy New Orleans",{"$f":"A11&B11","v":"LAEntergy New Orleans"},"ENO","Small Business","LAEntergy New OrleansSmall Business",50000,1,{"$f":"IF('Project Info'!$D$17=\"\",G11,MIN(H11*'Project Info'!$D$17,G11))","v":50000},"ERNo","ARTRM3",null,null,null,null,null,null,null,null,null,null,null,null,null,null,null,null,null,null,null,null,null,null,null,null,null,null,null,null,null,null,null,null,null,null,0.12,0.12,0.12,0.12,0.12,0.12,0.12,0.12,0.12,0.12,0.12,0.12]
["LA","SWEPCO Louisiana","LASWEPCO Louisiana","SWEPCOLA","Large C&I","LASWEPCO LouisianaLarge C&I",{"$f":"MIN(30000,MAX(5000,ROUNDDOWN(Inventory!AP3*1000,-3)))","v":5000},0.8,{"$f":"IF('Project Info'!$D$17=\"\",G12,MIN(H12*'Project Info'!$D$17,G12))","v":5000},"ERNo","ARTRM3",null,null,null,null,null,null,null,null,null,null,null,null,null,null,null,null,null,null,null,null,null,null,null,null,null,null,null,null,null,null,null,null,null,null,0.15,0.15,0.15,0.15,0.15,0.15,0.15,0.15,0.15,0.15,0.15,0.15]
["TX","CPS Energy","TXCPS Energy","CPS","Commercial & Industrial","TXCPS EnergyCommercial & Industrial",999999,0.75,{"$f":"IF('Project Info'!$D$17=\"\",G13,MIN(H13*'Project Info'!$D$17,G13))","v":999999},"ERYes","CPS",92.18,7.6999999999999999E-2,6.6000000000000003E-2,0.02,525,525,350,350,350,350,350,350,350,350,350,350,350,350,350,null,null,null,null,null,null,null,null,null,null,null,null,null,null,null,0.05,0.05,0.05,0.05,0.05,0.05,0.05,0.05,0.05,0.05,0.05,0.05,0.05,0.05,0.05]
["TX","CPS Energy","TXCPS Energy","CPS","Schools & Institutions","TXCPS EnergySchools & Institutions",999999,0.75,{"$f":"IF('Project Info'!$D$17=\"\",G14,MIN(H14*'Project Info'!$D$17,G14))","v":999999},"ERYes","CPS",92.18,7.6999999999999999E-2,6.6000000000000003E-2,0.02,525,525,350,350,350,350,350,350,350,350,350,350,350,350,350,null,null,null,null,null,null,null,null,null,null,null,null,null,null,null,0.05,0.05,0.05,0.05,0.05,0.05,0.05,0.05,0.05,0.05,0.05,0.05,0.05,0.05,0.05]
["TX","CPS Energy",{"$f":"A15&B15","v":"TXCPS Energy"},"CPS","Small Business","TXCPS EnergySmall Business",999999,0.8,{"$f":"IF('Project Info'!$D$17=\"\",G15,MIN(H15*'Project Info'!$D$17,G15))","v":999999},"ERYes","CPS",92.18,7.6999999999999999E-2,6.6000000000000003E-2,0.02,550,550,550,550,550,550,550,550,550,550,550,550,550,550,550,null,null,null,null,null,null,null,null,null,null,null,null,null,null,null,0,0,0,0,0,0,0,0,0,0,0,0,0,0,0]
["MS","Mississippi Power","MSMississippi Power","MSP","Large C&I","MSMississippi PowerLarge C&I",30000,1,{"$f":"IF('Project Info'!$D$17=\"\",G16,MIN(H16*'Project Info'!$D$17,G16))","v":30000},"ERNo","ARTRM3",null,null,null,null,null,null,null,null,null,null,null,null,null,null,null,null,null,null,null,null,null,null,null,null,null,null,null,null,null,null,null,null,null,null,0.12,0.12,0.12,0.12,0.12,0.12,0.12,0.12,0.12,0.12,0.12,0.12]
["MS","Mississippi Power",{"$f":"A17&B17","v":"MSMississippi Power"},"MSP","Small Business","MSMississippi PowerSmall Business",999999,0.9,{"$f":"IF('Project Info'!$D$17=\"\",G17,MIN(H17*'Project Info'!$D$17,G17))","v":999999},"ERNo","ARTRM3",null,null,null,null,null,null,null,null,null,null,null,null,null,null,null,null,null,null,null,null,null,null,null,null,null,null,null,null,null,null,null,null,null,null,0.16,0.16,0.16,0.16,0.16,0.16,0.16,0.16,0.16,0.16,0.16,0.16]
["OK","Oklahoma Gas & Electric","OKOklahoma Gas & Electric","OGEOK","Large C&I","OKOklahoma Gas & ElectricLarge C&I",999999,0.5,{"$f":"IF('Project Info'!$D$17=\"\",G18,MIN(H18*'Project Info'!$D$17,G18))","v":999999},"ERNo","ARTRM9.2",null,null,null,null,null,null,null,null,null,null,null,null,null,null,null,null,null,null,null,null,null,null,null,null,null,null,null,null,null,null,null,null,null,null,0.09,0.09,0.09,0.09,0.09,0.09,0.09,0.09,null,null,null,null,null,0.11,0.11]
["OK","Oklahoma Gas & Electric","OKOklahoma Gas & Electric","OGEOK","Schools & Govt","OKOklahoma Gas & ElectricSchools & Govt",999999,0.9,{"$f":"IF('Project Info'!$D$17=\"\",G19,MIN(H19*'Project Info'!$D$17,G19))","v":999999},"ERNo","ARTRM9.2",null,null,null,null,null,null,null,null,null,null,null,null,null,null,null,null,null,null,null,null,null,null,null,null,null,null,null,null,null,null,null,null,null,null,0.14000000000000001,0.14000000000000001,0.14000000000000001,0.14000000000000001,0.14000000000000001,0.14000000000000001,0.14000000000000001,0.14000000000000001,null,null,null,null,null,0.11,0.11]
["OK","Oklahoma Gas & Electric",{"$f":"A20&B20","v":"OKOklahoma Gas & Electric"},"OGEOK","Small Business","OKOklahoma Gas & ElectricSmall Business",999999,0.9,{"$f":"IF('Project Info'!$D$17=\"\",G20,MIN(H20*'Project Info'!$D$17,G20))","v":999999},"ERNo","ARTRM9.2",null,null,null,null,null,null,null,null,null,null,null,null,null,null,null,null,null,null,null,null,null,null,null,null,null,null,null,null,null,null,null,null,null,null,0.09,0.09,0.09,0.09,0.09,0.09,0.09,0.09,null,null,null,null,null,0.11,0.11]
["AR","Oklahoma Gas & Electric","AROklahoma Gas & Electric","OGEAR","Small Business","AROklahoma Gas & ElectricSmall Business",999999,0.9,{"$f":"IF('Project Info'!$D$17=\"\",G21,MIN(H21*'Project Info'!$D$17,G21))","v":999999},"ERNo","ARTRM9.2",null,null,null,null,null,null,null,null,null,null,null,null,null,null,null,null,null,null,null,null,null,null,null,null,null,null,null,null,null,null,null,null,null,null,0.16,0.16,0.16,0.16,0.16,0.16,0.16,0.16]
["AR","Oklahoma Gas & Electric","AROklahoma Gas & Electric","OGEAR","Commercial Standard Offer Program","AROklahoma Gas & ElectricCommercial Standard Offer Program",999999,0.8,{"$f":"IF('Project Info'!$D$17=\"\",G22,MIN(H22*'Project Info'!$D$17,G22))","v":999999},"ERNo","ARTRM9.2",null,null,null,null,null,null,null,null,null,null,null,null,null,null,null,null,null,null,null,null,null,null,null,null,null,null,null,null,null,null,null,null,null,null,0.14000000000000001,0.14000000000000001,0.14000000000000001,0.14000000000000001,0.14000000000000001,0.14000000000000001,0.14000000000000001,0.14000000000000001]
[]
["LA","MS","AR","OK","TX"]
["CLECO","Mississippi Power","Oklahoma Gas & Electric","Oklahoma Gas & Electric","CPS Energy"]
["Entergy Gulf States"]
["Entergy Louisiana"]
["Entergy New Orleans"]
["SWEPCO Louisiana"]
[]
[]
[]
[]
[]
[]
[]
[]
[]
[]
[]
[]
[]
[]
[]
[]
[]
[]
[]
[]
[null,"PPI:"]
[null,"Account #:"]
[null,"Name on Account or Tax ID:"]
[null,"PPI Hide Trigger:",true]

{"sheet":"Version Log","index":21,"n_rows":160,"n_cols":6,"rows_kept":160,"cut":false,"hidden":true,"merged":[[1,1,1,5]]}
[]
[null,"Version Log"]
[]
[null,"Original Author:",null,"Adam Keeling","QA/QC Engineer(s):","Boone Drummond"]
[null,"Primary Developer:",null,"Adam Groenhuyzen","Senior Engineer Approval:"]
[]
[null,"Version","Date","Reason for Change","Change Description","Contact, Department"]
[null,null,null,null,"Changed \"ROB\" to \"Replace on Burnout\" for [Application Type] dropdown","Adam Keeling"]
[null,null,null,null,"Add conditional formatting to [Heating Type] to go dark when [Equipment Type 2] is Heat Pump to not ask for heating type"]
[null,null,null,null,"Removed \"Heat Pump\" from dropdown options on [Heating Type]"]
[null,null,null,null,"Add conditional formatting for existing equipment information to go dark when [Project Type] = \"New Construction\""]
[null,null,null,null,"Moved [Cooling Capacity] from Existing Equipment section to New Equipment section"]
[null,null,null,null,"Added \"Unknown\" option to [Existing Equipment Manuf. Year] "]
[null,null,null,null,"Added [Year to Use] that is hidden and pulls from [Existing Equipment Manuf. Year] unless it is \"Unknown\", then uses \"1996\""]
[null,null,null,null,"Changed [Heating Efficiency] dropdown options to \"HSPF\" and \"COP\""]
[null,null,null,null,"Changed formula for [Heating] under Efficiency Requirements section to account for \"HSPF\" and \"COP\" options"]
[null,null,null,null,"Changed ROB baseline, New Construction baseline, and Min. Efficiency lookups to reference New Equipment Type instead of Existing Equipment Type"]
[null,null,null,null,"Added [Eligible?] fields to both heating and cooling sections to ensure New Equipment is greater than Min. Efficiency"]
[null,null,null,null,"Removed all locks to Column C that previously caused all other columns to refer back to 1st equipment type"]
[null,null,null,null,"Changed ends of [Heating Baseline] fields to when [Heating Type] = \"Electric Resistance\", to use 3.516 kW/ton"]
[null,null,null,null,"Changed [New Heating (kW/ton)] to account for new Heating Efficiency options of \"HSPF\" and \"COP\""]
[null,null,null,null,"Changed HSPF to kW/ton conversion from 3.516 to 12"]
[null,null,null,null,"Added 41 and 42 to list"]
[null,null,null,null,"Added option for \"All Systems 5.42 to 11.25 tons\" to dropdown when Unitary Heat Pump"]
[]
[null,null,null,null,"add btuh option"]
[null,null,null,null,"darken fields not needed for entry"]
[null,null,null,null,"add utilities"]
[null,null,null,null,"EFLH - adjust for south zone"]
[null,null,null,null,"add incentive"]
[null,null,null,null,"fix PTAC calcs"]
[null,null,null,null,"added # of units"]
[null,null,null,null,"added incentive caps"]
[null,null,null,null,"added \"Check Min Eff\" message when minimum efficiency requirements not met"]
[null,null,null,null,"add geothermal"]
[null,null,"2015-09-02",null,"Changed EFLH to IECC 2003 zones to match ADM's LA EFLH"]
[null,null,null,null,"MS Zone 7 still using AR TRM Zone 7"]
[null,null,"2015-09-14",null,"MS Zone 6 changed to use AR TRM Zone 6"]
[null,null,null,null,"Updated baseline for <65k Btuh to 14 SEER 8.2 HSPF"]
[null,null,null,null,"Updated RUL tables to match AR TRM"]
[null,null,"2015-09-28",null,"Changed baseline efficiencies for chillers to match AR TRM"]
[null,null,"2015-09-29",null,"Fixed part load baseline lookup for early retirement"]
[null,null,"2016-01-14",null,"Removed Early Retirement option as it does not pass TRC"]
[null,null,null,null,"Fixed Packaged Terminal efficiency calculation"]
[null,null,null,null,"Added Non Standard PTAC and PTHP"]
[null,null,null,null,"Added OK counties and OG&E"]
[null,null,null,null,"Removed Geothermal since they are not in AR TRM"]
[null,null,null,null,"Added heating type when DX Unitary AC"]
[null,null,"2016-02-24",null,"Added VRF"]
[null,null,null,null,"Removed repetition of entering size when selecting type"]
[null,null,null,null,"Fixed kWh heat"]
[null,null,null,null,"Removed non-relevant efficiencies (e.g. PL for PTAC, Room)"]
[null,null,null,null,"<65k baseline to 13"]
[null,null,"2016-03-08",null,"Fixed AC>760k"]
[null,null,null,null,"Required AC in order to have heating type options"]
[null,null,null,null,"Allowed EER to be selected for Room Heat Pump"]
[null,null,null,null,"Swapped state and utility selection"]
[null,null,null,null,"Limited Program selection based on utility"]
[null,null,null,null,"Fixed VRF <65k calc"]
[null,null,"2016-03-14",null,"Added language to Report to warn of incentive caps"]
[null,null,"2016-03-21",null,"Added Heating type when DX Unitary HP"]
[null,null,null,null,"Converted all 3.516 to 12/3.412 for consistency in rounding with the AR TRM"]
[null,null,"2016-05-02",null,"added OG&E AR"]
[null,null,null,null,"OG&E OK Schools & Govt cap changed to 90%"]
[null,null,null,null,"Fixed total sum on Inventory sheet"]
[null,null,null,null,"Removed non-AR TRM measures from OK and AR"]
[null,null,"2016-05-05",null,"Fixed incentive lookups and cap lookups"]
[null,null,"2016-07-11",null,"Added CPS, EFLH tables, counties, programs, equipment type"]
[null,null,"2016-08-03",null,"added early retirement for CPS"]
[null,null,null,null,"Added Room AC casement only and casement sliders"]
[null,null,"2016-08-18",null,"Corrected economic inputs for CPS (discount rate, avoided costs, escalation)"]
[null,null,"2016-08-22",null,"Added IECC 2015 for CPS"]
[null,null,"2016-08-31",null,"Updated EFLH and CF and NCP for CPS"]
[null,null,null,null,"Changed NCP savings calcs to use part-load instead of full-load efficiencies"]
[null,null,"2016-09-07",null,"Changed EFLHh for CPS to Frontier values"]
[null,null,null,null,"Changed CPS incentive caps"]
[null,null,"2016-09-09",null,"Set EFLHh and PTAC coefficients for CPS"]
[null,null,"2016-09-20",null,"Set all factors for PTACs to Frontier values"]
[null,null,"2016-10-25",null,"Change NCP savings calcs back to using full-load"]
[null,null,null,null,"Update EFLH, CF, and NCP to guidebook"]
[null,"16.1.3","2016-11-18",null,"Added small business programs for LAMS and CPS"]
[null,null,null,null,"Fixed bug on Report sheet - existing kW and kWh use was wrong (H49:I49)"]
[null,null,null,null,"Added Path B chiller baselines"]
[null,null,null,null,"Divided split AC under 65k into 1 phase and 3 phase for TX/CPS"]
[null,null,null,null,"Added new tier for 300-600 tons for WCC for IECC2015"]
[null,null,null,null,"updated SWEPCO LA incentive cap to be based on kW"]
[null,null,null,null,"Changed Room AC to use PTAC factors for CPS"]
[null,null,null,null,"added \"Redundant Chiller\", CAF factor, and use part-load eff for kW if redundant"]
[null,null,null,null,"changed early retirement savings calcs to use existing capacity"]
[null,null,null,null,"added heating capacity input and changed kWh heating to use it"]
[null,null,null,null,"added adjustment for ACC to WCC early retirement measures to subtract cooling tower and pump"]
[null,"17.1.1","2016-12-19",null,"turned off screen updating in macro"]
[null,null,null,null,"added OG&E AR small biz"]
[null,null,"2016-12-21",null,"added quantity for early retirement. Changed savings calcs to depend on it."]
[null,null,"2016-12-23",null,"Added assumed age of equipment if unknown"]
[null,null,null,null,"Added check for capacity to be within 80% and 120% or pre capacity if early retirement"]
[null,null,null,null,"moved EUL and RUL to Equipment Lookups"]
[null,null,null,null,"Fixed data validation on equipment type"]
[null,"17.1.2","2017-03-15",null,"Fixed issue of ER from AC to HP not giving heating savings","Adam Groenhuzyen"]
[null,"17.2.1","2017-04-20",null,"Added sheet progression","Adam Groenhuzyen"]
[null,null,"2017-05-05",null,"added equipment type for acch, centrifugal has different ML. Also combined reciprocating & screw/scroll for wcch.","Adam Groenhuzyen"]
[null,null,null,null,"Expanded to 25 rows","Adam Groenhuzyen"]
[null,null,null,null,"changed efficiency unit lookup to depend on equipment type","Adam Groenhuzyen"]
[null,"17.2.2","2017-05-16",null,"updated OG&E AR incentive rates","Adam Groenhuzyen"]
[null,"17.2.3","2017-06-02",null,"fixed lookup error for pre retrofit chillers","Adam Groenhuzyen"]
[null,"17.2.4","2017-07-19",null,"Serial #'s turn red if there are duplicates. Added macros to show/hide chiller-related columns and heating capacity columns unless there is a chiller or a heat pump, respectively, in the inventory. ","Adam Groenhuzyen"]
[null,"18.0.0","2017-10-20",null,"Added Summary tab","Adam Groenhuzyen"]
[null,null,null,null,"Fixed error where room AC's/PTACs were not showing demand savings","Adam Groenhuzyen"]
[null,null,"2017-11-21",null,"Updated OK/AR EFLH's for AR TRM 7","Adam Groenhuzyen"]
[null,"18.0.1","2018-02-15",null,"Updated ChangeLog to CR VersionLog format","Adam Groenhuzyen"]
[null,null,null,null,"changed \"minimum efficiency requirement\" columns to show 3 decimals for kW/ton","Adam Groenhuzyen"]
[null,"18.1.0","2018-02-22",null,"Added updates for 2018-2019 CPS Guidebook","Adam Groenhuzyen"]
[null,"18.1.1","2018-06-25",null,"Fixed error with TX equipment lookups","Adam Groenhuzyen"]
[null,null,null,null,"Updated efficienies for IECC2009 HP <65kbtuh to match 2015+ values","Adam Groenhuzyen"]
[null,null,null,null,"Changed Early Retirement calculations to use version year rather than current year (to prevent issues of savings changing when re-opening file in a future year)","Adam Groenhuzyen"]
[null,"18.1.2","2018-07-25",null,"Updated heating efficienies for IECC2009 HP <65kbtuh to match 2015+ values","Adam Groenhuzyen"]
[null,"18.2.0","2018-08-24",null,"Added HidePPI Macro","Adam Groenhuzyen"]
[null,null,null,null,"Removed ER manuf years that are all ROB now."]
[null,"18.2.1","2018-09-04",null,"previous version distributed with data in chiller-specific columns","Adam Groenhuzyen"]
[null,"19.0.0","2018-12-26",null,"Updated ER calcs to use easily found & adjustable program year input","Adam Groenhuzyen"]
[null,null,null,null,"Added new columns for custom EFLH, CF, NCF, hidden by default. Must unlock workbook to unhide, keeping this capability only within engineering. ","Adam Groenhuzyen"]
[null,null,null,null,"Added \"reset workbook\" macro","Adam Groenhuzyen"]
[null,"19.1.0","2019-02-04",null,"Changed minimum efficiencies from \"IECC\" references to \"TRM\" references. Updated minimum efficiencies for AR TRM 8.","Adam Groenhuzyen"]
[null,null,null,null,"Added macro button on Summary to show/hide custom weather info ","Adam Groenhuzyen"]
[null,null,null,null,"Moved things around in Inventory, eliminated one of the cooling efficiency dropdowns and simplified the other to kW/ton or EER options","Adam Groenhuzyen"]
[null,null,null,null,"Added Path B compatibility for AR TRM 8. Updated lookups to default to Path A if a path is not indicated.","Adam Groenhuzyen"]
[null,null,"2019-02-13",null,"Added CRAC for CPS. Updated all RUL's for CPS. Updated Room AC baselines for All. Added \"Data Centers\" building type for CPS.","Adam Groenhuzyen"]
[null,null,null,null,"Moved some of the chiller specific columns around in a way that made more sense.","Adam Groenhuzyen"]
[null,"19.1.1","2019-03-04",null,"Updated ER tables for finalized CPS Guidebook","Adam Groenhuzyen"]
[null,null,"2019-04-04",null,"Added Instructions sheet","Adam Groenhuzyen"]
[null,null,null,null,"Updated CPS Early Retirement Rates","Adam Groenhuzyen"]
[null,null,"2019-05-29",null,"Capped ER savings at minimum of 0","Adam Groenhuzyen"]
[null,19.2,null,null,"Minor changes not documented","Adam Groenhuzyen"]
[null,19.3,"2019-08-16",null,"Added dev unlock","Adam Groenhuzyen"]
[null,null,null,null,"Overhauled geothermal equipment & added for OK, CPS","Adam Groenhuzyen"]
[null,null,"2019-08-22",null,"Updated Inventory formatting, added serial # column for removed equipment, added auto-populating units","Adam Groenhuzyen"]
[null,null,"2019-08-29",null,"Added baseline efficiency override option","Adam Groenhuzyen"]
[null,20,"2019-12-16",null,"General updates for 2020","Adam Groenhuzyen"]
[null,null,"2019-01-21",null,"Updated workbook passwords to new set","Adam Groenhuzyen"]
[null,null,null,null,"Added incentive override feature","Adam Groenhuzyen"]
[null,"20.0.1","2020-10-19",null,"Updated OGE SAGE Incentive","Adam Groenhuzyen"]
[null,21,"2020-11-25",null,"rounded PTAC baselines to 0.1EER","Adam Groenhuzyen"]
[null,null,null,null,"Inventory now shows EFLH/CF for OG&E","Adam Groenhuzyen"]
[null,null,null,null,"Tidied up some of the VBA","Adam Groenhuzyen"]
[null,null,null,null,"Removed LA/MS from back-end tables","Adam Groenhuzyen"]
[null,null,null,null,"Added line item equipment cost","Adam Groenhuzyen"]
[null,"21.0.1","2021-02-01",null,"Fixed bug in line item cost","Adam Groenhuzyen"]
[null,22,"2022-02-02",null,"2022 CPS Guidebook no longer segregates unitary baseline values by heating type. Updated values for CPS.","Adam Groenhuzyen"]
[null,null,null,null,"Updated manufacture year picklist & early retirement baseline lookups to 1993-2021","Adam Groenhuzyen"]
[null,null,null,null,"Added DSMT export functionality - to be finalized in v22.1","Adam Groenhuzyen"]
[null,22.1,"2022-03-22",null,"Fixed logic handling >20% capacity decrease in ER","Adam Groenhuzyen"]
[null,null,null,null,"Changed ProgramYear to a dynamic named range referencing the version","Adam Groenhuzyen"]
[null,null,null,null,"Updated assumed age for all equipment types to equal EUL","Adam Groenhuzyen"]
[null,null,"2022-04-25",null,"Updated avoided costs for CPS FY22","Adam Groenhuzyen"]
[null,23,"2023-01-30",null,"Updates for SEER2, updated some baselines for AR TRM","Adam Groenhuzyen"]
[null,23.1,"2023-04-07",null,"Updated CPS avoided costs for 2023","Adam Groenhuzyen"]
[null,24,"2024-01-10",null,"Incremented version # to 2024","Adam Groenhuzyen"]
[null,null,null,null,"Updated Unitary >5.4T baselines for AR TRM","Adam Groenhuzyen"]
[null,null,null,null,"Revamped PTAC/PTHP baseline lookup","Adam Groenhuzyen"]
[null,null,null,null,"Fixed Summary formulas omitting CRAC","Adam Groenhuzyen"]